BEGIN:VCALENDAR
VERSION:2.0
PRODID:-//St James Missionary Baptist Church - ECPv6.15.18//NONSGML v1.0//EN
CALSCALE:GREGORIAN
METHOD:PUBLISH
X-ORIGINAL-URL:https://stjamesmb.church
X-WR-CALDESC:Events for St James Missionary Baptist Church
REFRESH-INTERVAL;VALUE=DURATION:PT1H
X-Robots-Tag:noindex
X-PUBLISHED-TTL:PT1H
BEGIN:VTIMEZONE
TZID:UTC
BEGIN:STANDARD
TZOFFSETFROM:+0000
TZOFFSETTO:+0000
TZNAME:UTC
DTSTART:20260101T000000
END:STANDARD
END:VTIMEZONE
BEGIN:VEVENT
DTSTART;TZID=UTC:20270504T190000
DTEND;TZID=UTC:20270504T203000
DTSTAMP:20260421T041220
CREATED:20220323T222238Z
LAST-MODIFIED:20250326T002313Z
UID:10003441-1809457200-1809462600@stjamesmb.church
SUMMARY:Church School
DESCRIPTION:
URL:https://stjamesmb.church/event/church-school-2025-03-18-2025-04-01/2027-05-04
LOCATION:Virtual
END:VEVENT
BEGIN:VEVENT
DTSTART;TZID=UTC:20270505T190000
DTEND;TZID=UTC:20270505T203000
DTSTAMP:20260421T041220
CREATED:20220323T221855Z
LAST-MODIFIED:20260106T003402Z
UID:10004872-1809543600-1809549000@stjamesmb.church
SUMMARY:Prayer\, Praise & Bible Study
DESCRIPTION:
URL:https://stjamesmb.church/event/bible-study/2027-05-05
LOCATION:Virtual
END:VEVENT
BEGIN:VEVENT
DTSTART;TZID=UTC:20270509T100000
DTEND;TZID=UTC:20270509T120000
DTSTAMP:20260421T041220
CREATED:20220322T205018Z
LAST-MODIFIED:20220323T223541Z
UID:10005331-1809856800-1809864000@stjamesmb.church
SUMMARY:Sunday Worship Service
DESCRIPTION:
URL:https://stjamesmb.church/event/sunday-worship-service/2027-05-09
LOCATION:St. James Missionary Baptist Church\, 2200 West Madison Street\, Louisville\, KY\, 40211\, United States
END:VEVENT
BEGIN:VEVENT
DTSTART;TZID=UTC:20270510T190000
DTEND;TZID=UTC:20270510T200000
DTSTAMP:20260421T041220
CREATED:20250112T170411Z
LAST-MODIFIED:20250312T121158Z
UID:10005949-1809975600-1809979200@stjamesmb.church
SUMMARY:Christian Education Team Meeting
DESCRIPTION:
URL:https://stjamesmb.church/event/christian-education-team-meeting-2025-03-17/2027-05-10
LOCATION:https://us02web.zoom.us/j/86234076370?pwd=OGExVGh3Nm1pbUR3dkRBV2lqdUxMZz09
END:VEVENT
BEGIN:VEVENT
DTSTART;TZID=UTC:20270511T190000
DTEND;TZID=UTC:20270511T203000
DTSTAMP:20260421T041220
CREATED:20220323T222238Z
LAST-MODIFIED:20250326T002313Z
UID:10003442-1810062000-1810067400@stjamesmb.church
SUMMARY:Church School
DESCRIPTION:
URL:https://stjamesmb.church/event/church-school-2025-03-18-2025-04-01/2027-05-11
LOCATION:Virtual
END:VEVENT
BEGIN:VEVENT
DTSTART;TZID=UTC:20270512T190000
DTEND;TZID=UTC:20270512T203000
DTSTAMP:20260421T041220
CREATED:20220323T221855Z
LAST-MODIFIED:20260106T003402Z
UID:10004873-1810148400-1810153800@stjamesmb.church
SUMMARY:Prayer\, Praise & Bible Study
DESCRIPTION:
URL:https://stjamesmb.church/event/bible-study/2027-05-12
LOCATION:Virtual
END:VEVENT
BEGIN:VEVENT
DTSTART;TZID=UTC:20270515T120000
DTEND;TZID=UTC:20270515T140000
DTSTAMP:20260421T041220
CREATED:20250108T042140Z
LAST-MODIFIED:20250108T042140Z
UID:10003205-1810382400-1810389600@stjamesmb.church
SUMMARY:Missions Community Outreach
DESCRIPTION:
URL:https://stjamesmb.church/event/missions-community-outreach/2027-05-15
LOCATION:Ronald L. Hutchins Ministry House\, 2212 West Madison Street\, Louisville\, KY\, 40211\, United States
END:VEVENT
BEGIN:VEVENT
DTSTART;TZID=UTC:20270516T100000
DTEND;TZID=UTC:20270516T120000
DTSTAMP:20260421T041220
CREATED:20220322T205018Z
LAST-MODIFIED:20220323T223541Z
UID:10005332-1810461600-1810468800@stjamesmb.church
SUMMARY:Sunday Worship Service
DESCRIPTION:
URL:https://stjamesmb.church/event/sunday-worship-service/2027-05-16
LOCATION:St. James Missionary Baptist Church\, 2200 West Madison Street\, Louisville\, KY\, 40211\, United States
END:VEVENT
BEGIN:VEVENT
DTSTART;TZID=UTC:20270516T120000
DTEND;TZID=UTC:20300716T150000
DTSTAMP:20260421T041220
CREATED:20260217T022922Z
LAST-MODIFIED:20260217T022922Z
UID:10004301-1810468800-1910444400@stjamesmb.church
SUMMARY:Eden Marriage Ministry
DESCRIPTION:
URL:https://stjamesmb.church/event/eden-marriage-ministry-2/2027-05-16
LOCATION:St. James Missionary Baptist Church\, 2200 West Madison Street\, Louisville\, KY\, 40211\, United States
END:VEVENT
BEGIN:VEVENT
DTSTART;TZID=UTC:20270517T190000
DTEND;TZID=UTC:20270517T200000
DTSTAMP:20260421T041220
CREATED:20250112T170411Z
LAST-MODIFIED:20250312T121158Z
UID:10005950-1810580400-1810584000@stjamesmb.church
SUMMARY:Christian Education Team Meeting
DESCRIPTION:
URL:https://stjamesmb.church/event/christian-education-team-meeting-2025-03-17/2027-05-17
LOCATION:https://us02web.zoom.us/j/86234076370?pwd=OGExVGh3Nm1pbUR3dkRBV2lqdUxMZz09
END:VEVENT
BEGIN:VEVENT
DTSTART;TZID=UTC:20270518T190000
DTEND;TZID=UTC:20270518T203000
DTSTAMP:20260421T041220
CREATED:20220323T222238Z
LAST-MODIFIED:20250326T002313Z
UID:10003443-1810666800-1810672200@stjamesmb.church
SUMMARY:Church School
DESCRIPTION:
URL:https://stjamesmb.church/event/church-school-2025-03-18-2025-04-01/2027-05-18
LOCATION:Virtual
END:VEVENT
BEGIN:VEVENT
DTSTART;TZID=UTC:20270519T190000
DTEND;TZID=UTC:20270519T203000
DTSTAMP:20260421T041220
CREATED:20220323T221855Z
LAST-MODIFIED:20260106T003402Z
UID:10004874-1810753200-1810758600@stjamesmb.church
SUMMARY:Prayer\, Praise & Bible Study
DESCRIPTION:
URL:https://stjamesmb.church/event/bible-study/2027-05-19
LOCATION:Virtual
END:VEVENT
BEGIN:VEVENT
DTSTART;TZID=UTC:20270522T110000
DTEND;TZID=UTC:20270522T123000
DTSTAMP:20260421T041220
CREATED:20250108T043739Z
LAST-MODIFIED:20250108T043739Z
UID:10003100-1810983600-1810989000@stjamesmb.church
SUMMARY:Leadership Meeting
DESCRIPTION:
URL:https://stjamesmb.church/event/leadership-meeting/2027-05-22
LOCATION:Virtual
END:VEVENT
BEGIN:VEVENT
DTSTART;TZID=UTC:20270523T100000
DTEND;TZID=UTC:20270523T120000
DTSTAMP:20260421T041220
CREATED:20220322T205018Z
LAST-MODIFIED:20220323T223541Z
UID:10005333-1811066400-1811073600@stjamesmb.church
SUMMARY:Sunday Worship Service
DESCRIPTION:
URL:https://stjamesmb.church/event/sunday-worship-service/2027-05-23
LOCATION:St. James Missionary Baptist Church\, 2200 West Madison Street\, Louisville\, KY\, 40211\, United States
END:VEVENT
BEGIN:VEVENT
DTSTART;TZID=UTC:20270524T190000
DTEND;TZID=UTC:20270524T200000
DTSTAMP:20260421T041220
CREATED:20250112T170411Z
LAST-MODIFIED:20250312T121158Z
UID:10005951-1811185200-1811188800@stjamesmb.church
SUMMARY:Christian Education Team Meeting
DESCRIPTION:
URL:https://stjamesmb.church/event/christian-education-team-meeting-2025-03-17/2027-05-24
LOCATION:https://us02web.zoom.us/j/86234076370?pwd=OGExVGh3Nm1pbUR3dkRBV2lqdUxMZz09
END:VEVENT
BEGIN:VEVENT
DTSTART;TZID=UTC:20270525T190000
DTEND;TZID=UTC:20270525T203000
DTSTAMP:20260421T041220
CREATED:20220323T222238Z
LAST-MODIFIED:20250326T002313Z
UID:10003444-1811271600-1811277000@stjamesmb.church
SUMMARY:Church School
DESCRIPTION:
URL:https://stjamesmb.church/event/church-school-2025-03-18-2025-04-01/2027-05-25
LOCATION:Virtual
END:VEVENT
BEGIN:VEVENT
DTSTART;TZID=UTC:20270526T190000
DTEND;TZID=UTC:20270526T203000
DTSTAMP:20260421T041220
CREATED:20220323T221855Z
LAST-MODIFIED:20260106T003402Z
UID:10004875-1811358000-1811363400@stjamesmb.church
SUMMARY:Prayer\, Praise & Bible Study
DESCRIPTION:
URL:https://stjamesmb.church/event/bible-study/2027-05-26
LOCATION:Virtual
END:VEVENT
BEGIN:VEVENT
DTSTART;TZID=UTC:20270529T120000
DTEND;TZID=UTC:20270529T140000
DTSTAMP:20260421T041220
CREATED:20250108T042140Z
LAST-MODIFIED:20250108T042140Z
UID:10003206-1811592000-1811599200@stjamesmb.church
SUMMARY:Missions Community Outreach
DESCRIPTION:
URL:https://stjamesmb.church/event/missions-community-outreach/2027-05-29
LOCATION:Ronald L. Hutchins Ministry House\, 2212 West Madison Street\, Louisville\, KY\, 40211\, United States
END:VEVENT
BEGIN:VEVENT
DTSTART;TZID=UTC:20270530T100000
DTEND;TZID=UTC:20270530T120000
DTSTAMP:20260421T041220
CREATED:20220322T205018Z
LAST-MODIFIED:20220323T223541Z
UID:10005334-1811671200-1811678400@stjamesmb.church
SUMMARY:Sunday Worship Service
DESCRIPTION:
URL:https://stjamesmb.church/event/sunday-worship-service/2027-05-30
LOCATION:St. James Missionary Baptist Church\, 2200 West Madison Street\, Louisville\, KY\, 40211\, United States
END:VEVENT
BEGIN:VEVENT
DTSTART;TZID=UTC:20270531T190000
DTEND;TZID=UTC:20270531T200000
DTSTAMP:20260421T041220
CREATED:20250112T170411Z
LAST-MODIFIED:20250312T121158Z
UID:10005952-1811790000-1811793600@stjamesmb.church
SUMMARY:Christian Education Team Meeting
DESCRIPTION:
URL:https://stjamesmb.church/event/christian-education-team-meeting-2025-03-17/2027-05-31
LOCATION:https://us02web.zoom.us/j/86234076370?pwd=OGExVGh3Nm1pbUR3dkRBV2lqdUxMZz09
END:VEVENT
BEGIN:VEVENT
DTSTART;TZID=UTC:20270601T190000
DTEND;TZID=UTC:20270601T203000
DTSTAMP:20260421T041220
CREATED:20220323T222238Z
LAST-MODIFIED:20250326T002313Z
UID:10003445-1811876400-1811881800@stjamesmb.church
SUMMARY:Church School
DESCRIPTION:
URL:https://stjamesmb.church/event/church-school-2025-03-18-2025-04-01/2027-06-01
LOCATION:Virtual
END:VEVENT
BEGIN:VEVENT
DTSTART;TZID=UTC:20270602T190000
DTEND;TZID=UTC:20270602T203000
DTSTAMP:20260421T041220
CREATED:20220323T221855Z
LAST-MODIFIED:20260106T003402Z
UID:10004876-1811962800-1811968200@stjamesmb.church
SUMMARY:Prayer\, Praise & Bible Study
DESCRIPTION:
URL:https://stjamesmb.church/event/bible-study/2027-06-02
LOCATION:Virtual
END:VEVENT
BEGIN:VEVENT
DTSTART;TZID=UTC:20270606T100000
DTEND;TZID=UTC:20270606T120000
DTSTAMP:20260421T041220
CREATED:20220322T205018Z
LAST-MODIFIED:20220323T223541Z
UID:10005335-1812276000-1812283200@stjamesmb.church
SUMMARY:Sunday Worship Service
DESCRIPTION:
URL:https://stjamesmb.church/event/sunday-worship-service/2027-06-06
LOCATION:St. James Missionary Baptist Church\, 2200 West Madison Street\, Louisville\, KY\, 40211\, United States
END:VEVENT
BEGIN:VEVENT
DTSTART;TZID=UTC:20270607T190000
DTEND;TZID=UTC:20270607T200000
DTSTAMP:20260421T041220
CREATED:20250112T170411Z
LAST-MODIFIED:20250312T121158Z
UID:10005953-1812394800-1812398400@stjamesmb.church
SUMMARY:Christian Education Team Meeting
DESCRIPTION:
URL:https://stjamesmb.church/event/christian-education-team-meeting-2025-03-17/2027-06-07
LOCATION:https://us02web.zoom.us/j/86234076370?pwd=OGExVGh3Nm1pbUR3dkRBV2lqdUxMZz09
END:VEVENT
BEGIN:VEVENT
DTSTART;TZID=UTC:20270608T190000
DTEND;TZID=UTC:20270608T203000
DTSTAMP:20260421T041220
CREATED:20220323T222238Z
LAST-MODIFIED:20250326T002313Z
UID:10003446-1812481200-1812486600@stjamesmb.church
SUMMARY:Church School
DESCRIPTION:
URL:https://stjamesmb.church/event/church-school-2025-03-18-2025-04-01/2027-06-08
LOCATION:Virtual
END:VEVENT
BEGIN:VEVENT
DTSTART;TZID=UTC:20270609T190000
DTEND;TZID=UTC:20270609T203000
DTSTAMP:20260421T041220
CREATED:20220323T221855Z
LAST-MODIFIED:20260106T003402Z
UID:10004877-1812567600-1812573000@stjamesmb.church
SUMMARY:Prayer\, Praise & Bible Study
DESCRIPTION:
URL:https://stjamesmb.church/event/bible-study/2027-06-09
LOCATION:Virtual
END:VEVENT
BEGIN:VEVENT
DTSTART;TZID=UTC:20270612T120000
DTEND;TZID=UTC:20270612T140000
DTSTAMP:20260421T041220
CREATED:20250108T042140Z
LAST-MODIFIED:20250108T042140Z
UID:10003207-1812801600-1812808800@stjamesmb.church
SUMMARY:Missions Community Outreach
DESCRIPTION:
URL:https://stjamesmb.church/event/missions-community-outreach/2027-06-12
LOCATION:Ronald L. Hutchins Ministry House\, 2212 West Madison Street\, Louisville\, KY\, 40211\, United States
END:VEVENT
BEGIN:VEVENT
DTSTART;TZID=UTC:20270613T100000
DTEND;TZID=UTC:20270613T120000
DTSTAMP:20260421T041220
CREATED:20220322T205018Z
LAST-MODIFIED:20220323T223541Z
UID:10005336-1812880800-1812888000@stjamesmb.church
SUMMARY:Sunday Worship Service
DESCRIPTION:
URL:https://stjamesmb.church/event/sunday-worship-service/2027-06-13
LOCATION:St. James Missionary Baptist Church\, 2200 West Madison Street\, Louisville\, KY\, 40211\, United States
END:VEVENT
BEGIN:VEVENT
DTSTART;TZID=UTC:20270614T190000
DTEND;TZID=UTC:20270614T200000
DTSTAMP:20260421T041220
CREATED:20250112T170411Z
LAST-MODIFIED:20250312T121158Z
UID:10005954-1812999600-1813003200@stjamesmb.church
SUMMARY:Christian Education Team Meeting
DESCRIPTION:
URL:https://stjamesmb.church/event/christian-education-team-meeting-2025-03-17/2027-06-14
LOCATION:https://us02web.zoom.us/j/86234076370?pwd=OGExVGh3Nm1pbUR3dkRBV2lqdUxMZz09
END:VEVENT
BEGIN:VEVENT
DTSTART;TZID=UTC:20270615T190000
DTEND;TZID=UTC:20270615T203000
DTSTAMP:20260421T041220
CREATED:20220323T222238Z
LAST-MODIFIED:20250326T002313Z
UID:10003447-1813086000-1813091400@stjamesmb.church
SUMMARY:Church School
DESCRIPTION:
URL:https://stjamesmb.church/event/church-school-2025-03-18-2025-04-01/2027-06-15
LOCATION:Virtual
END:VEVENT
END:VCALENDAR