BEGIN:VCALENDAR
VERSION:2.0
PRODID:-//St James Missionary Baptist Church - ECPv6.15.18//NONSGML v1.0//EN
CALSCALE:GREGORIAN
METHOD:PUBLISH
X-WR-CALNAME:St James Missionary Baptist Church
X-ORIGINAL-URL:https://stjamesmb.church
X-WR-CALDESC:Events for St James Missionary Baptist Church
REFRESH-INTERVAL;VALUE=DURATION:PT1H
X-Robots-Tag:noindex
X-PUBLISHED-TTL:PT1H
BEGIN:VTIMEZONE
TZID:UTC
BEGIN:STANDARD
TZOFFSETFROM:+0000
TZOFFSETTO:+0000
TZNAME:UTC
DTSTART:20260101T000000
END:STANDARD
END:VTIMEZONE
BEGIN:VEVENT
DTSTART;TZID=UTC:20270620T100000
DTEND;TZID=UTC:20270620T120000
DTSTAMP:20260421T055707
CREATED:20220322T205018Z
LAST-MODIFIED:20220323T223541Z
UID:10005337-1813485600-1813492800@stjamesmb.church
SUMMARY:Sunday Worship Service
DESCRIPTION:
URL:https://stjamesmb.church/event/sunday-worship-service/2027-06-20
LOCATION:St. James Missionary Baptist Church\, 2200 West Madison Street\, Louisville\, KY\, 40211\, United States
END:VEVENT
BEGIN:VEVENT
DTSTART;TZID=UTC:20270620T120000
DTEND;TZID=UTC:20300820T150000
DTSTAMP:20260421T055707
CREATED:20260217T022922Z
LAST-MODIFIED:20260217T022922Z
UID:10004302-1813492800-1913468400@stjamesmb.church
SUMMARY:Eden Marriage Ministry
DESCRIPTION:
URL:https://stjamesmb.church/event/eden-marriage-ministry-2/2027-06-20
LOCATION:St. James Missionary Baptist Church\, 2200 West Madison Street\, Louisville\, KY\, 40211\, United States
END:VEVENT
BEGIN:VEVENT
DTSTART;TZID=UTC:20270621T190000
DTEND;TZID=UTC:20270621T200000
DTSTAMP:20260421T055707
CREATED:20250112T170411Z
LAST-MODIFIED:20250312T121158Z
UID:10005955-1813604400-1813608000@stjamesmb.church
SUMMARY:Christian Education Team Meeting
DESCRIPTION:
URL:https://stjamesmb.church/event/christian-education-team-meeting-2025-03-17/2027-06-21
LOCATION:https://us02web.zoom.us/j/86234076370?pwd=OGExVGh3Nm1pbUR3dkRBV2lqdUxMZz09
END:VEVENT
BEGIN:VEVENT
DTSTART;TZID=UTC:20270622T190000
DTEND;TZID=UTC:20270622T203000
DTSTAMP:20260421T055707
CREATED:20220323T222238Z
LAST-MODIFIED:20250326T002313Z
UID:10003448-1813690800-1813696200@stjamesmb.church
SUMMARY:Church School
DESCRIPTION:
URL:https://stjamesmb.church/event/church-school-2025-03-18-2025-04-01/2027-06-22
LOCATION:Virtual
END:VEVENT
BEGIN:VEVENT
DTSTART;TZID=UTC:20270623T190000
DTEND;TZID=UTC:20270623T203000
DTSTAMP:20260421T055707
CREATED:20220323T221855Z
LAST-MODIFIED:20260106T003402Z
UID:10004879-1813777200-1813782600@stjamesmb.church
SUMMARY:Prayer\, Praise & Bible Study
DESCRIPTION:
URL:https://stjamesmb.church/event/bible-study/2027-06-23
LOCATION:Virtual
END:VEVENT
BEGIN:VEVENT
DTSTART;TZID=UTC:20270626T110000
DTEND;TZID=UTC:20270626T123000
DTSTAMP:20260421T055707
CREATED:20250108T043739Z
LAST-MODIFIED:20250108T043739Z
UID:10003101-1814007600-1814013000@stjamesmb.church
SUMMARY:Leadership Meeting
DESCRIPTION:
URL:https://stjamesmb.church/event/leadership-meeting/2027-06-26
LOCATION:Virtual
END:VEVENT
BEGIN:VEVENT
DTSTART;TZID=UTC:20270626T120000
DTEND;TZID=UTC:20270626T140000
DTSTAMP:20260421T055707
CREATED:20250108T042140Z
LAST-MODIFIED:20250108T042140Z
UID:10003208-1814011200-1814018400@stjamesmb.church
SUMMARY:Missions Community Outreach
DESCRIPTION:
URL:https://stjamesmb.church/event/missions-community-outreach/2027-06-26
LOCATION:Ronald L. Hutchins Ministry House\, 2212 West Madison Street\, Louisville\, KY\, 40211\, United States
END:VEVENT
BEGIN:VEVENT
DTSTART;TZID=UTC:20270627T100000
DTEND;TZID=UTC:20270627T120000
DTSTAMP:20260421T055707
CREATED:20220322T205018Z
LAST-MODIFIED:20220323T223541Z
UID:10005338-1814090400-1814097600@stjamesmb.church
SUMMARY:Sunday Worship Service
DESCRIPTION:
URL:https://stjamesmb.church/event/sunday-worship-service/2027-06-27
LOCATION:St. James Missionary Baptist Church\, 2200 West Madison Street\, Louisville\, KY\, 40211\, United States
END:VEVENT
BEGIN:VEVENT
DTSTART;TZID=UTC:20270628T190000
DTEND;TZID=UTC:20270628T200000
DTSTAMP:20260421T055707
CREATED:20250112T170411Z
LAST-MODIFIED:20250312T121158Z
UID:10005956-1814209200-1814212800@stjamesmb.church
SUMMARY:Christian Education Team Meeting
DESCRIPTION:
URL:https://stjamesmb.church/event/christian-education-team-meeting-2025-03-17/2027-06-28
LOCATION:https://us02web.zoom.us/j/86234076370?pwd=OGExVGh3Nm1pbUR3dkRBV2lqdUxMZz09
END:VEVENT
BEGIN:VEVENT
DTSTART;TZID=UTC:20270629T190000
DTEND;TZID=UTC:20270629T203000
DTSTAMP:20260421T055707
CREATED:20220323T222238Z
LAST-MODIFIED:20250326T002313Z
UID:10003449-1814295600-1814301000@stjamesmb.church
SUMMARY:Church School
DESCRIPTION:
URL:https://stjamesmb.church/event/church-school-2025-03-18-2025-04-01/2027-06-29
LOCATION:Virtual
END:VEVENT
BEGIN:VEVENT
DTSTART;TZID=UTC:20270630T190000
DTEND;TZID=UTC:20270630T203000
DTSTAMP:20260421T055707
CREATED:20220323T221855Z
LAST-MODIFIED:20260106T003402Z
UID:10004880-1814382000-1814387400@stjamesmb.church
SUMMARY:Prayer\, Praise & Bible Study
DESCRIPTION:
URL:https://stjamesmb.church/event/bible-study/2027-06-30
LOCATION:Virtual
END:VEVENT
BEGIN:VEVENT
DTSTART;TZID=UTC:20270704T100000
DTEND;TZID=UTC:20270704T120000
DTSTAMP:20260421T055707
CREATED:20220322T205018Z
LAST-MODIFIED:20220323T223541Z
UID:10005339-1814695200-1814702400@stjamesmb.church
SUMMARY:Sunday Worship Service
DESCRIPTION:
URL:https://stjamesmb.church/event/sunday-worship-service/2027-07-04
LOCATION:St. James Missionary Baptist Church\, 2200 West Madison Street\, Louisville\, KY\, 40211\, United States
END:VEVENT
BEGIN:VEVENT
DTSTART;TZID=UTC:20270705T190000
DTEND;TZID=UTC:20270705T200000
DTSTAMP:20260421T055707
CREATED:20250112T170411Z
LAST-MODIFIED:20250312T121158Z
UID:10005957-1814814000-1814817600@stjamesmb.church
SUMMARY:Christian Education Team Meeting
DESCRIPTION:
URL:https://stjamesmb.church/event/christian-education-team-meeting-2025-03-17/2027-07-05
LOCATION:https://us02web.zoom.us/j/86234076370?pwd=OGExVGh3Nm1pbUR3dkRBV2lqdUxMZz09
END:VEVENT
BEGIN:VEVENT
DTSTART;TZID=UTC:20270706T190000
DTEND;TZID=UTC:20270706T203000
DTSTAMP:20260421T055707
CREATED:20220323T222238Z
LAST-MODIFIED:20250326T002313Z
UID:10003450-1814900400-1814905800@stjamesmb.church
SUMMARY:Church School
DESCRIPTION:
URL:https://stjamesmb.church/event/church-school-2025-03-18-2025-04-01/2027-07-06
LOCATION:Virtual
END:VEVENT
BEGIN:VEVENT
DTSTART;TZID=UTC:20270707T190000
DTEND;TZID=UTC:20270707T203000
DTSTAMP:20260421T055707
CREATED:20220323T221855Z
LAST-MODIFIED:20260106T003402Z
UID:10004881-1814986800-1814992200@stjamesmb.church
SUMMARY:Prayer\, Praise & Bible Study
DESCRIPTION:
URL:https://stjamesmb.church/event/bible-study/2027-07-07
LOCATION:Virtual
END:VEVENT
BEGIN:VEVENT
DTSTART;TZID=UTC:20270710T120000
DTEND;TZID=UTC:20270710T140000
DTSTAMP:20260421T055707
CREATED:20250108T042140Z
LAST-MODIFIED:20250108T042140Z
UID:10003209-1815220800-1815228000@stjamesmb.church
SUMMARY:Missions Community Outreach
DESCRIPTION:
URL:https://stjamesmb.church/event/missions-community-outreach/2027-07-10
LOCATION:Ronald L. Hutchins Ministry House\, 2212 West Madison Street\, Louisville\, KY\, 40211\, United States
END:VEVENT
BEGIN:VEVENT
DTSTART;TZID=UTC:20270711T100000
DTEND;TZID=UTC:20270711T120000
DTSTAMP:20260421T055707
CREATED:20220322T205018Z
LAST-MODIFIED:20220323T223541Z
UID:10005340-1815300000-1815307200@stjamesmb.church
SUMMARY:Sunday Worship Service
DESCRIPTION:
URL:https://stjamesmb.church/event/sunday-worship-service/2027-07-11
LOCATION:St. James Missionary Baptist Church\, 2200 West Madison Street\, Louisville\, KY\, 40211\, United States
END:VEVENT
BEGIN:VEVENT
DTSTART;TZID=UTC:20270712T190000
DTEND;TZID=UTC:20270712T200000
DTSTAMP:20260421T055707
CREATED:20250112T170411Z
LAST-MODIFIED:20250312T121158Z
UID:10005958-1815418800-1815422400@stjamesmb.church
SUMMARY:Christian Education Team Meeting
DESCRIPTION:
URL:https://stjamesmb.church/event/christian-education-team-meeting-2025-03-17/2027-07-12
LOCATION:https://us02web.zoom.us/j/86234076370?pwd=OGExVGh3Nm1pbUR3dkRBV2lqdUxMZz09
END:VEVENT
BEGIN:VEVENT
DTSTART;TZID=UTC:20270713T190000
DTEND;TZID=UTC:20270713T203000
DTSTAMP:20260421T055707
CREATED:20220323T222238Z
LAST-MODIFIED:20250326T002313Z
UID:10003451-1815505200-1815510600@stjamesmb.church
SUMMARY:Church School
DESCRIPTION:
URL:https://stjamesmb.church/event/church-school-2025-03-18-2025-04-01/2027-07-13
LOCATION:Virtual
END:VEVENT
BEGIN:VEVENT
DTSTART;TZID=UTC:20270714T190000
DTEND;TZID=UTC:20270714T203000
DTSTAMP:20260421T055707
CREATED:20220323T221855Z
LAST-MODIFIED:20260106T003402Z
UID:10004882-1815591600-1815597000@stjamesmb.church
SUMMARY:Prayer\, Praise & Bible Study
DESCRIPTION:
URL:https://stjamesmb.church/event/bible-study/2027-07-14
LOCATION:Virtual
END:VEVENT
BEGIN:VEVENT
DTSTART;TZID=UTC:20270718T100000
DTEND;TZID=UTC:20270718T120000
DTSTAMP:20260421T055707
CREATED:20220322T205018Z
LAST-MODIFIED:20220323T223541Z
UID:10005341-1815904800-1815912000@stjamesmb.church
SUMMARY:Sunday Worship Service
DESCRIPTION:
URL:https://stjamesmb.church/event/sunday-worship-service/2027-07-18
LOCATION:St. James Missionary Baptist Church\, 2200 West Madison Street\, Louisville\, KY\, 40211\, United States
END:VEVENT
BEGIN:VEVENT
DTSTART;TZID=UTC:20270718T120000
DTEND;TZID=UTC:20300917T150000
DTSTAMP:20260421T055707
CREATED:20260217T022922Z
LAST-MODIFIED:20260217T022922Z
UID:10004303-1815912000-1915887600@stjamesmb.church
SUMMARY:Eden Marriage Ministry
DESCRIPTION:
URL:https://stjamesmb.church/event/eden-marriage-ministry-2/2027-07-18
LOCATION:St. James Missionary Baptist Church\, 2200 West Madison Street\, Louisville\, KY\, 40211\, United States
END:VEVENT
BEGIN:VEVENT
DTSTART;TZID=UTC:20270719T190000
DTEND;TZID=UTC:20270719T200000
DTSTAMP:20260421T055707
CREATED:20250112T170411Z
LAST-MODIFIED:20250312T121158Z
UID:10005959-1816023600-1816027200@stjamesmb.church
SUMMARY:Christian Education Team Meeting
DESCRIPTION:
URL:https://stjamesmb.church/event/christian-education-team-meeting-2025-03-17/2027-07-19
LOCATION:https://us02web.zoom.us/j/86234076370?pwd=OGExVGh3Nm1pbUR3dkRBV2lqdUxMZz09
END:VEVENT
BEGIN:VEVENT
DTSTART;TZID=UTC:20270720T190000
DTEND;TZID=UTC:20270720T203000
DTSTAMP:20260421T055707
CREATED:20220323T222238Z
LAST-MODIFIED:20250326T002313Z
UID:10003452-1816110000-1816115400@stjamesmb.church
SUMMARY:Church School
DESCRIPTION:
URL:https://stjamesmb.church/event/church-school-2025-03-18-2025-04-01/2027-07-20
LOCATION:Virtual
END:VEVENT
BEGIN:VEVENT
DTSTART;TZID=UTC:20270721T190000
DTEND;TZID=UTC:20270721T203000
DTSTAMP:20260421T055707
CREATED:20220323T221855Z
LAST-MODIFIED:20260106T003402Z
UID:10004883-1816196400-1816201800@stjamesmb.church
SUMMARY:Prayer\, Praise & Bible Study
DESCRIPTION:
URL:https://stjamesmb.church/event/bible-study/2027-07-21
LOCATION:Virtual
END:VEVENT
BEGIN:VEVENT
DTSTART;TZID=UTC:20270724T110000
DTEND;TZID=UTC:20270724T123000
DTSTAMP:20260421T055707
CREATED:20250108T043739Z
LAST-MODIFIED:20250108T043739Z
UID:10003102-1816426800-1816432200@stjamesmb.church
SUMMARY:Leadership Meeting
DESCRIPTION:
URL:https://stjamesmb.church/event/leadership-meeting/2027-07-24
LOCATION:Virtual
END:VEVENT
BEGIN:VEVENT
DTSTART;TZID=UTC:20270724T120000
DTEND;TZID=UTC:20270724T140000
DTSTAMP:20260421T055707
CREATED:20250108T042140Z
LAST-MODIFIED:20250108T042140Z
UID:10003210-1816430400-1816437600@stjamesmb.church
SUMMARY:Missions Community Outreach
DESCRIPTION:
URL:https://stjamesmb.church/event/missions-community-outreach/2027-07-24
LOCATION:Ronald L. Hutchins Ministry House\, 2212 West Madison Street\, Louisville\, KY\, 40211\, United States
END:VEVENT
BEGIN:VEVENT
DTSTART;TZID=UTC:20270725T100000
DTEND;TZID=UTC:20270725T120000
DTSTAMP:20260421T055707
CREATED:20220322T205018Z
LAST-MODIFIED:20220323T223541Z
UID:10005342-1816509600-1816516800@stjamesmb.church
SUMMARY:Sunday Worship Service
DESCRIPTION:
URL:https://stjamesmb.church/event/sunday-worship-service/2027-07-25
LOCATION:St. James Missionary Baptist Church\, 2200 West Madison Street\, Louisville\, KY\, 40211\, United States
END:VEVENT
BEGIN:VEVENT
DTSTART;TZID=UTC:20270726T190000
DTEND;TZID=UTC:20270726T200000
DTSTAMP:20260421T055707
CREATED:20250112T170411Z
LAST-MODIFIED:20250312T121158Z
UID:10005960-1816628400-1816632000@stjamesmb.church
SUMMARY:Christian Education Team Meeting
DESCRIPTION:
URL:https://stjamesmb.church/event/christian-education-team-meeting-2025-03-17/2027-07-26
LOCATION:https://us02web.zoom.us/j/86234076370?pwd=OGExVGh3Nm1pbUR3dkRBV2lqdUxMZz09
END:VEVENT
BEGIN:VEVENT
DTSTART;TZID=UTC:20270727T190000
DTEND;TZID=UTC:20270727T203000
DTSTAMP:20260421T055707
CREATED:20220323T222238Z
LAST-MODIFIED:20250326T002313Z
UID:10003453-1816714800-1816720200@stjamesmb.church
SUMMARY:Church School
DESCRIPTION:
URL:https://stjamesmb.church/event/church-school-2025-03-18-2025-04-01/2027-07-27
LOCATION:Virtual
END:VEVENT
END:VCALENDAR