BEGIN:VCALENDAR
VERSION:2.0
PRODID:-//St James Missionary Baptist Church - ECPv6.15.18//NONSGML v1.0//EN
CALSCALE:GREGORIAN
METHOD:PUBLISH
X-WR-CALNAME:St James Missionary Baptist Church
X-ORIGINAL-URL:https://stjamesmb.church
X-WR-CALDESC:Events for St James Missionary Baptist Church
REFRESH-INTERVAL;VALUE=DURATION:PT1H
X-Robots-Tag:noindex
X-PUBLISHED-TTL:PT1H
BEGIN:VTIMEZONE
TZID:UTC
BEGIN:STANDARD
TZOFFSETFROM:+0000
TZOFFSETTO:+0000
TZNAME:UTC
DTSTART:20240101T000000
END:STANDARD
END:VTIMEZONE
BEGIN:VEVENT
DTSTART;TZID=UTC:20250825T190000
DTEND;TZID=UTC:20250825T200000
DTSTAMP:20260422T101344
CREATED:20250112T170411Z
LAST-MODIFIED:20250312T121158Z
UID:10005860-1756148400-1756152000@stjamesmb.church
SUMMARY:Christian Education Team Meeting
DESCRIPTION:
URL:https://stjamesmb.church/event/christian-education-team-meeting-2025-03-17/2025-08-25
LOCATION:https://us02web.zoom.us/j/86234076370?pwd=OGExVGh3Nm1pbUR3dkRBV2lqdUxMZz09
END:VEVENT
BEGIN:VEVENT
DTSTART;TZID=UTC:20250824T100000
DTEND;TZID=UTC:20250824T120000
DTSTAMP:20260422T101344
CREATED:20220322T205018Z
LAST-MODIFIED:20220323T223541Z
UID:10005242-1756029600-1756036800@stjamesmb.church
SUMMARY:Sunday Worship Service
DESCRIPTION:
URL:https://stjamesmb.church/event/sunday-worship-service/2025-08-24
LOCATION:St. James Missionary Baptist Church\, 2200 West Madison Street\, Louisville\, KY\, 40211\, United States
END:VEVENT
BEGIN:VEVENT
DTSTART;TZID=UTC:20250823T120000
DTEND;TZID=UTC:20250823T140000
DTSTAMP:20260422T101344
CREATED:20250108T042140Z
LAST-MODIFIED:20250108T042140Z
UID:10003160-1755950400-1755957600@stjamesmb.church
SUMMARY:Missions Community Outreach
DESCRIPTION:
URL:https://stjamesmb.church/event/missions-community-outreach/2025-08-23
LOCATION:Ronald L. Hutchins Ministry House\, 2212 West Madison Street\, Louisville\, KY\, 40211\, United States
END:VEVENT
BEGIN:VEVENT
DTSTART;TZID=UTC:20250823T110000
DTEND;TZID=UTC:20250823T123000
DTSTAMP:20260422T101344
CREATED:20250108T043739Z
LAST-MODIFIED:20250108T043739Z
UID:10003079-1755946800-1755952200@stjamesmb.church
SUMMARY:Leadership Meeting
DESCRIPTION:
URL:https://stjamesmb.church/event/leadership-meeting/2025-08-23
LOCATION:Virtual
END:VEVENT
BEGIN:VEVENT
DTSTART;TZID=UTC:20250819T190000
DTEND;TZID=UTC:20250819T203000
DTSTAMP:20260422T101344
CREATED:20220323T222238Z
LAST-MODIFIED:20250326T002313Z
UID:10003352-1755630000-1755635400@stjamesmb.church
SUMMARY:Church School
DESCRIPTION:
URL:https://stjamesmb.church/event/church-school-2025-03-18-2025-04-01/2025-08-19
LOCATION:Virtual
END:VEVENT
BEGIN:VEVENT
DTSTART;TZID=UTC:20250818T190000
DTEND;TZID=UTC:20250818T200000
DTSTAMP:20260422T101344
CREATED:20250112T170411Z
LAST-MODIFIED:20250312T121158Z
UID:10005859-1755543600-1755547200@stjamesmb.church
SUMMARY:Christian Education Team Meeting
DESCRIPTION:
URL:https://stjamesmb.church/event/christian-education-team-meeting-2025-03-17/2025-08-18
LOCATION:https://us02web.zoom.us/j/86234076370?pwd=OGExVGh3Nm1pbUR3dkRBV2lqdUxMZz09
END:VEVENT
BEGIN:VEVENT
DTSTART;TZID=UTC:20250817T100000
DTEND;TZID=UTC:20250817T120000
DTSTAMP:20260422T101344
CREATED:20220322T205018Z
LAST-MODIFIED:20220323T223541Z
UID:10005241-1755424800-1755432000@stjamesmb.church
SUMMARY:Sunday Worship Service
DESCRIPTION:
URL:https://stjamesmb.church/event/sunday-worship-service/2025-08-17
LOCATION:St. James Missionary Baptist Church\, 2200 West Madison Street\, Louisville\, KY\, 40211\, United States
END:VEVENT
BEGIN:VEVENT
DTSTART;TZID=UTC:20250812T190000
DTEND;TZID=UTC:20250812T203000
DTSTAMP:20260422T101344
CREATED:20220323T222238Z
LAST-MODIFIED:20250326T002313Z
UID:10003351-1755025200-1755030600@stjamesmb.church
SUMMARY:Church School
DESCRIPTION:
URL:https://stjamesmb.church/event/church-school-2025-03-18-2025-04-01/2025-08-12
LOCATION:Virtual
END:VEVENT
BEGIN:VEVENT
DTSTART;TZID=UTC:20250812T180000
DTEND;TZID=UTC:20250812T190000
DTSTAMP:20260422T101344
CREATED:20250108T034829Z
LAST-MODIFIED:20250108T040052Z
UID:10003331-1755021600-1755025200@stjamesmb.church
SUMMARY:Training for Service Certification Program
DESCRIPTION:This is a 26-week Certification Program for St. James Church School Teachers.
URL:https://stjamesmb.church/event/training-for-service-teachers-training/2025-08-12
LOCATION:Virtual
END:VEVENT
BEGIN:VEVENT
DTSTART;TZID=UTC:20250811T190000
DTEND;TZID=UTC:20250811T200000
DTSTAMP:20260422T101344
CREATED:20250112T170411Z
LAST-MODIFIED:20250312T121158Z
UID:10005858-1754938800-1754942400@stjamesmb.church
SUMMARY:Christian Education Team Meeting
DESCRIPTION:
URL:https://stjamesmb.church/event/christian-education-team-meeting-2025-03-17/2025-08-11
LOCATION:https://us02web.zoom.us/j/86234076370?pwd=OGExVGh3Nm1pbUR3dkRBV2lqdUxMZz09
END:VEVENT
BEGIN:VEVENT
DTSTART;TZID=UTC:20250810T100000
DTEND;TZID=UTC:20250810T120000
DTSTAMP:20260422T101344
CREATED:20220322T205018Z
LAST-MODIFIED:20220323T223541Z
UID:10005240-1754820000-1754827200@stjamesmb.church
SUMMARY:Sunday Worship Service
DESCRIPTION:
URL:https://stjamesmb.church/event/sunday-worship-service/2025-08-10
LOCATION:St. James Missionary Baptist Church\, 2200 West Madison Street\, Louisville\, KY\, 40211\, United States
END:VEVENT
BEGIN:VEVENT
DTSTART;TZID=UTC:20250809T120000
DTEND;TZID=UTC:20250809T140000
DTSTAMP:20260422T101344
CREATED:20250108T042140Z
LAST-MODIFIED:20250108T042140Z
UID:10003159-1754740800-1754748000@stjamesmb.church
SUMMARY:Missions Community Outreach
DESCRIPTION:
URL:https://stjamesmb.church/event/missions-community-outreach/2025-08-09
LOCATION:Ronald L. Hutchins Ministry House\, 2212 West Madison Street\, Louisville\, KY\, 40211\, United States
END:VEVENT
BEGIN:VEVENT
DTSTART;TZID=UTC:20250805T190000
DTEND;TZID=UTC:20250805T203000
DTSTAMP:20260422T101344
CREATED:20220323T222238Z
LAST-MODIFIED:20250326T002313Z
UID:10003350-1754420400-1754425800@stjamesmb.church
SUMMARY:Church School
DESCRIPTION:
URL:https://stjamesmb.church/event/church-school-2025-03-18-2025-04-01/2025-08-05
LOCATION:Virtual
END:VEVENT
BEGIN:VEVENT
DTSTART;TZID=UTC:20250805T180000
DTEND;TZID=UTC:20250805T190000
DTSTAMP:20260422T101344
CREATED:20250108T034829Z
LAST-MODIFIED:20250108T040052Z
UID:10003330-1754416800-1754420400@stjamesmb.church
SUMMARY:Training for Service Certification Program
DESCRIPTION:This is a 26-week Certification Program for St. James Church School Teachers.
URL:https://stjamesmb.church/event/training-for-service-teachers-training/2025-08-05
LOCATION:Virtual
END:VEVENT
BEGIN:VEVENT
DTSTART;TZID=UTC:20250804T190000
DTEND;TZID=UTC:20250804T200000
DTSTAMP:20260422T101344
CREATED:20250112T170411Z
LAST-MODIFIED:20250312T121158Z
UID:10005857-1754334000-1754337600@stjamesmb.church
SUMMARY:Christian Education Team Meeting
DESCRIPTION:
URL:https://stjamesmb.church/event/christian-education-team-meeting-2025-03-17/2025-08-04
LOCATION:https://us02web.zoom.us/j/86234076370?pwd=OGExVGh3Nm1pbUR3dkRBV2lqdUxMZz09
END:VEVENT
BEGIN:VEVENT
DTSTART;TZID=UTC:20250803T100000
DTEND;TZID=UTC:20250803T120000
DTSTAMP:20260422T101344
CREATED:20220322T205018Z
LAST-MODIFIED:20220323T223541Z
UID:10005239-1754215200-1754222400@stjamesmb.church
SUMMARY:Sunday Worship Service
DESCRIPTION:
URL:https://stjamesmb.church/event/sunday-worship-service/2025-08-03
LOCATION:St. James Missionary Baptist Church\, 2200 West Madison Street\, Louisville\, KY\, 40211\, United States
END:VEVENT
BEGIN:VEVENT
DTSTART;TZID=UTC:20250729T190000
DTEND;TZID=UTC:20250729T203000
DTSTAMP:20260422T101344
CREATED:20220323T222238Z
LAST-MODIFIED:20250326T002313Z
UID:10003349-1753815600-1753821000@stjamesmb.church
SUMMARY:Church School
DESCRIPTION:
URL:https://stjamesmb.church/event/church-school-2025-03-18-2025-04-01/2025-07-29
LOCATION:Virtual
END:VEVENT
BEGIN:VEVENT
DTSTART;TZID=UTC:20250729T180000
DTEND;TZID=UTC:20250729T190000
DTSTAMP:20260422T101344
CREATED:20250108T034829Z
LAST-MODIFIED:20250108T040052Z
UID:10003329-1753812000-1753815600@stjamesmb.church
SUMMARY:Training for Service Certification Program
DESCRIPTION:This is a 26-week Certification Program for St. James Church School Teachers.
URL:https://stjamesmb.church/event/training-for-service-teachers-training/2025-07-29
LOCATION:Virtual
END:VEVENT
BEGIN:VEVENT
DTSTART;TZID=UTC:20250728T190000
DTEND;TZID=UTC:20250728T200000
DTSTAMP:20260422T101344
CREATED:20250112T170411Z
LAST-MODIFIED:20250312T121158Z
UID:10005856-1753729200-1753732800@stjamesmb.church
SUMMARY:Christian Education Team Meeting
DESCRIPTION:
URL:https://stjamesmb.church/event/christian-education-team-meeting-2025-03-17/2025-07-28
LOCATION:https://us02web.zoom.us/j/86234076370?pwd=OGExVGh3Nm1pbUR3dkRBV2lqdUxMZz09
END:VEVENT
BEGIN:VEVENT
DTSTART;TZID=UTC:20250727T100000
DTEND;TZID=UTC:20250727T120000
DTSTAMP:20260422T101344
CREATED:20220322T205018Z
LAST-MODIFIED:20220323T223541Z
UID:10005238-1753610400-1753617600@stjamesmb.church
SUMMARY:Sunday Worship Service
DESCRIPTION:
URL:https://stjamesmb.church/event/sunday-worship-service/2025-07-27
LOCATION:St. James Missionary Baptist Church\, 2200 West Madison Street\, Louisville\, KY\, 40211\, United States
END:VEVENT
BEGIN:VEVENT
DTSTART;TZID=UTC:20250726T120000
DTEND;TZID=UTC:20250726T140000
DTSTAMP:20260422T101344
CREATED:20250108T042140Z
LAST-MODIFIED:20250108T042140Z
UID:10003158-1753531200-1753538400@stjamesmb.church
SUMMARY:Missions Community Outreach
DESCRIPTION:
URL:https://stjamesmb.church/event/missions-community-outreach/2025-07-26
LOCATION:Ronald L. Hutchins Ministry House\, 2212 West Madison Street\, Louisville\, KY\, 40211\, United States
END:VEVENT
BEGIN:VEVENT
DTSTART;TZID=UTC:20250726T110000
DTEND;TZID=UTC:20250726T123000
DTSTAMP:20260422T101344
CREATED:20250108T043739Z
LAST-MODIFIED:20250108T043739Z
UID:10003078-1753527600-1753533000@stjamesmb.church
SUMMARY:Leadership Meeting
DESCRIPTION:
URL:https://stjamesmb.church/event/leadership-meeting/2025-07-26
LOCATION:Virtual
END:VEVENT
BEGIN:VEVENT
DTSTART;TZID=UTC:20250722T190000
DTEND;TZID=UTC:20250722T203000
DTSTAMP:20260422T101344
CREATED:20220323T222238Z
LAST-MODIFIED:20250326T002313Z
UID:10003348-1753210800-1753216200@stjamesmb.church
SUMMARY:Church School
DESCRIPTION:
URL:https://stjamesmb.church/event/church-school-2025-03-18-2025-04-01/2025-07-22
LOCATION:Virtual
END:VEVENT
BEGIN:VEVENT
DTSTART;TZID=UTC:20250722T180000
DTEND;TZID=UTC:20250722T190000
DTSTAMP:20260422T101344
CREATED:20250108T034829Z
LAST-MODIFIED:20250108T040052Z
UID:10003328-1753207200-1753210800@stjamesmb.church
SUMMARY:Training for Service Certification Program
DESCRIPTION:This is a 26-week Certification Program for St. James Church School Teachers.
URL:https://stjamesmb.church/event/training-for-service-teachers-training/2025-07-22
LOCATION:Virtual
END:VEVENT
BEGIN:VEVENT
DTSTART;TZID=UTC:20250721T190000
DTEND;TZID=UTC:20250721T200000
DTSTAMP:20260422T101344
CREATED:20250112T170411Z
LAST-MODIFIED:20250312T121158Z
UID:10005855-1753124400-1753128000@stjamesmb.church
SUMMARY:Christian Education Team Meeting
DESCRIPTION:
URL:https://stjamesmb.church/event/christian-education-team-meeting-2025-03-17/2025-07-21
LOCATION:https://us02web.zoom.us/j/86234076370?pwd=OGExVGh3Nm1pbUR3dkRBV2lqdUxMZz09
END:VEVENT
BEGIN:VEVENT
DTSTART;TZID=UTC:20250720T100000
DTEND;TZID=UTC:20250720T120000
DTSTAMP:20260422T101344
CREATED:20220322T205018Z
LAST-MODIFIED:20220323T223541Z
UID:10005237-1753005600-1753012800@stjamesmb.church
SUMMARY:Sunday Worship Service
DESCRIPTION:
URL:https://stjamesmb.church/event/sunday-worship-service/2025-07-20
LOCATION:St. James Missionary Baptist Church\, 2200 West Madison Street\, Louisville\, KY\, 40211\, United States
END:VEVENT
BEGIN:VEVENT
DTSTART;TZID=UTC:20250715T190000
DTEND;TZID=UTC:20250715T203000
DTSTAMP:20260422T101344
CREATED:20220323T222238Z
LAST-MODIFIED:20250326T002313Z
UID:10003347-1752606000-1752611400@stjamesmb.church
SUMMARY:Church School
DESCRIPTION:
URL:https://stjamesmb.church/event/church-school-2025-03-18-2025-04-01/2025-07-15
LOCATION:Virtual
END:VEVENT
BEGIN:VEVENT
DTSTART;TZID=UTC:20250715T180000
DTEND;TZID=UTC:20250715T190000
DTSTAMP:20260422T101344
CREATED:20250108T034829Z
LAST-MODIFIED:20250108T040052Z
UID:10003327-1752602400-1752606000@stjamesmb.church
SUMMARY:Training for Service Certification Program
DESCRIPTION:This is a 26-week Certification Program for St. James Church School Teachers.
URL:https://stjamesmb.church/event/training-for-service-teachers-training/2025-07-15
LOCATION:Virtual
END:VEVENT
BEGIN:VEVENT
DTSTART;TZID=UTC:20250714T190000
DTEND;TZID=UTC:20250714T200000
DTSTAMP:20260422T101344
CREATED:20250112T170411Z
LAST-MODIFIED:20250312T121158Z
UID:10005854-1752519600-1752523200@stjamesmb.church
SUMMARY:Christian Education Team Meeting
DESCRIPTION:
URL:https://stjamesmb.church/event/christian-education-team-meeting-2025-03-17/2025-07-14
LOCATION:https://us02web.zoom.us/j/86234076370?pwd=OGExVGh3Nm1pbUR3dkRBV2lqdUxMZz09
END:VEVENT
BEGIN:VEVENT
DTSTART;TZID=UTC:20250713T100000
DTEND;TZID=UTC:20250713T120000
DTSTAMP:20260422T101344
CREATED:20220322T205018Z
LAST-MODIFIED:20220323T223541Z
UID:10005236-1752400800-1752408000@stjamesmb.church
SUMMARY:Sunday Worship Service
DESCRIPTION:
URL:https://stjamesmb.church/event/sunday-worship-service/2025-07-13
LOCATION:St. James Missionary Baptist Church\, 2200 West Madison Street\, Louisville\, KY\, 40211\, United States
END:VEVENT
END:VCALENDAR