BEGIN:VCALENDAR
VERSION:2.0
PRODID:-//St James Missionary Baptist Church - ECPv6.15.18//NONSGML v1.0//EN
CALSCALE:GREGORIAN
METHOD:PUBLISH
X-WR-CALNAME:St James Missionary Baptist Church
X-ORIGINAL-URL:https://stjamesmb.church
X-WR-CALDESC:Events for St James Missionary Baptist Church
REFRESH-INTERVAL;VALUE=DURATION:PT1H
X-Robots-Tag:noindex
X-PUBLISHED-TTL:PT1H
BEGIN:VTIMEZONE
TZID:UTC
BEGIN:STANDARD
TZOFFSETFROM:+0000
TZOFFSETTO:+0000
TZNAME:UTC
DTSTART:20240101T000000
END:STANDARD
END:VTIMEZONE
BEGIN:VEVENT
DTSTART;TZID=UTC:20251012T100000
DTEND;TZID=UTC:20251012T120000
DTSTAMP:20260422T085220
CREATED:20220322T205018Z
LAST-MODIFIED:20220323T223541Z
UID:10005249-1760263200-1760270400@stjamesmb.church
SUMMARY:Sunday Worship Service
DESCRIPTION:
URL:https://stjamesmb.church/event/sunday-worship-service/2025-10-12
LOCATION:St. James Missionary Baptist Church\, 2200 West Madison Street\, Louisville\, KY\, 40211\, United States
END:VEVENT
BEGIN:VEVENT
DTSTART;TZID=UTC:20251007T190000
DTEND;TZID=UTC:20251007T203000
DTSTAMP:20260422T085220
CREATED:20220323T222238Z
LAST-MODIFIED:20250326T002313Z
UID:10003359-1759863600-1759869000@stjamesmb.church
SUMMARY:Church School
DESCRIPTION:
URL:https://stjamesmb.church/event/church-school-2025-03-18-2025-04-01/2025-10-07
LOCATION:Virtual
END:VEVENT
BEGIN:VEVENT
DTSTART;TZID=UTC:20251006T190000
DTEND;TZID=UTC:20251006T200000
DTSTAMP:20260422T085220
CREATED:20250112T170411Z
LAST-MODIFIED:20250312T121158Z
UID:10005866-1759777200-1759780800@stjamesmb.church
SUMMARY:Christian Education Team Meeting
DESCRIPTION:
URL:https://stjamesmb.church/event/christian-education-team-meeting-2025-03-17/2025-10-06
LOCATION:https://us02web.zoom.us/j/86234076370?pwd=OGExVGh3Nm1pbUR3dkRBV2lqdUxMZz09
END:VEVENT
BEGIN:VEVENT
DTSTART;TZID=UTC:20251005T100000
DTEND;TZID=UTC:20251005T120000
DTSTAMP:20260422T085220
CREATED:20220322T205018Z
LAST-MODIFIED:20220323T223541Z
UID:10005248-1759658400-1759665600@stjamesmb.church
SUMMARY:Sunday Worship Service
DESCRIPTION:
URL:https://stjamesmb.church/event/sunday-worship-service/2025-10-05
LOCATION:St. James Missionary Baptist Church\, 2200 West Madison Street\, Louisville\, KY\, 40211\, United States
END:VEVENT
BEGIN:VEVENT
DTSTART;TZID=UTC:20251004T120000
DTEND;TZID=UTC:20251004T140000
DTSTAMP:20260422T085220
CREATED:20250108T042140Z
LAST-MODIFIED:20250108T042140Z
UID:10003163-1759579200-1759586400@stjamesmb.church
SUMMARY:Missions Community Outreach
DESCRIPTION:
URL:https://stjamesmb.church/event/missions-community-outreach/2025-10-04
LOCATION:Ronald L. Hutchins Ministry House\, 2212 West Madison Street\, Louisville\, KY\, 40211\, United States
END:VEVENT
BEGIN:VEVENT
DTSTART;TZID=UTC:20250930T190000
DTEND;TZID=UTC:20250930T203000
DTSTAMP:20260422T085220
CREATED:20220323T222238Z
LAST-MODIFIED:20250326T002313Z
UID:10003358-1759258800-1759264200@stjamesmb.church
SUMMARY:Church School
DESCRIPTION:
URL:https://stjamesmb.church/event/church-school-2025-03-18-2025-04-01/2025-09-30
LOCATION:Virtual
END:VEVENT
BEGIN:VEVENT
DTSTART;TZID=UTC:20250929T190000
DTEND;TZID=UTC:20250929T200000
DTSTAMP:20260422T085220
CREATED:20250112T170411Z
LAST-MODIFIED:20250312T121158Z
UID:10005865-1759172400-1759176000@stjamesmb.church
SUMMARY:Christian Education Team Meeting
DESCRIPTION:
URL:https://stjamesmb.church/event/christian-education-team-meeting-2025-03-17/2025-09-29
LOCATION:https://us02web.zoom.us/j/86234076370?pwd=OGExVGh3Nm1pbUR3dkRBV2lqdUxMZz09
END:VEVENT
BEGIN:VEVENT
DTSTART;TZID=UTC:20250928T100000
DTEND;TZID=UTC:20250928T120000
DTSTAMP:20260422T085220
CREATED:20220322T205018Z
LAST-MODIFIED:20220323T223541Z
UID:10005247-1759053600-1759060800@stjamesmb.church
SUMMARY:Sunday Worship Service
DESCRIPTION:
URL:https://stjamesmb.church/event/sunday-worship-service/2025-09-28
LOCATION:St. James Missionary Baptist Church\, 2200 West Madison Street\, Louisville\, KY\, 40211\, United States
END:VEVENT
BEGIN:VEVENT
DTSTART;TZID=UTC:20250927T110000
DTEND;TZID=UTC:20250927T123000
DTSTAMP:20260422T085220
CREATED:20250108T043739Z
LAST-MODIFIED:20250108T043739Z
UID:10003080-1758970800-1758976200@stjamesmb.church
SUMMARY:Leadership Meeting
DESCRIPTION:
URL:https://stjamesmb.church/event/leadership-meeting/2025-09-27
LOCATION:Virtual
END:VEVENT
BEGIN:VEVENT
DTSTART;TZID=UTC:20250923T190000
DTEND;TZID=UTC:20250923T203000
DTSTAMP:20260422T085220
CREATED:20220323T222238Z
LAST-MODIFIED:20250326T002313Z
UID:10003357-1758654000-1758659400@stjamesmb.church
SUMMARY:Church School
DESCRIPTION:
URL:https://stjamesmb.church/event/church-school-2025-03-18-2025-04-01/2025-09-23
LOCATION:Virtual
END:VEVENT
BEGIN:VEVENT
DTSTART;TZID=UTC:20250922T190000
DTEND;TZID=UTC:20250922T200000
DTSTAMP:20260422T085220
CREATED:20250112T170411Z
LAST-MODIFIED:20250312T121158Z
UID:10005864-1758567600-1758571200@stjamesmb.church
SUMMARY:Christian Education Team Meeting
DESCRIPTION:
URL:https://stjamesmb.church/event/christian-education-team-meeting-2025-03-17/2025-09-22
LOCATION:https://us02web.zoom.us/j/86234076370?pwd=OGExVGh3Nm1pbUR3dkRBV2lqdUxMZz09
END:VEVENT
BEGIN:VEVENT
DTSTART;TZID=UTC:20250921T100000
DTEND;TZID=UTC:20250921T120000
DTSTAMP:20260422T085220
CREATED:20220322T205018Z
LAST-MODIFIED:20220323T223541Z
UID:10005246-1758448800-1758456000@stjamesmb.church
SUMMARY:Sunday Worship Service
DESCRIPTION:
URL:https://stjamesmb.church/event/sunday-worship-service/2025-09-21
LOCATION:St. James Missionary Baptist Church\, 2200 West Madison Street\, Louisville\, KY\, 40211\, United States
END:VEVENT
BEGIN:VEVENT
DTSTART;TZID=UTC:20250920T120000
DTEND;TZID=UTC:20250920T140000
DTSTAMP:20260422T085220
CREATED:20250108T042140Z
LAST-MODIFIED:20250108T042140Z
UID:10003162-1758369600-1758376800@stjamesmb.church
SUMMARY:Missions Community Outreach
DESCRIPTION:
URL:https://stjamesmb.church/event/missions-community-outreach/2025-09-20
LOCATION:Ronald L. Hutchins Ministry House\, 2212 West Madison Street\, Louisville\, KY\, 40211\, United States
END:VEVENT
BEGIN:VEVENT
DTSTART;TZID=UTC:20250916T190000
DTEND;TZID=UTC:20250916T203000
DTSTAMP:20260422T085220
CREATED:20220323T222238Z
LAST-MODIFIED:20250326T002313Z
UID:10003356-1758049200-1758054600@stjamesmb.church
SUMMARY:Church School
DESCRIPTION:
URL:https://stjamesmb.church/event/church-school-2025-03-18-2025-04-01/2025-09-16
LOCATION:Virtual
END:VEVENT
BEGIN:VEVENT
DTSTART;TZID=UTC:20250915T190000
DTEND;TZID=UTC:20250915T200000
DTSTAMP:20260422T085220
CREATED:20250112T170411Z
LAST-MODIFIED:20250312T121158Z
UID:10005863-1757962800-1757966400@stjamesmb.church
SUMMARY:Christian Education Team Meeting
DESCRIPTION:
URL:https://stjamesmb.church/event/christian-education-team-meeting-2025-03-17/2025-09-15
LOCATION:https://us02web.zoom.us/j/86234076370?pwd=OGExVGh3Nm1pbUR3dkRBV2lqdUxMZz09
END:VEVENT
BEGIN:VEVENT
DTSTART;TZID=UTC:20250914T100000
DTEND;TZID=UTC:20250914T120000
DTSTAMP:20260422T085220
CREATED:20220322T205018Z
LAST-MODIFIED:20220323T223541Z
UID:10005245-1757844000-1757851200@stjamesmb.church
SUMMARY:Sunday Worship Service
DESCRIPTION:
URL:https://stjamesmb.church/event/sunday-worship-service/2025-09-14
LOCATION:St. James Missionary Baptist Church\, 2200 West Madison Street\, Louisville\, KY\, 40211\, United States
END:VEVENT
BEGIN:VEVENT
DTSTART;TZID=UTC:20250909T190000
DTEND;TZID=UTC:20250909T203000
DTSTAMP:20260422T085220
CREATED:20220323T222238Z
LAST-MODIFIED:20250326T002313Z
UID:10003355-1757444400-1757449800@stjamesmb.church
SUMMARY:Church School
DESCRIPTION:
URL:https://stjamesmb.church/event/church-school-2025-03-18-2025-04-01/2025-09-09
LOCATION:Virtual
END:VEVENT
BEGIN:VEVENT
DTSTART;TZID=UTC:20250908T190000
DTEND;TZID=UTC:20250908T200000
DTSTAMP:20260422T085220
CREATED:20250112T170411Z
LAST-MODIFIED:20250312T121158Z
UID:10005862-1757358000-1757361600@stjamesmb.church
SUMMARY:Christian Education Team Meeting
DESCRIPTION:
URL:https://stjamesmb.church/event/christian-education-team-meeting-2025-03-17/2025-09-08
LOCATION:https://us02web.zoom.us/j/86234076370?pwd=OGExVGh3Nm1pbUR3dkRBV2lqdUxMZz09
END:VEVENT
BEGIN:VEVENT
DTSTART;TZID=UTC:20250907T100000
DTEND;TZID=UTC:20250907T120000
DTSTAMP:20260422T085220
CREATED:20220322T205018Z
LAST-MODIFIED:20220323T223541Z
UID:10005244-1757239200-1757246400@stjamesmb.church
SUMMARY:Sunday Worship Service
DESCRIPTION:
URL:https://stjamesmb.church/event/sunday-worship-service/2025-09-07
LOCATION:St. James Missionary Baptist Church\, 2200 West Madison Street\, Louisville\, KY\, 40211\, United States
END:VEVENT
BEGIN:VEVENT
DTSTART;TZID=UTC:20250906T120000
DTEND;TZID=UTC:20250906T140000
DTSTAMP:20260422T085220
CREATED:20250108T042140Z
LAST-MODIFIED:20250108T042140Z
UID:10003161-1757160000-1757167200@stjamesmb.church
SUMMARY:Missions Community Outreach
DESCRIPTION:
URL:https://stjamesmb.church/event/missions-community-outreach/2025-09-06
LOCATION:Ronald L. Hutchins Ministry House\, 2212 West Madison Street\, Louisville\, KY\, 40211\, United States
END:VEVENT
BEGIN:VEVENT
DTSTART;TZID=UTC:20250902T190000
DTEND;TZID=UTC:20250902T203000
DTSTAMP:20260422T085220
CREATED:20220323T222238Z
LAST-MODIFIED:20250326T002313Z
UID:10003354-1756839600-1756845000@stjamesmb.church
SUMMARY:Church School
DESCRIPTION:
URL:https://stjamesmb.church/event/church-school-2025-03-18-2025-04-01/2025-09-02
LOCATION:Virtual
END:VEVENT
BEGIN:VEVENT
DTSTART;TZID=UTC:20250901T190000
DTEND;TZID=UTC:20250901T200000
DTSTAMP:20260422T085220
CREATED:20250112T170411Z
LAST-MODIFIED:20250312T121158Z
UID:10005861-1756753200-1756756800@stjamesmb.church
SUMMARY:Christian Education Team Meeting
DESCRIPTION:
URL:https://stjamesmb.church/event/christian-education-team-meeting-2025-03-17/2025-09-01
LOCATION:https://us02web.zoom.us/j/86234076370?pwd=OGExVGh3Nm1pbUR3dkRBV2lqdUxMZz09
END:VEVENT
BEGIN:VEVENT
DTSTART;TZID=UTC:20250831T100000
DTEND;TZID=UTC:20250831T120000
DTSTAMP:20260422T085220
CREATED:20220322T205018Z
LAST-MODIFIED:20220323T223541Z
UID:10005243-1756634400-1756641600@stjamesmb.church
SUMMARY:Sunday Worship Service
DESCRIPTION:
URL:https://stjamesmb.church/event/sunday-worship-service/2025-08-31
LOCATION:St. James Missionary Baptist Church\, 2200 West Madison Street\, Louisville\, KY\, 40211\, United States
END:VEVENT
BEGIN:VEVENT
DTSTART;TZID=UTC:20250826T190000
DTEND;TZID=UTC:20250826T203000
DTSTAMP:20260422T085220
CREATED:20220323T222238Z
LAST-MODIFIED:20250326T002313Z
UID:10003353-1756234800-1756240200@stjamesmb.church
SUMMARY:Church School
DESCRIPTION:
URL:https://stjamesmb.church/event/church-school-2025-03-18-2025-04-01/2025-08-26
LOCATION:Virtual
END:VEVENT
BEGIN:VEVENT
DTSTART;TZID=UTC:20250825T190000
DTEND;TZID=UTC:20250825T200000
DTSTAMP:20260422T085220
CREATED:20250112T170411Z
LAST-MODIFIED:20250312T121158Z
UID:10005860-1756148400-1756152000@stjamesmb.church
SUMMARY:Christian Education Team Meeting
DESCRIPTION:
URL:https://stjamesmb.church/event/christian-education-team-meeting-2025-03-17/2025-08-25
LOCATION:https://us02web.zoom.us/j/86234076370?pwd=OGExVGh3Nm1pbUR3dkRBV2lqdUxMZz09
END:VEVENT
BEGIN:VEVENT
DTSTART;TZID=UTC:20250824T100000
DTEND;TZID=UTC:20250824T120000
DTSTAMP:20260422T085220
CREATED:20220322T205018Z
LAST-MODIFIED:20220323T223541Z
UID:10005242-1756029600-1756036800@stjamesmb.church
SUMMARY:Sunday Worship Service
DESCRIPTION:
URL:https://stjamesmb.church/event/sunday-worship-service/2025-08-24
LOCATION:St. James Missionary Baptist Church\, 2200 West Madison Street\, Louisville\, KY\, 40211\, United States
END:VEVENT
BEGIN:VEVENT
DTSTART;TZID=UTC:20250823T120000
DTEND;TZID=UTC:20250823T140000
DTSTAMP:20260422T085220
CREATED:20250108T042140Z
LAST-MODIFIED:20250108T042140Z
UID:10003160-1755950400-1755957600@stjamesmb.church
SUMMARY:Missions Community Outreach
DESCRIPTION:
URL:https://stjamesmb.church/event/missions-community-outreach/2025-08-23
LOCATION:Ronald L. Hutchins Ministry House\, 2212 West Madison Street\, Louisville\, KY\, 40211\, United States
END:VEVENT
BEGIN:VEVENT
DTSTART;TZID=UTC:20250823T110000
DTEND;TZID=UTC:20250823T123000
DTSTAMP:20260422T085220
CREATED:20250108T043739Z
LAST-MODIFIED:20250108T043739Z
UID:10003079-1755946800-1755952200@stjamesmb.church
SUMMARY:Leadership Meeting
DESCRIPTION:
URL:https://stjamesmb.church/event/leadership-meeting/2025-08-23
LOCATION:Virtual
END:VEVENT
BEGIN:VEVENT
DTSTART;TZID=UTC:20250819T190000
DTEND;TZID=UTC:20250819T203000
DTSTAMP:20260422T085220
CREATED:20220323T222238Z
LAST-MODIFIED:20250326T002313Z
UID:10003352-1755630000-1755635400@stjamesmb.church
SUMMARY:Church School
DESCRIPTION:
URL:https://stjamesmb.church/event/church-school-2025-03-18-2025-04-01/2025-08-19
LOCATION:Virtual
END:VEVENT
BEGIN:VEVENT
DTSTART;TZID=UTC:20250818T190000
DTEND;TZID=UTC:20250818T200000
DTSTAMP:20260422T085220
CREATED:20250112T170411Z
LAST-MODIFIED:20250312T121158Z
UID:10005859-1755543600-1755547200@stjamesmb.church
SUMMARY:Christian Education Team Meeting
DESCRIPTION:
URL:https://stjamesmb.church/event/christian-education-team-meeting-2025-03-17/2025-08-18
LOCATION:https://us02web.zoom.us/j/86234076370?pwd=OGExVGh3Nm1pbUR3dkRBV2lqdUxMZz09
END:VEVENT
END:VCALENDAR