BEGIN:VCALENDAR
VERSION:2.0
PRODID:-//St James Missionary Baptist Church - ECPv6.15.18//NONSGML v1.0//EN
CALSCALE:GREGORIAN
METHOD:PUBLISH
X-ORIGINAL-URL:https://stjamesmb.church
X-WR-CALDESC:Events for St James Missionary Baptist Church
REFRESH-INTERVAL;VALUE=DURATION:PT1H
X-Robots-Tag:noindex
X-PUBLISHED-TTL:PT1H
BEGIN:VTIMEZONE
TZID:UTC
BEGIN:STANDARD
TZOFFSETFROM:+0000
TZOFFSETTO:+0000
TZNAME:UTC
DTSTART:20260101T000000
END:STANDARD
END:VTIMEZONE
BEGIN:VEVENT
DTSTART;TZID=UTC:20270315T190000
DTEND;TZID=UTC:20270315T200000
DTSTAMP:20260420T213914
CREATED:20250112T170411Z
LAST-MODIFIED:20250312T121158Z
UID:10005941-1805137200-1805140800@stjamesmb.church
SUMMARY:Christian Education Team Meeting
DESCRIPTION:
URL:https://stjamesmb.church/event/christian-education-team-meeting-2025-03-17/2027-03-15
LOCATION:https://us02web.zoom.us/j/86234076370?pwd=OGExVGh3Nm1pbUR3dkRBV2lqdUxMZz09
END:VEVENT
BEGIN:VEVENT
DTSTART;TZID=UTC:20270316T190000
DTEND;TZID=UTC:20270316T203000
DTSTAMP:20260420T213914
CREATED:20220323T222238Z
LAST-MODIFIED:20250326T002313Z
UID:10003434-1805223600-1805229000@stjamesmb.church
SUMMARY:Church School
DESCRIPTION:
URL:https://stjamesmb.church/event/church-school-2025-03-18-2025-04-01/2027-03-16
LOCATION:Virtual
END:VEVENT
BEGIN:VEVENT
DTSTART;TZID=UTC:20270317T190000
DTEND;TZID=UTC:20270317T203000
DTSTAMP:20260420T213914
CREATED:20220323T221855Z
LAST-MODIFIED:20260106T003402Z
UID:10004865-1805310000-1805315400@stjamesmb.church
SUMMARY:Prayer\, Praise & Bible Study
DESCRIPTION:
URL:https://stjamesmb.church/event/bible-study/2027-03-17
LOCATION:Virtual
END:VEVENT
BEGIN:VEVENT
DTSTART;TZID=UTC:20270320T120000
DTEND;TZID=UTC:20270320T140000
DTSTAMP:20260420T213914
CREATED:20250108T042140Z
LAST-MODIFIED:20250108T042140Z
UID:10003201-1805544000-1805551200@stjamesmb.church
SUMMARY:Missions Community Outreach
DESCRIPTION:
URL:https://stjamesmb.church/event/missions-community-outreach/2027-03-20
LOCATION:Ronald L. Hutchins Ministry House\, 2212 West Madison Street\, Louisville\, KY\, 40211\, United States
END:VEVENT
BEGIN:VEVENT
DTSTART;TZID=UTC:20270321T100000
DTEND;TZID=UTC:20270321T120000
DTSTAMP:20260420T213914
CREATED:20220322T205018Z
LAST-MODIFIED:20220323T223541Z
UID:10005324-1805623200-1805630400@stjamesmb.church
SUMMARY:Sunday Worship Service
DESCRIPTION:
URL:https://stjamesmb.church/event/sunday-worship-service/2027-03-21
LOCATION:St. James Missionary Baptist Church\, 2200 West Madison Street\, Louisville\, KY\, 40211\, United States
END:VEVENT
BEGIN:VEVENT
DTSTART;TZID=UTC:20270321T120000
DTEND;TZID=UTC:20300521T150000
DTSTAMP:20260420T213914
CREATED:20260217T022922Z
LAST-MODIFIED:20260217T022922Z
UID:10004299-1805630400-1905606000@stjamesmb.church
SUMMARY:Eden Marriage Ministry
DESCRIPTION:
URL:https://stjamesmb.church/event/eden-marriage-ministry-2/2027-03-21
LOCATION:St. James Missionary Baptist Church\, 2200 West Madison Street\, Louisville\, KY\, 40211\, United States
END:VEVENT
BEGIN:VEVENT
DTSTART;TZID=UTC:20270322T190000
DTEND;TZID=UTC:20270322T200000
DTSTAMP:20260420T213914
CREATED:20250112T170411Z
LAST-MODIFIED:20250312T121158Z
UID:10005942-1805742000-1805745600@stjamesmb.church
SUMMARY:Christian Education Team Meeting
DESCRIPTION:
URL:https://stjamesmb.church/event/christian-education-team-meeting-2025-03-17/2027-03-22
LOCATION:https://us02web.zoom.us/j/86234076370?pwd=OGExVGh3Nm1pbUR3dkRBV2lqdUxMZz09
END:VEVENT
BEGIN:VEVENT
DTSTART;TZID=UTC:20270323T190000
DTEND;TZID=UTC:20270323T203000
DTSTAMP:20260420T213914
CREATED:20220323T222238Z
LAST-MODIFIED:20250326T002313Z
UID:10003435-1805828400-1805833800@stjamesmb.church
SUMMARY:Church School
DESCRIPTION:
URL:https://stjamesmb.church/event/church-school-2025-03-18-2025-04-01/2027-03-23
LOCATION:Virtual
END:VEVENT
BEGIN:VEVENT
DTSTART;TZID=UTC:20270324T190000
DTEND;TZID=UTC:20270324T203000
DTSTAMP:20260420T213914
CREATED:20220323T221855Z
LAST-MODIFIED:20260106T003402Z
UID:10004866-1805914800-1805920200@stjamesmb.church
SUMMARY:Prayer\, Praise & Bible Study
DESCRIPTION:
URL:https://stjamesmb.church/event/bible-study/2027-03-24
LOCATION:Virtual
END:VEVENT
BEGIN:VEVENT
DTSTART;TZID=UTC:20270327T110000
DTEND;TZID=UTC:20270327T123000
DTSTAMP:20260420T213914
CREATED:20250108T043739Z
LAST-MODIFIED:20250108T043739Z
UID:10003098-1806145200-1806150600@stjamesmb.church
SUMMARY:Leadership Meeting
DESCRIPTION:
URL:https://stjamesmb.church/event/leadership-meeting/2027-03-27
LOCATION:Virtual
END:VEVENT
BEGIN:VEVENT
DTSTART;TZID=UTC:20270328T100000
DTEND;TZID=UTC:20270328T120000
DTSTAMP:20260420T213914
CREATED:20220322T205018Z
LAST-MODIFIED:20220323T223541Z
UID:10005325-1806228000-1806235200@stjamesmb.church
SUMMARY:Sunday Worship Service
DESCRIPTION:
URL:https://stjamesmb.church/event/sunday-worship-service/2027-03-28
LOCATION:St. James Missionary Baptist Church\, 2200 West Madison Street\, Louisville\, KY\, 40211\, United States
END:VEVENT
BEGIN:VEVENT
DTSTART;TZID=UTC:20270329T190000
DTEND;TZID=UTC:20270329T200000
DTSTAMP:20260420T213914
CREATED:20250112T170411Z
LAST-MODIFIED:20250312T121158Z
UID:10005943-1806346800-1806350400@stjamesmb.church
SUMMARY:Christian Education Team Meeting
DESCRIPTION:
URL:https://stjamesmb.church/event/christian-education-team-meeting-2025-03-17/2027-03-29
LOCATION:https://us02web.zoom.us/j/86234076370?pwd=OGExVGh3Nm1pbUR3dkRBV2lqdUxMZz09
END:VEVENT
BEGIN:VEVENT
DTSTART;TZID=UTC:20270330T190000
DTEND;TZID=UTC:20270330T203000
DTSTAMP:20260420T213914
CREATED:20220323T222238Z
LAST-MODIFIED:20250326T002313Z
UID:10003436-1806433200-1806438600@stjamesmb.church
SUMMARY:Church School
DESCRIPTION:
URL:https://stjamesmb.church/event/church-school-2025-03-18-2025-04-01/2027-03-30
LOCATION:Virtual
END:VEVENT
BEGIN:VEVENT
DTSTART;TZID=UTC:20270331T190000
DTEND;TZID=UTC:20270331T203000
DTSTAMP:20260420T213914
CREATED:20220323T221855Z
LAST-MODIFIED:20260106T003402Z
UID:10004867-1806519600-1806525000@stjamesmb.church
SUMMARY:Prayer\, Praise & Bible Study
DESCRIPTION:
URL:https://stjamesmb.church/event/bible-study/2027-03-31
LOCATION:Virtual
END:VEVENT
BEGIN:VEVENT
DTSTART;TZID=UTC:20270403T120000
DTEND;TZID=UTC:20270403T140000
DTSTAMP:20260420T213915
CREATED:20250108T042140Z
LAST-MODIFIED:20250108T042140Z
UID:10003202-1806753600-1806760800@stjamesmb.church
SUMMARY:Missions Community Outreach
DESCRIPTION:
URL:https://stjamesmb.church/event/missions-community-outreach/2027-04-03
LOCATION:Ronald L. Hutchins Ministry House\, 2212 West Madison Street\, Louisville\, KY\, 40211\, United States
END:VEVENT
BEGIN:VEVENT
DTSTART;TZID=UTC:20270404T100000
DTEND;TZID=UTC:20270404T120000
DTSTAMP:20260420T213915
CREATED:20220322T205018Z
LAST-MODIFIED:20220323T223541Z
UID:10005326-1806832800-1806840000@stjamesmb.church
SUMMARY:Sunday Worship Service
DESCRIPTION:
URL:https://stjamesmb.church/event/sunday-worship-service/2027-04-04
LOCATION:St. James Missionary Baptist Church\, 2200 West Madison Street\, Louisville\, KY\, 40211\, United States
END:VEVENT
BEGIN:VEVENT
DTSTART;TZID=UTC:20270405T190000
DTEND;TZID=UTC:20270405T200000
DTSTAMP:20260420T213915
CREATED:20250112T170411Z
LAST-MODIFIED:20250312T121158Z
UID:10005944-1806951600-1806955200@stjamesmb.church
SUMMARY:Christian Education Team Meeting
DESCRIPTION:
URL:https://stjamesmb.church/event/christian-education-team-meeting-2025-03-17/2027-04-05
LOCATION:https://us02web.zoom.us/j/86234076370?pwd=OGExVGh3Nm1pbUR3dkRBV2lqdUxMZz09
END:VEVENT
BEGIN:VEVENT
DTSTART;TZID=UTC:20270406T190000
DTEND;TZID=UTC:20270406T203000
DTSTAMP:20260420T213915
CREATED:20220323T222238Z
LAST-MODIFIED:20250326T002313Z
UID:10003437-1807038000-1807043400@stjamesmb.church
SUMMARY:Church School
DESCRIPTION:
URL:https://stjamesmb.church/event/church-school-2025-03-18-2025-04-01/2027-04-06
LOCATION:Virtual
END:VEVENT
BEGIN:VEVENT
DTSTART;TZID=UTC:20270407T190000
DTEND;TZID=UTC:20270407T203000
DTSTAMP:20260420T213915
CREATED:20220323T221855Z
LAST-MODIFIED:20260106T003402Z
UID:10004868-1807124400-1807129800@stjamesmb.church
SUMMARY:Prayer\, Praise & Bible Study
DESCRIPTION:
URL:https://stjamesmb.church/event/bible-study/2027-04-07
LOCATION:Virtual
END:VEVENT
BEGIN:VEVENT
DTSTART;TZID=UTC:20270411T100000
DTEND;TZID=UTC:20270411T120000
DTSTAMP:20260420T213915
CREATED:20220322T205018Z
LAST-MODIFIED:20220323T223541Z
UID:10005327-1807437600-1807444800@stjamesmb.church
SUMMARY:Sunday Worship Service
DESCRIPTION:
URL:https://stjamesmb.church/event/sunday-worship-service/2027-04-11
LOCATION:St. James Missionary Baptist Church\, 2200 West Madison Street\, Louisville\, KY\, 40211\, United States
END:VEVENT
BEGIN:VEVENT
DTSTART;TZID=UTC:20270412T190000
DTEND;TZID=UTC:20270412T200000
DTSTAMP:20260420T213915
CREATED:20250112T170411Z
LAST-MODIFIED:20250312T121158Z
UID:10005945-1807556400-1807560000@stjamesmb.church
SUMMARY:Christian Education Team Meeting
DESCRIPTION:
URL:https://stjamesmb.church/event/christian-education-team-meeting-2025-03-17/2027-04-12
LOCATION:https://us02web.zoom.us/j/86234076370?pwd=OGExVGh3Nm1pbUR3dkRBV2lqdUxMZz09
END:VEVENT
BEGIN:VEVENT
DTSTART;TZID=UTC:20270413T190000
DTEND;TZID=UTC:20270413T203000
DTSTAMP:20260420T213915
CREATED:20220323T222238Z
LAST-MODIFIED:20250326T002313Z
UID:10003438-1807642800-1807648200@stjamesmb.church
SUMMARY:Church School
DESCRIPTION:
URL:https://stjamesmb.church/event/church-school-2025-03-18-2025-04-01/2027-04-13
LOCATION:Virtual
END:VEVENT
BEGIN:VEVENT
DTSTART;TZID=UTC:20270414T190000
DTEND;TZID=UTC:20270414T203000
DTSTAMP:20260420T213915
CREATED:20220323T221855Z
LAST-MODIFIED:20260106T003402Z
UID:10004869-1807729200-1807734600@stjamesmb.church
SUMMARY:Prayer\, Praise & Bible Study
DESCRIPTION:
URL:https://stjamesmb.church/event/bible-study/2027-04-14
LOCATION:Virtual
END:VEVENT
BEGIN:VEVENT
DTSTART;TZID=UTC:20270417T120000
DTEND;TZID=UTC:20270417T140000
DTSTAMP:20260420T213915
CREATED:20250108T042140Z
LAST-MODIFIED:20250108T042140Z
UID:10003203-1807963200-1807970400@stjamesmb.church
SUMMARY:Missions Community Outreach
DESCRIPTION:
URL:https://stjamesmb.church/event/missions-community-outreach/2027-04-17
LOCATION:Ronald L. Hutchins Ministry House\, 2212 West Madison Street\, Louisville\, KY\, 40211\, United States
END:VEVENT
BEGIN:VEVENT
DTSTART;TZID=UTC:20270418T100000
DTEND;TZID=UTC:20270418T120000
DTSTAMP:20260420T213915
CREATED:20220322T205018Z
LAST-MODIFIED:20220323T223541Z
UID:10005328-1808042400-1808049600@stjamesmb.church
SUMMARY:Sunday Worship Service
DESCRIPTION:
URL:https://stjamesmb.church/event/sunday-worship-service/2027-04-18
LOCATION:St. James Missionary Baptist Church\, 2200 West Madison Street\, Louisville\, KY\, 40211\, United States
END:VEVENT
BEGIN:VEVENT
DTSTART;TZID=UTC:20270418T120000
DTEND;TZID=UTC:20300618T150000
DTSTAMP:20260420T213915
CREATED:20260217T022922Z
LAST-MODIFIED:20260217T022922Z
UID:10004300-1808049600-1908025200@stjamesmb.church
SUMMARY:Eden Marriage Ministry
DESCRIPTION:
URL:https://stjamesmb.church/event/eden-marriage-ministry-2/2027-04-18
LOCATION:St. James Missionary Baptist Church\, 2200 West Madison Street\, Louisville\, KY\, 40211\, United States
END:VEVENT
BEGIN:VEVENT
DTSTART;TZID=UTC:20270419T190000
DTEND;TZID=UTC:20270419T200000
DTSTAMP:20260420T213915
CREATED:20250112T170411Z
LAST-MODIFIED:20250312T121158Z
UID:10005946-1808161200-1808164800@stjamesmb.church
SUMMARY:Christian Education Team Meeting
DESCRIPTION:
URL:https://stjamesmb.church/event/christian-education-team-meeting-2025-03-17/2027-04-19
LOCATION:https://us02web.zoom.us/j/86234076370?pwd=OGExVGh3Nm1pbUR3dkRBV2lqdUxMZz09
END:VEVENT
BEGIN:VEVENT
DTSTART;TZID=UTC:20270420T190000
DTEND;TZID=UTC:20270420T203000
DTSTAMP:20260420T213915
CREATED:20220323T222238Z
LAST-MODIFIED:20250326T002313Z
UID:10003439-1808247600-1808253000@stjamesmb.church
SUMMARY:Church School
DESCRIPTION:
URL:https://stjamesmb.church/event/church-school-2025-03-18-2025-04-01/2027-04-20
LOCATION:Virtual
END:VEVENT
BEGIN:VEVENT
DTSTART;TZID=UTC:20270421T190000
DTEND;TZID=UTC:20270421T203000
DTSTAMP:20260420T213915
CREATED:20220323T221855Z
LAST-MODIFIED:20260106T003402Z
UID:10004870-1808334000-1808339400@stjamesmb.church
SUMMARY:Prayer\, Praise & Bible Study
DESCRIPTION:
URL:https://stjamesmb.church/event/bible-study/2027-04-21
LOCATION:Virtual
END:VEVENT
BEGIN:VEVENT
DTSTART;TZID=UTC:20270424T110000
DTEND;TZID=UTC:20270424T123000
DTSTAMP:20260420T213915
CREATED:20250108T043739Z
LAST-MODIFIED:20250108T043739Z
UID:10003099-1808564400-1808569800@stjamesmb.church
SUMMARY:Leadership Meeting
DESCRIPTION:
URL:https://stjamesmb.church/event/leadership-meeting/2027-04-24
LOCATION:Virtual
END:VEVENT
END:VCALENDAR