BEGIN:VCALENDAR
VERSION:2.0
PRODID:-//St James Missionary Baptist Church - ECPv6.15.18//NONSGML v1.0//EN
CALSCALE:GREGORIAN
METHOD:PUBLISH
X-WR-CALNAME:St James Missionary Baptist Church
X-ORIGINAL-URL:https://stjamesmb.church
X-WR-CALDESC:Events for St James Missionary Baptist Church
REFRESH-INTERVAL;VALUE=DURATION:PT1H
X-Robots-Tag:noindex
X-PUBLISHED-TTL:PT1H
BEGIN:VTIMEZONE
TZID:UTC
BEGIN:STANDARD
TZOFFSETFROM:+0000
TZOFFSETTO:+0000
TZNAME:UTC
DTSTART:20240101T000000
END:STANDARD
END:VTIMEZONE
BEGIN:VEVENT
DTSTART;TZID=UTC:20260107T190000
DTEND;TZID=UTC:20260107T203000
DTSTAMP:20260419T193935
CREATED:20220323T221855Z
LAST-MODIFIED:20260106T003402Z
UID:10004803-1767812400-1767817800@stjamesmb.church
SUMMARY:Prayer\, Praise & Bible Study
DESCRIPTION:
URL:https://stjamesmb.church/event/bible-study/2026-01-07
LOCATION:Virtual
END:VEVENT
BEGIN:VEVENT
DTSTART;TZID=UTC:20260106T190000
DTEND;TZID=UTC:20260106T203000
DTSTAMP:20260419T193935
CREATED:20220323T222238Z
LAST-MODIFIED:20250326T002313Z
UID:10003372-1767726000-1767731400@stjamesmb.church
SUMMARY:Church School
DESCRIPTION:
URL:https://stjamesmb.church/event/church-school-2025-03-18-2025-04-01/2026-01-06
LOCATION:Virtual
END:VEVENT
BEGIN:VEVENT
DTSTART;TZID=UTC:20260105T190000
DTEND;TZID=UTC:20260105T200000
DTSTAMP:20260419T193935
CREATED:20250112T170411Z
LAST-MODIFIED:20250312T121158Z
UID:10005879-1767639600-1767643200@stjamesmb.church
SUMMARY:Christian Education Team Meeting
DESCRIPTION:
URL:https://stjamesmb.church/event/christian-education-team-meeting-2025-03-17/2026-01-05
LOCATION:https://us02web.zoom.us/j/86234076370?pwd=OGExVGh3Nm1pbUR3dkRBV2lqdUxMZz09
END:VEVENT
BEGIN:VEVENT
DTSTART;TZID=UTC:20260104T100000
DTEND;TZID=UTC:20260104T120000
DTSTAMP:20260419T193935
CREATED:20220322T205018Z
LAST-MODIFIED:20220323T223541Z
UID:10005261-1767520800-1767528000@stjamesmb.church
SUMMARY:Sunday Worship Service
DESCRIPTION:
URL:https://stjamesmb.church/event/sunday-worship-service/2026-01-04
LOCATION:St. James Missionary Baptist Church\, 2200 West Madison Street\, Louisville\, KY\, 40211\, United States
END:VEVENT
BEGIN:VEVENT
DTSTART;TZID=UTC:20251230T190000
DTEND;TZID=UTC:20251230T203000
DTSTAMP:20260419T193935
CREATED:20220323T222238Z
LAST-MODIFIED:20250326T002313Z
UID:10003371-1767121200-1767126600@stjamesmb.church
SUMMARY:Church School
DESCRIPTION:
URL:https://stjamesmb.church/event/church-school-2025-03-18-2025-04-01/2025-12-30
LOCATION:Virtual
END:VEVENT
BEGIN:VEVENT
DTSTART;TZID=UTC:20251229T190000
DTEND;TZID=UTC:20251229T200000
DTSTAMP:20260419T193935
CREATED:20250112T170411Z
LAST-MODIFIED:20250312T121158Z
UID:10005878-1767034800-1767038400@stjamesmb.church
SUMMARY:Christian Education Team Meeting
DESCRIPTION:
URL:https://stjamesmb.church/event/christian-education-team-meeting-2025-03-17/2025-12-29
LOCATION:https://us02web.zoom.us/j/86234076370?pwd=OGExVGh3Nm1pbUR3dkRBV2lqdUxMZz09
END:VEVENT
BEGIN:VEVENT
DTSTART;TZID=UTC:20251228T100000
DTEND;TZID=UTC:20251228T120000
DTSTAMP:20260419T193935
CREATED:20220322T205018Z
LAST-MODIFIED:20220323T223541Z
UID:10005260-1766916000-1766923200@stjamesmb.church
SUMMARY:Sunday Worship Service
DESCRIPTION:
URL:https://stjamesmb.church/event/sunday-worship-service/2025-12-28
LOCATION:St. James Missionary Baptist Church\, 2200 West Madison Street\, Louisville\, KY\, 40211\, United States
END:VEVENT
BEGIN:VEVENT
DTSTART;TZID=UTC:20251227T120000
DTEND;TZID=UTC:20251227T140000
DTSTAMP:20260419T193935
CREATED:20250108T042140Z
LAST-MODIFIED:20250108T042140Z
UID:10003169-1766836800-1766844000@stjamesmb.church
SUMMARY:Missions Community Outreach
DESCRIPTION:
URL:https://stjamesmb.church/event/missions-community-outreach/2025-12-27
LOCATION:Ronald L. Hutchins Ministry House\, 2212 West Madison Street\, Louisville\, KY\, 40211\, United States
END:VEVENT
BEGIN:VEVENT
DTSTART;TZID=UTC:20251227T110000
DTEND;TZID=UTC:20251227T123000
DTSTAMP:20260419T193935
CREATED:20250108T043739Z
LAST-MODIFIED:20250108T043739Z
UID:10003083-1766833200-1766838600@stjamesmb.church
SUMMARY:Leadership Meeting
DESCRIPTION:
URL:https://stjamesmb.church/event/leadership-meeting/2025-12-27
LOCATION:Virtual
END:VEVENT
BEGIN:VEVENT
DTSTART;TZID=UTC:20251223T190000
DTEND;TZID=UTC:20251223T203000
DTSTAMP:20260419T193935
CREATED:20220323T222238Z
LAST-MODIFIED:20250326T002313Z
UID:10003370-1766516400-1766521800@stjamesmb.church
SUMMARY:Church School
DESCRIPTION:
URL:https://stjamesmb.church/event/church-school-2025-03-18-2025-04-01/2025-12-23
LOCATION:Virtual
END:VEVENT
BEGIN:VEVENT
DTSTART;TZID=UTC:20251222T190000
DTEND;TZID=UTC:20251222T200000
DTSTAMP:20260419T193935
CREATED:20250112T170411Z
LAST-MODIFIED:20250312T121158Z
UID:10005877-1766430000-1766433600@stjamesmb.church
SUMMARY:Christian Education Team Meeting
DESCRIPTION:
URL:https://stjamesmb.church/event/christian-education-team-meeting-2025-03-17/2025-12-22
LOCATION:https://us02web.zoom.us/j/86234076370?pwd=OGExVGh3Nm1pbUR3dkRBV2lqdUxMZz09
END:VEVENT
BEGIN:VEVENT
DTSTART;TZID=UTC:20251221T100000
DTEND;TZID=UTC:20251221T120000
DTSTAMP:20260419T193935
CREATED:20220322T205018Z
LAST-MODIFIED:20220323T223541Z
UID:10005259-1766311200-1766318400@stjamesmb.church
SUMMARY:Sunday Worship Service
DESCRIPTION:
URL:https://stjamesmb.church/event/sunday-worship-service/2025-12-21
LOCATION:St. James Missionary Baptist Church\, 2200 West Madison Street\, Louisville\, KY\, 40211\, United States
END:VEVENT
BEGIN:VEVENT
DTSTART;TZID=UTC:20251216T190000
DTEND;TZID=UTC:20251216T203000
DTSTAMP:20260419T193935
CREATED:20220323T222238Z
LAST-MODIFIED:20250326T002313Z
UID:10003369-1765911600-1765917000@stjamesmb.church
SUMMARY:Church School
DESCRIPTION:
URL:https://stjamesmb.church/event/church-school-2025-03-18-2025-04-01/2025-12-16
LOCATION:Virtual
END:VEVENT
BEGIN:VEVENT
DTSTART;TZID=UTC:20251215T190000
DTEND;TZID=UTC:20251215T200000
DTSTAMP:20260419T193935
CREATED:20250112T170411Z
LAST-MODIFIED:20250312T121158Z
UID:10005876-1765825200-1765828800@stjamesmb.church
SUMMARY:Christian Education Team Meeting
DESCRIPTION:
URL:https://stjamesmb.church/event/christian-education-team-meeting-2025-03-17/2025-12-15
LOCATION:https://us02web.zoom.us/j/86234076370?pwd=OGExVGh3Nm1pbUR3dkRBV2lqdUxMZz09
END:VEVENT
BEGIN:VEVENT
DTSTART;TZID=UTC:20251214T100000
DTEND;TZID=UTC:20251214T120000
DTSTAMP:20260419T193935
CREATED:20220322T205018Z
LAST-MODIFIED:20220323T223541Z
UID:10005258-1765706400-1765713600@stjamesmb.church
SUMMARY:Sunday Worship Service
DESCRIPTION:
URL:https://stjamesmb.church/event/sunday-worship-service/2025-12-14
LOCATION:St. James Missionary Baptist Church\, 2200 West Madison Street\, Louisville\, KY\, 40211\, United States
END:VEVENT
BEGIN:VEVENT
DTSTART;TZID=UTC:20251213T120000
DTEND;TZID=UTC:20251213T140000
DTSTAMP:20260419T193935
CREATED:20250108T042140Z
LAST-MODIFIED:20250108T042140Z
UID:10003168-1765627200-1765634400@stjamesmb.church
SUMMARY:Missions Community Outreach
DESCRIPTION:
URL:https://stjamesmb.church/event/missions-community-outreach/2025-12-13
LOCATION:Ronald L. Hutchins Ministry House\, 2212 West Madison Street\, Louisville\, KY\, 40211\, United States
END:VEVENT
BEGIN:VEVENT
DTSTART;TZID=UTC:20251209T190000
DTEND;TZID=UTC:20251209T203000
DTSTAMP:20260419T193935
CREATED:20220323T222238Z
LAST-MODIFIED:20250326T002313Z
UID:10003368-1765306800-1765312200@stjamesmb.church
SUMMARY:Church School
DESCRIPTION:
URL:https://stjamesmb.church/event/church-school-2025-03-18-2025-04-01/2025-12-09
LOCATION:Virtual
END:VEVENT
BEGIN:VEVENT
DTSTART;TZID=UTC:20251208T190000
DTEND;TZID=UTC:20251208T200000
DTSTAMP:20260419T193935
CREATED:20250112T170411Z
LAST-MODIFIED:20250312T121158Z
UID:10005875-1765220400-1765224000@stjamesmb.church
SUMMARY:Christian Education Team Meeting
DESCRIPTION:
URL:https://stjamesmb.church/event/christian-education-team-meeting-2025-03-17/2025-12-08
LOCATION:https://us02web.zoom.us/j/86234076370?pwd=OGExVGh3Nm1pbUR3dkRBV2lqdUxMZz09
END:VEVENT
BEGIN:VEVENT
DTSTART;TZID=UTC:20251207T100000
DTEND;TZID=UTC:20251207T120000
DTSTAMP:20260419T193935
CREATED:20220322T205018Z
LAST-MODIFIED:20220323T223541Z
UID:10005257-1765101600-1765108800@stjamesmb.church
SUMMARY:Sunday Worship Service
DESCRIPTION:
URL:https://stjamesmb.church/event/sunday-worship-service/2025-12-07
LOCATION:St. James Missionary Baptist Church\, 2200 West Madison Street\, Louisville\, KY\, 40211\, United States
END:VEVENT
BEGIN:VEVENT
DTSTART;TZID=UTC:20251202T190000
DTEND;TZID=UTC:20251202T203000
DTSTAMP:20260419T193935
CREATED:20220323T222238Z
LAST-MODIFIED:20250326T002313Z
UID:10003367-1764702000-1764707400@stjamesmb.church
SUMMARY:Church School
DESCRIPTION:
URL:https://stjamesmb.church/event/church-school-2025-03-18-2025-04-01/2025-12-02
LOCATION:Virtual
END:VEVENT
BEGIN:VEVENT
DTSTART;TZID=UTC:20251201T190000
DTEND;TZID=UTC:20251201T200000
DTSTAMP:20260419T193935
CREATED:20250112T170411Z
LAST-MODIFIED:20250312T121158Z
UID:10005874-1764615600-1764619200@stjamesmb.church
SUMMARY:Christian Education Team Meeting
DESCRIPTION:
URL:https://stjamesmb.church/event/christian-education-team-meeting-2025-03-17/2025-12-01
LOCATION:https://us02web.zoom.us/j/86234076370?pwd=OGExVGh3Nm1pbUR3dkRBV2lqdUxMZz09
END:VEVENT
BEGIN:VEVENT
DTSTART;TZID=UTC:20251130T100000
DTEND;TZID=UTC:20251130T120000
DTSTAMP:20260419T193935
CREATED:20220322T205018Z
LAST-MODIFIED:20220323T223541Z
UID:10005256-1764496800-1764504000@stjamesmb.church
SUMMARY:Sunday Worship Service
DESCRIPTION:
URL:https://stjamesmb.church/event/sunday-worship-service/2025-11-30
LOCATION:St. James Missionary Baptist Church\, 2200 West Madison Street\, Louisville\, KY\, 40211\, United States
END:VEVENT
BEGIN:VEVENT
DTSTART;TZID=UTC:20251129T120000
DTEND;TZID=UTC:20251129T140000
DTSTAMP:20260419T193935
CREATED:20250108T042140Z
LAST-MODIFIED:20250108T042140Z
UID:10003167-1764417600-1764424800@stjamesmb.church
SUMMARY:Missions Community Outreach
DESCRIPTION:
URL:https://stjamesmb.church/event/missions-community-outreach/2025-11-29
LOCATION:Ronald L. Hutchins Ministry House\, 2212 West Madison Street\, Louisville\, KY\, 40211\, United States
END:VEVENT
BEGIN:VEVENT
DTSTART;TZID=UTC:20251125T190000
DTEND;TZID=UTC:20251125T203000
DTSTAMP:20260419T193935
CREATED:20220323T222238Z
LAST-MODIFIED:20250326T002313Z
UID:10003366-1764097200-1764102600@stjamesmb.church
SUMMARY:Church School
DESCRIPTION:
URL:https://stjamesmb.church/event/church-school-2025-03-18-2025-04-01/2025-11-25
LOCATION:Virtual
END:VEVENT
BEGIN:VEVENT
DTSTART;TZID=UTC:20251124T190000
DTEND;TZID=UTC:20251124T200000
DTSTAMP:20260419T193935
CREATED:20250112T170411Z
LAST-MODIFIED:20250312T121158Z
UID:10005873-1764010800-1764014400@stjamesmb.church
SUMMARY:Christian Education Team Meeting
DESCRIPTION:
URL:https://stjamesmb.church/event/christian-education-team-meeting-2025-03-17/2025-11-24
LOCATION:https://us02web.zoom.us/j/86234076370?pwd=OGExVGh3Nm1pbUR3dkRBV2lqdUxMZz09
END:VEVENT
BEGIN:VEVENT
DTSTART;TZID=UTC:20251123T100000
DTEND;TZID=UTC:20251123T120000
DTSTAMP:20260419T193935
CREATED:20220322T205018Z
LAST-MODIFIED:20220323T223541Z
UID:10005255-1763892000-1763899200@stjamesmb.church
SUMMARY:Sunday Worship Service
DESCRIPTION:
URL:https://stjamesmb.church/event/sunday-worship-service/2025-11-23
LOCATION:St. James Missionary Baptist Church\, 2200 West Madison Street\, Louisville\, KY\, 40211\, United States
END:VEVENT
BEGIN:VEVENT
DTSTART;TZID=UTC:20251122T110000
DTEND;TZID=UTC:20251122T123000
DTSTAMP:20260419T193935
CREATED:20250108T043739Z
LAST-MODIFIED:20250108T043739Z
UID:10003082-1763809200-1763814600@stjamesmb.church
SUMMARY:Leadership Meeting
DESCRIPTION:
URL:https://stjamesmb.church/event/leadership-meeting/2025-11-22
LOCATION:Virtual
END:VEVENT
BEGIN:VEVENT
DTSTART;TZID=UTC:20251118T190000
DTEND;TZID=UTC:20251118T203000
DTSTAMP:20260419T193935
CREATED:20220323T222238Z
LAST-MODIFIED:20250326T002313Z
UID:10003365-1763492400-1763497800@stjamesmb.church
SUMMARY:Church School
DESCRIPTION:
URL:https://stjamesmb.church/event/church-school-2025-03-18-2025-04-01/2025-11-18
LOCATION:Virtual
END:VEVENT
BEGIN:VEVENT
DTSTART;TZID=UTC:20251117T190000
DTEND;TZID=UTC:20251117T200000
DTSTAMP:20260419T193935
CREATED:20250112T170411Z
LAST-MODIFIED:20250312T121158Z
UID:10005872-1763406000-1763409600@stjamesmb.church
SUMMARY:Christian Education Team Meeting
DESCRIPTION:
URL:https://stjamesmb.church/event/christian-education-team-meeting-2025-03-17/2025-11-17
LOCATION:https://us02web.zoom.us/j/86234076370?pwd=OGExVGh3Nm1pbUR3dkRBV2lqdUxMZz09
END:VEVENT
BEGIN:VEVENT
DTSTART;TZID=UTC:20251116T100000
DTEND;TZID=UTC:20251116T120000
DTSTAMP:20260419T193935
CREATED:20220322T205018Z
LAST-MODIFIED:20220323T223541Z
UID:10005254-1763287200-1763294400@stjamesmb.church
SUMMARY:Sunday Worship Service
DESCRIPTION:
URL:https://stjamesmb.church/event/sunday-worship-service/2025-11-16
LOCATION:St. James Missionary Baptist Church\, 2200 West Madison Street\, Louisville\, KY\, 40211\, United States
END:VEVENT
END:VCALENDAR