BEGIN:VCALENDAR
VERSION:2.0
PRODID:-//St James Missionary Baptist Church - ECPv6.15.18//NONSGML v1.0//EN
CALSCALE:GREGORIAN
METHOD:PUBLISH
X-ORIGINAL-URL:https://stjamesmb.church
X-WR-CALDESC:Events for St James Missionary Baptist Church
REFRESH-INTERVAL;VALUE=DURATION:PT1H
X-Robots-Tag:noindex
X-PUBLISHED-TTL:PT1H
BEGIN:VTIMEZONE
TZID:UTC
BEGIN:STANDARD
TZOFFSETFROM:+0000
TZOFFSETTO:+0000
TZNAME:UTC
DTSTART:20260101T000000
END:STANDARD
END:VTIMEZONE
BEGIN:VEVENT
DTSTART;TZID=UTC:20270106T190000
DTEND;TZID=UTC:20270106T203000
DTSTAMP:20260420T180303
CREATED:20220323T221855Z
LAST-MODIFIED:20260106T003402Z
UID:10004855-1799262000-1799267400@stjamesmb.church
SUMMARY:Prayer\, Praise & Bible Study
DESCRIPTION:
URL:https://stjamesmb.church/event/bible-study/2027-01-06
LOCATION:Virtual
END:VEVENT
BEGIN:VEVENT
DTSTART;TZID=UTC:20270109T120000
DTEND;TZID=UTC:20270109T140000
DTSTAMP:20260420T180303
CREATED:20250108T042140Z
LAST-MODIFIED:20250108T042140Z
UID:10003196-1799496000-1799503200@stjamesmb.church
SUMMARY:Missions Community Outreach
DESCRIPTION:
URL:https://stjamesmb.church/event/missions-community-outreach/2027-01-09
LOCATION:Ronald L. Hutchins Ministry House\, 2212 West Madison Street\, Louisville\, KY\, 40211\, United States
END:VEVENT
BEGIN:VEVENT
DTSTART;TZID=UTC:20270110T100000
DTEND;TZID=UTC:20270110T120000
DTSTAMP:20260420T180303
CREATED:20220322T205018Z
LAST-MODIFIED:20220323T223541Z
UID:10005314-1799575200-1799582400@stjamesmb.church
SUMMARY:Sunday Worship Service
DESCRIPTION:
URL:https://stjamesmb.church/event/sunday-worship-service/2027-01-10
LOCATION:St. James Missionary Baptist Church\, 2200 West Madison Street\, Louisville\, KY\, 40211\, United States
END:VEVENT
BEGIN:VEVENT
DTSTART;TZID=UTC:20270111T190000
DTEND;TZID=UTC:20270111T200000
DTSTAMP:20260420T180303
CREATED:20250112T170411Z
LAST-MODIFIED:20250312T121158Z
UID:10005932-1799694000-1799697600@stjamesmb.church
SUMMARY:Christian Education Team Meeting
DESCRIPTION:
URL:https://stjamesmb.church/event/christian-education-team-meeting-2025-03-17/2027-01-11
LOCATION:https://us02web.zoom.us/j/86234076370?pwd=OGExVGh3Nm1pbUR3dkRBV2lqdUxMZz09
END:VEVENT
BEGIN:VEVENT
DTSTART;TZID=UTC:20270112T190000
DTEND;TZID=UTC:20270112T203000
DTSTAMP:20260420T180303
CREATED:20220323T222238Z
LAST-MODIFIED:20250326T002313Z
UID:10003425-1799780400-1799785800@stjamesmb.church
SUMMARY:Church School
DESCRIPTION:
URL:https://stjamesmb.church/event/church-school-2025-03-18-2025-04-01/2027-01-12
LOCATION:Virtual
END:VEVENT
BEGIN:VEVENT
DTSTART;TZID=UTC:20270113T190000
DTEND;TZID=UTC:20270113T203000
DTSTAMP:20260420T180303
CREATED:20220323T221855Z
LAST-MODIFIED:20260106T003402Z
UID:10004856-1799866800-1799872200@stjamesmb.church
SUMMARY:Prayer\, Praise & Bible Study
DESCRIPTION:
URL:https://stjamesmb.church/event/bible-study/2027-01-13
LOCATION:Virtual
END:VEVENT
BEGIN:VEVENT
DTSTART;TZID=UTC:20270117T100000
DTEND;TZID=UTC:20270117T120000
DTSTAMP:20260420T180303
CREATED:20220322T205018Z
LAST-MODIFIED:20220323T223541Z
UID:10005315-1800180000-1800187200@stjamesmb.church
SUMMARY:Sunday Worship Service
DESCRIPTION:
URL:https://stjamesmb.church/event/sunday-worship-service/2027-01-17
LOCATION:St. James Missionary Baptist Church\, 2200 West Madison Street\, Louisville\, KY\, 40211\, United States
END:VEVENT
BEGIN:VEVENT
DTSTART;TZID=UTC:20270117T120000
DTEND;TZID=UTC:20300319T150000
DTSTAMP:20260420T180303
CREATED:20260217T022922Z
LAST-MODIFIED:20260217T022922Z
UID:10004297-1800187200-1900162800@stjamesmb.church
SUMMARY:Eden Marriage Ministry
DESCRIPTION:
URL:https://stjamesmb.church/event/eden-marriage-ministry-2/2027-01-17
LOCATION:St. James Missionary Baptist Church\, 2200 West Madison Street\, Louisville\, KY\, 40211\, United States
END:VEVENT
BEGIN:VEVENT
DTSTART;TZID=UTC:20270118T190000
DTEND;TZID=UTC:20270118T200000
DTSTAMP:20260420T180303
CREATED:20250112T170411Z
LAST-MODIFIED:20250312T121158Z
UID:10005933-1800298800-1800302400@stjamesmb.church
SUMMARY:Christian Education Team Meeting
DESCRIPTION:
URL:https://stjamesmb.church/event/christian-education-team-meeting-2025-03-17/2027-01-18
LOCATION:https://us02web.zoom.us/j/86234076370?pwd=OGExVGh3Nm1pbUR3dkRBV2lqdUxMZz09
END:VEVENT
BEGIN:VEVENT
DTSTART;TZID=UTC:20270119T190000
DTEND;TZID=UTC:20270119T203000
DTSTAMP:20260420T180303
CREATED:20220323T222238Z
LAST-MODIFIED:20250326T002313Z
UID:10003426-1800385200-1800390600@stjamesmb.church
SUMMARY:Church School
DESCRIPTION:
URL:https://stjamesmb.church/event/church-school-2025-03-18-2025-04-01/2027-01-19
LOCATION:Virtual
END:VEVENT
BEGIN:VEVENT
DTSTART;TZID=UTC:20270120T190000
DTEND;TZID=UTC:20270120T203000
DTSTAMP:20260420T180303
CREATED:20220323T221855Z
LAST-MODIFIED:20260106T003402Z
UID:10004857-1800471600-1800477000@stjamesmb.church
SUMMARY:Prayer\, Praise & Bible Study
DESCRIPTION:
URL:https://stjamesmb.church/event/bible-study/2027-01-20
LOCATION:Virtual
END:VEVENT
BEGIN:VEVENT
DTSTART;TZID=UTC:20270123T110000
DTEND;TZID=UTC:20270123T123000
DTSTAMP:20260420T180303
CREATED:20250108T043739Z
LAST-MODIFIED:20250108T043739Z
UID:10003096-1800702000-1800707400@stjamesmb.church
SUMMARY:Leadership Meeting
DESCRIPTION:
URL:https://stjamesmb.church/event/leadership-meeting/2027-01-23
LOCATION:Virtual
END:VEVENT
BEGIN:VEVENT
DTSTART;TZID=UTC:20270123T120000
DTEND;TZID=UTC:20270123T140000
DTSTAMP:20260420T180303
CREATED:20250108T042140Z
LAST-MODIFIED:20250108T042140Z
UID:10003197-1800705600-1800712800@stjamesmb.church
SUMMARY:Missions Community Outreach
DESCRIPTION:
URL:https://stjamesmb.church/event/missions-community-outreach/2027-01-23
LOCATION:Ronald L. Hutchins Ministry House\, 2212 West Madison Street\, Louisville\, KY\, 40211\, United States
END:VEVENT
BEGIN:VEVENT
DTSTART;TZID=UTC:20270124T100000
DTEND;TZID=UTC:20270124T120000
DTSTAMP:20260420T180303
CREATED:20220322T205018Z
LAST-MODIFIED:20220323T223541Z
UID:10005316-1800784800-1800792000@stjamesmb.church
SUMMARY:Sunday Worship Service
DESCRIPTION:
URL:https://stjamesmb.church/event/sunday-worship-service/2027-01-24
LOCATION:St. James Missionary Baptist Church\, 2200 West Madison Street\, Louisville\, KY\, 40211\, United States
END:VEVENT
BEGIN:VEVENT
DTSTART;TZID=UTC:20270125T190000
DTEND;TZID=UTC:20270125T200000
DTSTAMP:20260420T180303
CREATED:20250112T170411Z
LAST-MODIFIED:20250312T121158Z
UID:10005934-1800903600-1800907200@stjamesmb.church
SUMMARY:Christian Education Team Meeting
DESCRIPTION:
URL:https://stjamesmb.church/event/christian-education-team-meeting-2025-03-17/2027-01-25
LOCATION:https://us02web.zoom.us/j/86234076370?pwd=OGExVGh3Nm1pbUR3dkRBV2lqdUxMZz09
END:VEVENT
BEGIN:VEVENT
DTSTART;TZID=UTC:20270126T190000
DTEND;TZID=UTC:20270126T203000
DTSTAMP:20260420T180303
CREATED:20220323T222238Z
LAST-MODIFIED:20250326T002313Z
UID:10003427-1800990000-1800995400@stjamesmb.church
SUMMARY:Church School
DESCRIPTION:
URL:https://stjamesmb.church/event/church-school-2025-03-18-2025-04-01/2027-01-26
LOCATION:Virtual
END:VEVENT
BEGIN:VEVENT
DTSTART;TZID=UTC:20270127T190000
DTEND;TZID=UTC:20270127T203000
DTSTAMP:20260420T180303
CREATED:20220323T221855Z
LAST-MODIFIED:20260106T003402Z
UID:10004858-1801076400-1801081800@stjamesmb.church
SUMMARY:Prayer\, Praise & Bible Study
DESCRIPTION:
URL:https://stjamesmb.church/event/bible-study/2027-01-27
LOCATION:Virtual
END:VEVENT
BEGIN:VEVENT
DTSTART;TZID=UTC:20270131T100000
DTEND;TZID=UTC:20270131T120000
DTSTAMP:20260420T180303
CREATED:20220322T205018Z
LAST-MODIFIED:20220323T223541Z
UID:10005317-1801389600-1801396800@stjamesmb.church
SUMMARY:Sunday Worship Service
DESCRIPTION:
URL:https://stjamesmb.church/event/sunday-worship-service/2027-01-31
LOCATION:St. James Missionary Baptist Church\, 2200 West Madison Street\, Louisville\, KY\, 40211\, United States
END:VEVENT
BEGIN:VEVENT
DTSTART;TZID=UTC:20270201T190000
DTEND;TZID=UTC:20270201T200000
DTSTAMP:20260420T180303
CREATED:20250112T170411Z
LAST-MODIFIED:20250312T121158Z
UID:10005935-1801508400-1801512000@stjamesmb.church
SUMMARY:Christian Education Team Meeting
DESCRIPTION:
URL:https://stjamesmb.church/event/christian-education-team-meeting-2025-03-17/2027-02-01
LOCATION:https://us02web.zoom.us/j/86234076370?pwd=OGExVGh3Nm1pbUR3dkRBV2lqdUxMZz09
END:VEVENT
BEGIN:VEVENT
DTSTART;TZID=UTC:20270202T190000
DTEND;TZID=UTC:20270202T203000
DTSTAMP:20260420T180303
CREATED:20220323T222238Z
LAST-MODIFIED:20250326T002313Z
UID:10003428-1801594800-1801600200@stjamesmb.church
SUMMARY:Church School
DESCRIPTION:
URL:https://stjamesmb.church/event/church-school-2025-03-18-2025-04-01/2027-02-02
LOCATION:Virtual
END:VEVENT
BEGIN:VEVENT
DTSTART;TZID=UTC:20270203T190000
DTEND;TZID=UTC:20270203T203000
DTSTAMP:20260420T180303
CREATED:20220323T221855Z
LAST-MODIFIED:20260106T003402Z
UID:10004859-1801681200-1801686600@stjamesmb.church
SUMMARY:Prayer\, Praise & Bible Study
DESCRIPTION:
URL:https://stjamesmb.church/event/bible-study/2027-02-03
LOCATION:Virtual
END:VEVENT
BEGIN:VEVENT
DTSTART;TZID=UTC:20270206T120000
DTEND;TZID=UTC:20270206T140000
DTSTAMP:20260420T180303
CREATED:20250108T042140Z
LAST-MODIFIED:20250108T042140Z
UID:10003198-1801915200-1801922400@stjamesmb.church
SUMMARY:Missions Community Outreach
DESCRIPTION:
URL:https://stjamesmb.church/event/missions-community-outreach/2027-02-06
LOCATION:Ronald L. Hutchins Ministry House\, 2212 West Madison Street\, Louisville\, KY\, 40211\, United States
END:VEVENT
BEGIN:VEVENT
DTSTART;TZID=UTC:20270207T100000
DTEND;TZID=UTC:20270207T120000
DTSTAMP:20260420T180303
CREATED:20220322T205018Z
LAST-MODIFIED:20220323T223541Z
UID:10005318-1801994400-1802001600@stjamesmb.church
SUMMARY:Sunday Worship Service
DESCRIPTION:
URL:https://stjamesmb.church/event/sunday-worship-service/2027-02-07
LOCATION:St. James Missionary Baptist Church\, 2200 West Madison Street\, Louisville\, KY\, 40211\, United States
END:VEVENT
BEGIN:VEVENT
DTSTART;TZID=UTC:20270208T190000
DTEND;TZID=UTC:20270208T200000
DTSTAMP:20260420T180303
CREATED:20250112T170411Z
LAST-MODIFIED:20250312T121158Z
UID:10005936-1802113200-1802116800@stjamesmb.church
SUMMARY:Christian Education Team Meeting
DESCRIPTION:
URL:https://stjamesmb.church/event/christian-education-team-meeting-2025-03-17/2027-02-08
LOCATION:https://us02web.zoom.us/j/86234076370?pwd=OGExVGh3Nm1pbUR3dkRBV2lqdUxMZz09
END:VEVENT
BEGIN:VEVENT
DTSTART;TZID=UTC:20270209T190000
DTEND;TZID=UTC:20270209T203000
DTSTAMP:20260420T180303
CREATED:20220323T222238Z
LAST-MODIFIED:20250326T002313Z
UID:10003429-1802199600-1802205000@stjamesmb.church
SUMMARY:Church School
DESCRIPTION:
URL:https://stjamesmb.church/event/church-school-2025-03-18-2025-04-01/2027-02-09
LOCATION:Virtual
END:VEVENT
BEGIN:VEVENT
DTSTART;TZID=UTC:20270210T190000
DTEND;TZID=UTC:20270210T203000
DTSTAMP:20260420T180303
CREATED:20220323T221855Z
LAST-MODIFIED:20260106T003402Z
UID:10004860-1802286000-1802291400@stjamesmb.church
SUMMARY:Prayer\, Praise & Bible Study
DESCRIPTION:
URL:https://stjamesmb.church/event/bible-study/2027-02-10
LOCATION:Virtual
END:VEVENT
BEGIN:VEVENT
DTSTART;TZID=UTC:20270214T100000
DTEND;TZID=UTC:20270214T120000
DTSTAMP:20260420T180303
CREATED:20220322T205018Z
LAST-MODIFIED:20220323T223541Z
UID:10005319-1802599200-1802606400@stjamesmb.church
SUMMARY:Sunday Worship Service
DESCRIPTION:
URL:https://stjamesmb.church/event/sunday-worship-service/2027-02-14
LOCATION:St. James Missionary Baptist Church\, 2200 West Madison Street\, Louisville\, KY\, 40211\, United States
END:VEVENT
BEGIN:VEVENT
DTSTART;TZID=UTC:20270215T190000
DTEND;TZID=UTC:20270215T200000
DTSTAMP:20260420T180303
CREATED:20250112T170411Z
LAST-MODIFIED:20250312T121158Z
UID:10005937-1802718000-1802721600@stjamesmb.church
SUMMARY:Christian Education Team Meeting
DESCRIPTION:
URL:https://stjamesmb.church/event/christian-education-team-meeting-2025-03-17/2027-02-15
LOCATION:https://us02web.zoom.us/j/86234076370?pwd=OGExVGh3Nm1pbUR3dkRBV2lqdUxMZz09
END:VEVENT
BEGIN:VEVENT
DTSTART;TZID=UTC:20270216T190000
DTEND;TZID=UTC:20270216T203000
DTSTAMP:20260420T180303
CREATED:20220323T222238Z
LAST-MODIFIED:20250326T002313Z
UID:10003430-1802804400-1802809800@stjamesmb.church
SUMMARY:Church School
DESCRIPTION:
URL:https://stjamesmb.church/event/church-school-2025-03-18-2025-04-01/2027-02-16
LOCATION:Virtual
END:VEVENT
BEGIN:VEVENT
DTSTART;TZID=UTC:20270217T190000
DTEND;TZID=UTC:20270217T203000
DTSTAMP:20260420T180303
CREATED:20220323T221855Z
LAST-MODIFIED:20260106T003402Z
UID:10004861-1802890800-1802896200@stjamesmb.church
SUMMARY:Prayer\, Praise & Bible Study
DESCRIPTION:
URL:https://stjamesmb.church/event/bible-study/2027-02-17
LOCATION:Virtual
END:VEVENT
END:VCALENDAR