BEGIN:VCALENDAR
VERSION:2.0
PRODID:-//St James Missionary Baptist Church - ECPv6.15.18//NONSGML v1.0//EN
CALSCALE:GREGORIAN
METHOD:PUBLISH
X-WR-CALNAME:St James Missionary Baptist Church
X-ORIGINAL-URL:https://stjamesmb.church
X-WR-CALDESC:Events for St James Missionary Baptist Church
REFRESH-INTERVAL;VALUE=DURATION:PT1H
X-Robots-Tag:noindex
X-PUBLISHED-TTL:PT1H
BEGIN:VTIMEZONE
TZID:UTC
BEGIN:STANDARD
TZOFFSETFROM:+0000
TZOFFSETTO:+0000
TZNAME:UTC
DTSTART:20260101T000000
END:STANDARD
END:VTIMEZONE
BEGIN:VEVENT
DTSTART;TZID=UTC:20271107T100000
DTEND;TZID=UTC:20271107T120000
DTSTAMP:20260424T050717
CREATED:20220322T205018Z
LAST-MODIFIED:20220323T223541Z
UID:10005357-1825581600-1825588800@stjamesmb.church
SUMMARY:Sunday Worship Service
DESCRIPTION:
URL:https://stjamesmb.church/event/sunday-worship-service/2027-11-07
LOCATION:St. James Missionary Baptist Church\, 2200 West Madison Street\, Louisville\, KY\, 40211\, United States
END:VEVENT
BEGIN:VEVENT
DTSTART;TZID=UTC:20271108T190000
DTEND;TZID=UTC:20271108T200000
DTSTAMP:20260424T050717
CREATED:20250112T170411Z
LAST-MODIFIED:20250312T121158Z
UID:10005975-1825700400-1825704000@stjamesmb.church
SUMMARY:Christian Education Team Meeting
DESCRIPTION:
URL:https://stjamesmb.church/event/christian-education-team-meeting-2025-03-17/2027-11-08
LOCATION:https://us02web.zoom.us/j/86234076370?pwd=OGExVGh3Nm1pbUR3dkRBV2lqdUxMZz09
END:VEVENT
BEGIN:VEVENT
DTSTART;TZID=UTC:20271109T190000
DTEND;TZID=UTC:20271109T203000
DTSTAMP:20260424T050717
CREATED:20220323T222238Z
LAST-MODIFIED:20250326T002313Z
UID:10003468-1825786800-1825792200@stjamesmb.church
SUMMARY:Church School
DESCRIPTION:
URL:https://stjamesmb.church/event/church-school-2025-03-18-2025-04-01/2027-11-09
LOCATION:Virtual
END:VEVENT
BEGIN:VEVENT
DTSTART;TZID=UTC:20271110T190000
DTEND;TZID=UTC:20271110T203000
DTSTAMP:20260424T050717
CREATED:20220323T221855Z
LAST-MODIFIED:20260106T003402Z
UID:10004899-1825873200-1825878600@stjamesmb.church
SUMMARY:Prayer\, Praise & Bible Study
DESCRIPTION:
URL:https://stjamesmb.church/event/bible-study/2027-11-10
LOCATION:Virtual
END:VEVENT
BEGIN:VEVENT
DTSTART;TZID=UTC:20271113T120000
DTEND;TZID=UTC:20271113T140000
DTSTAMP:20260424T050717
CREATED:20250108T042140Z
LAST-MODIFIED:20250108T042140Z
UID:10003218-1826107200-1826114400@stjamesmb.church
SUMMARY:Missions Community Outreach
DESCRIPTION:
URL:https://stjamesmb.church/event/missions-community-outreach/2027-11-13
LOCATION:Ronald L. Hutchins Ministry House\, 2212 West Madison Street\, Louisville\, KY\, 40211\, United States
END:VEVENT
BEGIN:VEVENT
DTSTART;TZID=UTC:20271114T100000
DTEND;TZID=UTC:20271114T120000
DTSTAMP:20260424T050717
CREATED:20220322T205018Z
LAST-MODIFIED:20220323T223541Z
UID:10005358-1826186400-1826193600@stjamesmb.church
SUMMARY:Sunday Worship Service
DESCRIPTION:
URL:https://stjamesmb.church/event/sunday-worship-service/2027-11-14
LOCATION:St. James Missionary Baptist Church\, 2200 West Madison Street\, Louisville\, KY\, 40211\, United States
END:VEVENT
BEGIN:VEVENT
DTSTART;TZID=UTC:20271115T190000
DTEND;TZID=UTC:20271115T200000
DTSTAMP:20260424T050717
CREATED:20250112T170411Z
LAST-MODIFIED:20250312T121158Z
UID:10005976-1826305200-1826308800@stjamesmb.church
SUMMARY:Christian Education Team Meeting
DESCRIPTION:
URL:https://stjamesmb.church/event/christian-education-team-meeting-2025-03-17/2027-11-15
LOCATION:https://us02web.zoom.us/j/86234076370?pwd=OGExVGh3Nm1pbUR3dkRBV2lqdUxMZz09
END:VEVENT
BEGIN:VEVENT
DTSTART;TZID=UTC:20271116T190000
DTEND;TZID=UTC:20271116T203000
DTSTAMP:20260424T050717
CREATED:20220323T222238Z
LAST-MODIFIED:20250326T002313Z
UID:10003469-1826391600-1826397000@stjamesmb.church
SUMMARY:Church School
DESCRIPTION:
URL:https://stjamesmb.church/event/church-school-2025-03-18-2025-04-01/2027-11-16
LOCATION:Virtual
END:VEVENT
BEGIN:VEVENT
DTSTART;TZID=UTC:20271117T190000
DTEND;TZID=UTC:20271117T203000
DTSTAMP:20260424T050717
CREATED:20220323T221855Z
LAST-MODIFIED:20260106T003402Z
UID:10004900-1826478000-1826483400@stjamesmb.church
SUMMARY:Prayer\, Praise & Bible Study
DESCRIPTION:
URL:https://stjamesmb.church/event/bible-study/2027-11-17
LOCATION:Virtual
END:VEVENT
BEGIN:VEVENT
DTSTART;TZID=UTC:20271121T100000
DTEND;TZID=UTC:20271121T120000
DTSTAMP:20260424T050717
CREATED:20220322T205018Z
LAST-MODIFIED:20220323T223541Z
UID:10005359-1826791200-1826798400@stjamesmb.church
SUMMARY:Sunday Worship Service
DESCRIPTION:
URL:https://stjamesmb.church/event/sunday-worship-service/2027-11-21
LOCATION:St. James Missionary Baptist Church\, 2200 West Madison Street\, Louisville\, KY\, 40211\, United States
END:VEVENT
BEGIN:VEVENT
DTSTART;TZID=UTC:20271121T120000
DTEND;TZID=UTC:20310121T150000
DTSTAMP:20260424T050717
CREATED:20260217T022922Z
LAST-MODIFIED:20260217T022922Z
UID:10004307-1826798400-1926774000@stjamesmb.church
SUMMARY:Eden Marriage Ministry
DESCRIPTION:
URL:https://stjamesmb.church/event/eden-marriage-ministry-2/2027-11-21
LOCATION:St. James Missionary Baptist Church\, 2200 West Madison Street\, Louisville\, KY\, 40211\, United States
END:VEVENT
BEGIN:VEVENT
DTSTART;TZID=UTC:20271122T190000
DTEND;TZID=UTC:20271122T200000
DTSTAMP:20260424T050717
CREATED:20250112T170411Z
LAST-MODIFIED:20250312T121158Z
UID:10005977-1826910000-1826913600@stjamesmb.church
SUMMARY:Christian Education Team Meeting
DESCRIPTION:
URL:https://stjamesmb.church/event/christian-education-team-meeting-2025-03-17/2027-11-22
LOCATION:https://us02web.zoom.us/j/86234076370?pwd=OGExVGh3Nm1pbUR3dkRBV2lqdUxMZz09
END:VEVENT
BEGIN:VEVENT
DTSTART;TZID=UTC:20271123T190000
DTEND;TZID=UTC:20271123T203000
DTSTAMP:20260424T050718
CREATED:20220323T222238Z
LAST-MODIFIED:20250326T002313Z
UID:10003470-1826996400-1827001800@stjamesmb.church
SUMMARY:Church School
DESCRIPTION:
URL:https://stjamesmb.church/event/church-school-2025-03-18-2025-04-01/2027-11-23
LOCATION:Virtual
END:VEVENT
BEGIN:VEVENT
DTSTART;TZID=UTC:20271124T190000
DTEND;TZID=UTC:20271124T203000
DTSTAMP:20260424T050718
CREATED:20220323T221855Z
LAST-MODIFIED:20260106T003402Z
UID:10004901-1827082800-1827088200@stjamesmb.church
SUMMARY:Prayer\, Praise & Bible Study
DESCRIPTION:
URL:https://stjamesmb.church/event/bible-study/2027-11-24
LOCATION:Virtual
END:VEVENT
BEGIN:VEVENT
DTSTART;TZID=UTC:20271127T110000
DTEND;TZID=UTC:20271127T123000
DTSTAMP:20260424T050718
CREATED:20250108T043739Z
LAST-MODIFIED:20250108T043739Z
UID:10003106-1827313200-1827318600@stjamesmb.church
SUMMARY:Leadership Meeting
DESCRIPTION:
URL:https://stjamesmb.church/event/leadership-meeting/2027-11-27
LOCATION:Virtual
END:VEVENT
BEGIN:VEVENT
DTSTART;TZID=UTC:20271127T120000
DTEND;TZID=UTC:20271127T140000
DTSTAMP:20260424T050718
CREATED:20250108T042140Z
LAST-MODIFIED:20250108T042140Z
UID:10003219-1827316800-1827324000@stjamesmb.church
SUMMARY:Missions Community Outreach
DESCRIPTION:
URL:https://stjamesmb.church/event/missions-community-outreach/2027-11-27
LOCATION:Ronald L. Hutchins Ministry House\, 2212 West Madison Street\, Louisville\, KY\, 40211\, United States
END:VEVENT
BEGIN:VEVENT
DTSTART;TZID=UTC:20271128T100000
DTEND;TZID=UTC:20271128T120000
DTSTAMP:20260424T050718
CREATED:20220322T205018Z
LAST-MODIFIED:20220323T223541Z
UID:10005360-1827396000-1827403200@stjamesmb.church
SUMMARY:Sunday Worship Service
DESCRIPTION:
URL:https://stjamesmb.church/event/sunday-worship-service/2027-11-28
LOCATION:St. James Missionary Baptist Church\, 2200 West Madison Street\, Louisville\, KY\, 40211\, United States
END:VEVENT
BEGIN:VEVENT
DTSTART;TZID=UTC:20271129T190000
DTEND;TZID=UTC:20271129T200000
DTSTAMP:20260424T050718
CREATED:20250112T170411Z
LAST-MODIFIED:20250312T121158Z
UID:10005978-1827514800-1827518400@stjamesmb.church
SUMMARY:Christian Education Team Meeting
DESCRIPTION:
URL:https://stjamesmb.church/event/christian-education-team-meeting-2025-03-17/2027-11-29
LOCATION:https://us02web.zoom.us/j/86234076370?pwd=OGExVGh3Nm1pbUR3dkRBV2lqdUxMZz09
END:VEVENT
BEGIN:VEVENT
DTSTART;TZID=UTC:20271130T190000
DTEND;TZID=UTC:20271130T203000
DTSTAMP:20260424T050718
CREATED:20220323T222238Z
LAST-MODIFIED:20250326T002313Z
UID:10003471-1827601200-1827606600@stjamesmb.church
SUMMARY:Church School
DESCRIPTION:
URL:https://stjamesmb.church/event/church-school-2025-03-18-2025-04-01/2027-11-30
LOCATION:Virtual
END:VEVENT
BEGIN:VEVENT
DTSTART;TZID=UTC:20271201T190000
DTEND;TZID=UTC:20271201T203000
DTSTAMP:20260424T050718
CREATED:20220323T221855Z
LAST-MODIFIED:20260106T003402Z
UID:10004902-1827687600-1827693000@stjamesmb.church
SUMMARY:Prayer\, Praise & Bible Study
DESCRIPTION:
URL:https://stjamesmb.church/event/bible-study/2027-12-01
LOCATION:Virtual
END:VEVENT
BEGIN:VEVENT
DTSTART;TZID=UTC:20271205T100000
DTEND;TZID=UTC:20271205T120000
DTSTAMP:20260424T050718
CREATED:20220322T205018Z
LAST-MODIFIED:20220323T223541Z
UID:10005361-1828000800-1828008000@stjamesmb.church
SUMMARY:Sunday Worship Service
DESCRIPTION:
URL:https://stjamesmb.church/event/sunday-worship-service/2027-12-05
LOCATION:St. James Missionary Baptist Church\, 2200 West Madison Street\, Louisville\, KY\, 40211\, United States
END:VEVENT
BEGIN:VEVENT
DTSTART;TZID=UTC:20271206T190000
DTEND;TZID=UTC:20271206T200000
DTSTAMP:20260424T050718
CREATED:20250112T170411Z
LAST-MODIFIED:20250312T121158Z
UID:10005979-1828119600-1828123200@stjamesmb.church
SUMMARY:Christian Education Team Meeting
DESCRIPTION:
URL:https://stjamesmb.church/event/christian-education-team-meeting-2025-03-17/2027-12-06
LOCATION:https://us02web.zoom.us/j/86234076370?pwd=OGExVGh3Nm1pbUR3dkRBV2lqdUxMZz09
END:VEVENT
BEGIN:VEVENT
DTSTART;TZID=UTC:20271207T190000
DTEND;TZID=UTC:20271207T203000
DTSTAMP:20260424T050718
CREATED:20220323T222238Z
LAST-MODIFIED:20250326T002313Z
UID:10003472-1828206000-1828211400@stjamesmb.church
SUMMARY:Church School
DESCRIPTION:
URL:https://stjamesmb.church/event/church-school-2025-03-18-2025-04-01/2027-12-07
LOCATION:Virtual
END:VEVENT
BEGIN:VEVENT
DTSTART;TZID=UTC:20271208T190000
DTEND;TZID=UTC:20271208T203000
DTSTAMP:20260424T050718
CREATED:20220323T221855Z
LAST-MODIFIED:20260106T003402Z
UID:10004903-1828292400-1828297800@stjamesmb.church
SUMMARY:Prayer\, Praise & Bible Study
DESCRIPTION:
URL:https://stjamesmb.church/event/bible-study/2027-12-08
LOCATION:Virtual
END:VEVENT
BEGIN:VEVENT
DTSTART;TZID=UTC:20271211T120000
DTEND;TZID=UTC:20271211T140000
DTSTAMP:20260424T050718
CREATED:20250108T042140Z
LAST-MODIFIED:20250108T042140Z
UID:10003220-1828526400-1828533600@stjamesmb.church
SUMMARY:Missions Community Outreach
DESCRIPTION:
URL:https://stjamesmb.church/event/missions-community-outreach/2027-12-11
LOCATION:Ronald L. Hutchins Ministry House\, 2212 West Madison Street\, Louisville\, KY\, 40211\, United States
END:VEVENT
BEGIN:VEVENT
DTSTART;TZID=UTC:20271212T100000
DTEND;TZID=UTC:20271212T120000
DTSTAMP:20260424T050718
CREATED:20220322T205018Z
LAST-MODIFIED:20220323T223541Z
UID:10005362-1828605600-1828612800@stjamesmb.church
SUMMARY:Sunday Worship Service
DESCRIPTION:
URL:https://stjamesmb.church/event/sunday-worship-service/2027-12-12
LOCATION:St. James Missionary Baptist Church\, 2200 West Madison Street\, Louisville\, KY\, 40211\, United States
END:VEVENT
BEGIN:VEVENT
DTSTART;TZID=UTC:20271213T190000
DTEND;TZID=UTC:20271213T200000
DTSTAMP:20260424T050718
CREATED:20250112T170411Z
LAST-MODIFIED:20250312T121158Z
UID:10005980-1828724400-1828728000@stjamesmb.church
SUMMARY:Christian Education Team Meeting
DESCRIPTION:
URL:https://stjamesmb.church/event/christian-education-team-meeting-2025-03-17/2027-12-13
LOCATION:https://us02web.zoom.us/j/86234076370?pwd=OGExVGh3Nm1pbUR3dkRBV2lqdUxMZz09
END:VEVENT
BEGIN:VEVENT
DTSTART;TZID=UTC:20271214T190000
DTEND;TZID=UTC:20271214T203000
DTSTAMP:20260424T050718
CREATED:20220323T222238Z
LAST-MODIFIED:20250326T002313Z
UID:10003473-1828810800-1828816200@stjamesmb.church
SUMMARY:Church School
DESCRIPTION:
URL:https://stjamesmb.church/event/church-school-2025-03-18-2025-04-01/2027-12-14
LOCATION:Virtual
END:VEVENT
BEGIN:VEVENT
DTSTART;TZID=UTC:20271215T190000
DTEND;TZID=UTC:20271215T203000
DTSTAMP:20260424T050718
CREATED:20220323T221855Z
LAST-MODIFIED:20260106T003402Z
UID:10004904-1828897200-1828902600@stjamesmb.church
SUMMARY:Prayer\, Praise & Bible Study
DESCRIPTION:
URL:https://stjamesmb.church/event/bible-study/2027-12-15
LOCATION:Virtual
END:VEVENT
BEGIN:VEVENT
DTSTART;TZID=UTC:20271219T100000
DTEND;TZID=UTC:20271219T120000
DTSTAMP:20260424T050718
CREATED:20220322T205018Z
LAST-MODIFIED:20220323T223541Z
UID:10005363-1829210400-1829217600@stjamesmb.church
SUMMARY:Sunday Worship Service
DESCRIPTION:
URL:https://stjamesmb.church/event/sunday-worship-service/2027-12-19
LOCATION:St. James Missionary Baptist Church\, 2200 West Madison Street\, Louisville\, KY\, 40211\, United States
END:VEVENT
END:VCALENDAR