BEGIN:VCALENDAR
VERSION:2.0
PRODID:-//St James Missionary Baptist Church - ECPv6.15.18//NONSGML v1.0//EN
CALSCALE:GREGORIAN
METHOD:PUBLISH
X-ORIGINAL-URL:https://stjamesmb.church
X-WR-CALDESC:Events for St James Missionary Baptist Church
REFRESH-INTERVAL;VALUE=DURATION:PT1H
X-Robots-Tag:noindex
X-PUBLISHED-TTL:PT1H
BEGIN:VTIMEZONE
TZID:UTC
BEGIN:STANDARD
TZOFFSETFROM:+0000
TZOFFSETTO:+0000
TZNAME:UTC
DTSTART:20260101T000000
END:STANDARD
END:VTIMEZONE
BEGIN:VEVENT
DTSTART;TZID=UTC:20270726T190000
DTEND;TZID=UTC:20270726T200000
DTSTAMP:20260421T122012
CREATED:20250112T170411Z
LAST-MODIFIED:20250312T121158Z
UID:10005960-1816628400-1816632000@stjamesmb.church
SUMMARY:Christian Education Team Meeting
DESCRIPTION:
URL:https://stjamesmb.church/event/christian-education-team-meeting-2025-03-17/2027-07-26
LOCATION:https://us02web.zoom.us/j/86234076370?pwd=OGExVGh3Nm1pbUR3dkRBV2lqdUxMZz09
END:VEVENT
BEGIN:VEVENT
DTSTART;TZID=UTC:20270727T190000
DTEND;TZID=UTC:20270727T203000
DTSTAMP:20260421T122012
CREATED:20220323T222238Z
LAST-MODIFIED:20250326T002313Z
UID:10003453-1816714800-1816720200@stjamesmb.church
SUMMARY:Church School
DESCRIPTION:
URL:https://stjamesmb.church/event/church-school-2025-03-18-2025-04-01/2027-07-27
LOCATION:Virtual
END:VEVENT
BEGIN:VEVENT
DTSTART;TZID=UTC:20270728T190000
DTEND;TZID=UTC:20270728T203000
DTSTAMP:20260421T122012
CREATED:20220323T221855Z
LAST-MODIFIED:20260106T003402Z
UID:10004884-1816801200-1816806600@stjamesmb.church
SUMMARY:Prayer\, Praise & Bible Study
DESCRIPTION:
URL:https://stjamesmb.church/event/bible-study/2027-07-28
LOCATION:Virtual
END:VEVENT
BEGIN:VEVENT
DTSTART;TZID=UTC:20270801T100000
DTEND;TZID=UTC:20270801T120000
DTSTAMP:20260421T122012
CREATED:20220322T205018Z
LAST-MODIFIED:20220323T223541Z
UID:10005343-1817114400-1817121600@stjamesmb.church
SUMMARY:Sunday Worship Service
DESCRIPTION:
URL:https://stjamesmb.church/event/sunday-worship-service/2027-08-01
LOCATION:St. James Missionary Baptist Church\, 2200 West Madison Street\, Louisville\, KY\, 40211\, United States
END:VEVENT
BEGIN:VEVENT
DTSTART;TZID=UTC:20270802T190000
DTEND;TZID=UTC:20270802T200000
DTSTAMP:20260421T122012
CREATED:20250112T170411Z
LAST-MODIFIED:20250312T121158Z
UID:10005961-1817233200-1817236800@stjamesmb.church
SUMMARY:Christian Education Team Meeting
DESCRIPTION:
URL:https://stjamesmb.church/event/christian-education-team-meeting-2025-03-17/2027-08-02
LOCATION:https://us02web.zoom.us/j/86234076370?pwd=OGExVGh3Nm1pbUR3dkRBV2lqdUxMZz09
END:VEVENT
BEGIN:VEVENT
DTSTART;TZID=UTC:20270803T190000
DTEND;TZID=UTC:20270803T203000
DTSTAMP:20260421T122012
CREATED:20220323T222238Z
LAST-MODIFIED:20250326T002313Z
UID:10003454-1817319600-1817325000@stjamesmb.church
SUMMARY:Church School
DESCRIPTION:
URL:https://stjamesmb.church/event/church-school-2025-03-18-2025-04-01/2027-08-03
LOCATION:Virtual
END:VEVENT
BEGIN:VEVENT
DTSTART;TZID=UTC:20270804T190000
DTEND;TZID=UTC:20270804T203000
DTSTAMP:20260421T122012
CREATED:20220323T221855Z
LAST-MODIFIED:20260106T003402Z
UID:10004885-1817406000-1817411400@stjamesmb.church
SUMMARY:Prayer\, Praise & Bible Study
DESCRIPTION:
URL:https://stjamesmb.church/event/bible-study/2027-08-04
LOCATION:Virtual
END:VEVENT
BEGIN:VEVENT
DTSTART;TZID=UTC:20270807T120000
DTEND;TZID=UTC:20270807T140000
DTSTAMP:20260421T122012
CREATED:20250108T042140Z
LAST-MODIFIED:20250108T042140Z
UID:10003211-1817640000-1817647200@stjamesmb.church
SUMMARY:Missions Community Outreach
DESCRIPTION:
URL:https://stjamesmb.church/event/missions-community-outreach/2027-08-07
LOCATION:Ronald L. Hutchins Ministry House\, 2212 West Madison Street\, Louisville\, KY\, 40211\, United States
END:VEVENT
BEGIN:VEVENT
DTSTART;TZID=UTC:20270808T100000
DTEND;TZID=UTC:20270808T120000
DTSTAMP:20260421T122012
CREATED:20220322T205018Z
LAST-MODIFIED:20220323T223541Z
UID:10005344-1817719200-1817726400@stjamesmb.church
SUMMARY:Sunday Worship Service
DESCRIPTION:
URL:https://stjamesmb.church/event/sunday-worship-service/2027-08-08
LOCATION:St. James Missionary Baptist Church\, 2200 West Madison Street\, Louisville\, KY\, 40211\, United States
END:VEVENT
BEGIN:VEVENT
DTSTART;TZID=UTC:20270809T190000
DTEND;TZID=UTC:20270809T200000
DTSTAMP:20260421T122012
CREATED:20250112T170411Z
LAST-MODIFIED:20250312T121158Z
UID:10005962-1817838000-1817841600@stjamesmb.church
SUMMARY:Christian Education Team Meeting
DESCRIPTION:
URL:https://stjamesmb.church/event/christian-education-team-meeting-2025-03-17/2027-08-09
LOCATION:https://us02web.zoom.us/j/86234076370?pwd=OGExVGh3Nm1pbUR3dkRBV2lqdUxMZz09
END:VEVENT
BEGIN:VEVENT
DTSTART;TZID=UTC:20270810T190000
DTEND;TZID=UTC:20270810T203000
DTSTAMP:20260421T122012
CREATED:20220323T222238Z
LAST-MODIFIED:20250326T002313Z
UID:10003455-1817924400-1817929800@stjamesmb.church
SUMMARY:Church School
DESCRIPTION:
URL:https://stjamesmb.church/event/church-school-2025-03-18-2025-04-01/2027-08-10
LOCATION:Virtual
END:VEVENT
BEGIN:VEVENT
DTSTART;TZID=UTC:20270811T190000
DTEND;TZID=UTC:20270811T203000
DTSTAMP:20260421T122012
CREATED:20220323T221855Z
LAST-MODIFIED:20260106T003402Z
UID:10004886-1818010800-1818016200@stjamesmb.church
SUMMARY:Prayer\, Praise & Bible Study
DESCRIPTION:
URL:https://stjamesmb.church/event/bible-study/2027-08-11
LOCATION:Virtual
END:VEVENT
BEGIN:VEVENT
DTSTART;TZID=UTC:20270815T100000
DTEND;TZID=UTC:20270815T120000
DTSTAMP:20260421T122012
CREATED:20220322T205018Z
LAST-MODIFIED:20220323T223541Z
UID:10005345-1818324000-1818331200@stjamesmb.church
SUMMARY:Sunday Worship Service
DESCRIPTION:
URL:https://stjamesmb.church/event/sunday-worship-service/2027-08-15
LOCATION:St. James Missionary Baptist Church\, 2200 West Madison Street\, Louisville\, KY\, 40211\, United States
END:VEVENT
BEGIN:VEVENT
DTSTART;TZID=UTC:20270815T120000
DTEND;TZID=UTC:20301015T150000
DTSTAMP:20260421T122012
CREATED:20260217T022922Z
LAST-MODIFIED:20260217T022922Z
UID:10004304-1818331200-1918306800@stjamesmb.church
SUMMARY:Eden Marriage Ministry
DESCRIPTION:
URL:https://stjamesmb.church/event/eden-marriage-ministry-2/2027-08-15
LOCATION:St. James Missionary Baptist Church\, 2200 West Madison Street\, Louisville\, KY\, 40211\, United States
END:VEVENT
BEGIN:VEVENT
DTSTART;TZID=UTC:20270816T190000
DTEND;TZID=UTC:20270816T200000
DTSTAMP:20260421T122012
CREATED:20250112T170411Z
LAST-MODIFIED:20250312T121158Z
UID:10005963-1818442800-1818446400@stjamesmb.church
SUMMARY:Christian Education Team Meeting
DESCRIPTION:
URL:https://stjamesmb.church/event/christian-education-team-meeting-2025-03-17/2027-08-16
LOCATION:https://us02web.zoom.us/j/86234076370?pwd=OGExVGh3Nm1pbUR3dkRBV2lqdUxMZz09
END:VEVENT
BEGIN:VEVENT
DTSTART;TZID=UTC:20270817T190000
DTEND;TZID=UTC:20270817T203000
DTSTAMP:20260421T122012
CREATED:20220323T222238Z
LAST-MODIFIED:20250326T002313Z
UID:10003456-1818529200-1818534600@stjamesmb.church
SUMMARY:Church School
DESCRIPTION:
URL:https://stjamesmb.church/event/church-school-2025-03-18-2025-04-01/2027-08-17
LOCATION:Virtual
END:VEVENT
BEGIN:VEVENT
DTSTART;TZID=UTC:20270818T190000
DTEND;TZID=UTC:20270818T203000
DTSTAMP:20260421T122012
CREATED:20220323T221855Z
LAST-MODIFIED:20260106T003402Z
UID:10004887-1818615600-1818621000@stjamesmb.church
SUMMARY:Prayer\, Praise & Bible Study
DESCRIPTION:
URL:https://stjamesmb.church/event/bible-study/2027-08-18
LOCATION:Virtual
END:VEVENT
BEGIN:VEVENT
DTSTART;TZID=UTC:20270821T120000
DTEND;TZID=UTC:20270821T140000
DTSTAMP:20260421T122012
CREATED:20250108T042140Z
LAST-MODIFIED:20250108T042140Z
UID:10003212-1818849600-1818856800@stjamesmb.church
SUMMARY:Missions Community Outreach
DESCRIPTION:
URL:https://stjamesmb.church/event/missions-community-outreach/2027-08-21
LOCATION:Ronald L. Hutchins Ministry House\, 2212 West Madison Street\, Louisville\, KY\, 40211\, United States
END:VEVENT
BEGIN:VEVENT
DTSTART;TZID=UTC:20270822T100000
DTEND;TZID=UTC:20270822T120000
DTSTAMP:20260421T122012
CREATED:20220322T205018Z
LAST-MODIFIED:20220323T223541Z
UID:10005346-1818928800-1818936000@stjamesmb.church
SUMMARY:Sunday Worship Service
DESCRIPTION:
URL:https://stjamesmb.church/event/sunday-worship-service/2027-08-22
LOCATION:St. James Missionary Baptist Church\, 2200 West Madison Street\, Louisville\, KY\, 40211\, United States
END:VEVENT
BEGIN:VEVENT
DTSTART;TZID=UTC:20270823T190000
DTEND;TZID=UTC:20270823T200000
DTSTAMP:20260421T122012
CREATED:20250112T170411Z
LAST-MODIFIED:20250312T121158Z
UID:10005964-1819047600-1819051200@stjamesmb.church
SUMMARY:Christian Education Team Meeting
DESCRIPTION:
URL:https://stjamesmb.church/event/christian-education-team-meeting-2025-03-17/2027-08-23
LOCATION:https://us02web.zoom.us/j/86234076370?pwd=OGExVGh3Nm1pbUR3dkRBV2lqdUxMZz09
END:VEVENT
BEGIN:VEVENT
DTSTART;TZID=UTC:20270824T190000
DTEND;TZID=UTC:20270824T203000
DTSTAMP:20260421T122012
CREATED:20220323T222238Z
LAST-MODIFIED:20250326T002313Z
UID:10003457-1819134000-1819139400@stjamesmb.church
SUMMARY:Church School
DESCRIPTION:
URL:https://stjamesmb.church/event/church-school-2025-03-18-2025-04-01/2027-08-24
LOCATION:Virtual
END:VEVENT
BEGIN:VEVENT
DTSTART;TZID=UTC:20270825T190000
DTEND;TZID=UTC:20270825T203000
DTSTAMP:20260421T122012
CREATED:20220323T221855Z
LAST-MODIFIED:20260106T003402Z
UID:10004888-1819220400-1819225800@stjamesmb.church
SUMMARY:Prayer\, Praise & Bible Study
DESCRIPTION:
URL:https://stjamesmb.church/event/bible-study/2027-08-25
LOCATION:Virtual
END:VEVENT
BEGIN:VEVENT
DTSTART;TZID=UTC:20270828T110000
DTEND;TZID=UTC:20270828T123000
DTSTAMP:20260421T122012
CREATED:20250108T043739Z
LAST-MODIFIED:20250108T043739Z
UID:10003103-1819450800-1819456200@stjamesmb.church
SUMMARY:Leadership Meeting
DESCRIPTION:
URL:https://stjamesmb.church/event/leadership-meeting/2027-08-28
LOCATION:Virtual
END:VEVENT
BEGIN:VEVENT
DTSTART;TZID=UTC:20270829T100000
DTEND;TZID=UTC:20270829T120000
DTSTAMP:20260421T122012
CREATED:20220322T205018Z
LAST-MODIFIED:20220323T223541Z
UID:10005347-1819533600-1819540800@stjamesmb.church
SUMMARY:Sunday Worship Service
DESCRIPTION:
URL:https://stjamesmb.church/event/sunday-worship-service/2027-08-29
LOCATION:St. James Missionary Baptist Church\, 2200 West Madison Street\, Louisville\, KY\, 40211\, United States
END:VEVENT
BEGIN:VEVENT
DTSTART;TZID=UTC:20270830T190000
DTEND;TZID=UTC:20270830T200000
DTSTAMP:20260421T122012
CREATED:20250112T170411Z
LAST-MODIFIED:20250312T121158Z
UID:10005965-1819652400-1819656000@stjamesmb.church
SUMMARY:Christian Education Team Meeting
DESCRIPTION:
URL:https://stjamesmb.church/event/christian-education-team-meeting-2025-03-17/2027-08-30
LOCATION:https://us02web.zoom.us/j/86234076370?pwd=OGExVGh3Nm1pbUR3dkRBV2lqdUxMZz09
END:VEVENT
BEGIN:VEVENT
DTSTART;TZID=UTC:20270831T190000
DTEND;TZID=UTC:20270831T203000
DTSTAMP:20260421T122012
CREATED:20220323T222238Z
LAST-MODIFIED:20250326T002313Z
UID:10003458-1819738800-1819744200@stjamesmb.church
SUMMARY:Church School
DESCRIPTION:
URL:https://stjamesmb.church/event/church-school-2025-03-18-2025-04-01/2027-08-31
LOCATION:Virtual
END:VEVENT
BEGIN:VEVENT
DTSTART;TZID=UTC:20270901T190000
DTEND;TZID=UTC:20270901T203000
DTSTAMP:20260421T122012
CREATED:20220323T221855Z
LAST-MODIFIED:20260106T003402Z
UID:10004889-1819825200-1819830600@stjamesmb.church
SUMMARY:Prayer\, Praise & Bible Study
DESCRIPTION:
URL:https://stjamesmb.church/event/bible-study/2027-09-01
LOCATION:Virtual
END:VEVENT
BEGIN:VEVENT
DTSTART;TZID=UTC:20270904T120000
DTEND;TZID=UTC:20270904T140000
DTSTAMP:20260421T122012
CREATED:20250108T042140Z
LAST-MODIFIED:20250108T042140Z
UID:10003213-1820059200-1820066400@stjamesmb.church
SUMMARY:Missions Community Outreach
DESCRIPTION:
URL:https://stjamesmb.church/event/missions-community-outreach/2027-09-04
LOCATION:Ronald L. Hutchins Ministry House\, 2212 West Madison Street\, Louisville\, KY\, 40211\, United States
END:VEVENT
BEGIN:VEVENT
DTSTART;TZID=UTC:20270905T100000
DTEND;TZID=UTC:20270905T120000
DTSTAMP:20260421T122012
CREATED:20220322T205018Z
LAST-MODIFIED:20220323T223541Z
UID:10005348-1820138400-1820145600@stjamesmb.church
SUMMARY:Sunday Worship Service
DESCRIPTION:
URL:https://stjamesmb.church/event/sunday-worship-service/2027-09-05
LOCATION:St. James Missionary Baptist Church\, 2200 West Madison Street\, Louisville\, KY\, 40211\, United States
END:VEVENT
BEGIN:VEVENT
DTSTART;TZID=UTC:20270906T190000
DTEND;TZID=UTC:20270906T200000
DTSTAMP:20260421T122012
CREATED:20250112T170411Z
LAST-MODIFIED:20250312T121158Z
UID:10005966-1820257200-1820260800@stjamesmb.church
SUMMARY:Christian Education Team Meeting
DESCRIPTION:
URL:https://stjamesmb.church/event/christian-education-team-meeting-2025-03-17/2027-09-06
LOCATION:https://us02web.zoom.us/j/86234076370?pwd=OGExVGh3Nm1pbUR3dkRBV2lqdUxMZz09
END:VEVENT
END:VCALENDAR