BEGIN:VCALENDAR
VERSION:2.0
PRODID:-//St James Missionary Baptist Church - ECPv6.15.18//NONSGML v1.0//EN
CALSCALE:GREGORIAN
METHOD:PUBLISH
X-WR-CALNAME:St James Missionary Baptist Church
X-ORIGINAL-URL:https://stjamesmb.church
X-WR-CALDESC:Events for St James Missionary Baptist Church
REFRESH-INTERVAL;VALUE=DURATION:PT1H
X-Robots-Tag:noindex
X-PUBLISHED-TTL:PT1H
BEGIN:VTIMEZONE
TZID:UTC
BEGIN:STANDARD
TZOFFSETFROM:+0000
TZOFFSETTO:+0000
TZNAME:UTC
DTSTART:20240101T000000
END:STANDARD
END:VTIMEZONE
BEGIN:VEVENT
DTSTART;TZID=UTC:20250701T180000
DTEND;TZID=UTC:20250701T190000
DTSTAMP:20260422T125721
CREATED:20250108T034829Z
LAST-MODIFIED:20250108T040052Z
UID:10003325-1751392800-1751396400@stjamesmb.church
SUMMARY:Training for Service Certification Program
DESCRIPTION:This is a 26-week Certification Program for St. James Church School Teachers.
URL:https://stjamesmb.church/event/training-for-service-teachers-training/2025-07-01
LOCATION:Virtual
END:VEVENT
BEGIN:VEVENT
DTSTART;TZID=UTC:20250630T190000
DTEND;TZID=UTC:20250630T200000
DTSTAMP:20260422T125721
CREATED:20250112T170411Z
LAST-MODIFIED:20250312T121158Z
UID:10005852-1751310000-1751313600@stjamesmb.church
SUMMARY:Christian Education Team Meeting
DESCRIPTION:
URL:https://stjamesmb.church/event/christian-education-team-meeting-2025-03-17/2025-06-30
LOCATION:https://us02web.zoom.us/j/86234076370?pwd=OGExVGh3Nm1pbUR3dkRBV2lqdUxMZz09
END:VEVENT
BEGIN:VEVENT
DTSTART;TZID=UTC:20250629T100000
DTEND;TZID=UTC:20250629T120000
DTSTAMP:20260422T125721
CREATED:20220322T205018Z
LAST-MODIFIED:20220323T223541Z
UID:10005234-1751191200-1751198400@stjamesmb.church
SUMMARY:Sunday Worship Service
DESCRIPTION:
URL:https://stjamesmb.church/event/sunday-worship-service/2025-06-29
LOCATION:St. James Missionary Baptist Church\, 2200 West Madison Street\, Louisville\, KY\, 40211\, United States
END:VEVENT
BEGIN:VEVENT
DTSTART;TZID=UTC:20250628T120000
DTEND;TZID=UTC:20250628T140000
DTSTAMP:20260422T125721
CREATED:20250108T042140Z
LAST-MODIFIED:20250108T042140Z
UID:10003156-1751112000-1751119200@stjamesmb.church
SUMMARY:Missions Community Outreach
DESCRIPTION:
URL:https://stjamesmb.church/event/missions-community-outreach/2025-06-28
LOCATION:Ronald L. Hutchins Ministry House\, 2212 West Madison Street\, Louisville\, KY\, 40211\, United States
END:VEVENT
BEGIN:VEVENT
DTSTART;TZID=UTC:20250628T110000
DTEND;TZID=UTC:20250628T123000
DTSTAMP:20260422T125721
CREATED:20250108T043739Z
LAST-MODIFIED:20250108T043739Z
UID:10003077-1751108400-1751113800@stjamesmb.church
SUMMARY:Leadership Meeting
DESCRIPTION:
URL:https://stjamesmb.church/event/leadership-meeting/2025-06-28
LOCATION:Virtual
END:VEVENT
BEGIN:VEVENT
DTSTART;TZID=UTC:20250624T190000
DTEND;TZID=UTC:20250624T203000
DTSTAMP:20260422T125721
CREATED:20220323T222238Z
LAST-MODIFIED:20250326T002313Z
UID:10003344-1750791600-1750797000@stjamesmb.church
SUMMARY:Church School
DESCRIPTION:
URL:https://stjamesmb.church/event/church-school-2025-03-18-2025-04-01/2025-06-24
LOCATION:Virtual
END:VEVENT
BEGIN:VEVENT
DTSTART;TZID=UTC:20250624T180000
DTEND;TZID=UTC:20250624T190000
DTSTAMP:20260422T125721
CREATED:20250108T034829Z
LAST-MODIFIED:20250108T040052Z
UID:10003324-1750788000-1750791600@stjamesmb.church
SUMMARY:Training for Service Certification Program
DESCRIPTION:This is a 26-week Certification Program for St. James Church School Teachers.
URL:https://stjamesmb.church/event/training-for-service-teachers-training/2025-06-24
LOCATION:Virtual
END:VEVENT
BEGIN:VEVENT
DTSTART;TZID=UTC:20250623T190000
DTEND;TZID=UTC:20250623T200000
DTSTAMP:20260422T125721
CREATED:20250112T170411Z
LAST-MODIFIED:20250312T121158Z
UID:10005851-1750705200-1750708800@stjamesmb.church
SUMMARY:Christian Education Team Meeting
DESCRIPTION:
URL:https://stjamesmb.church/event/christian-education-team-meeting-2025-03-17/2025-06-23
LOCATION:https://us02web.zoom.us/j/86234076370?pwd=OGExVGh3Nm1pbUR3dkRBV2lqdUxMZz09
END:VEVENT
BEGIN:VEVENT
DTSTART;TZID=UTC:20250622T100000
DTEND;TZID=UTC:20250622T120000
DTSTAMP:20260422T125721
CREATED:20220322T205018Z
LAST-MODIFIED:20220323T223541Z
UID:10005233-1750586400-1750593600@stjamesmb.church
SUMMARY:Sunday Worship Service
DESCRIPTION:
URL:https://stjamesmb.church/event/sunday-worship-service/2025-06-22
LOCATION:St. James Missionary Baptist Church\, 2200 West Madison Street\, Louisville\, KY\, 40211\, United States
END:VEVENT
BEGIN:VEVENT
DTSTART;TZID=UTC:20250617T190000
DTEND;TZID=UTC:20250617T203000
DTSTAMP:20260422T125721
CREATED:20220323T222238Z
LAST-MODIFIED:20250326T002313Z
UID:10003343-1750186800-1750192200@stjamesmb.church
SUMMARY:Church School
DESCRIPTION:
URL:https://stjamesmb.church/event/church-school-2025-03-18-2025-04-01/2025-06-17
LOCATION:Virtual
END:VEVENT
BEGIN:VEVENT
DTSTART;TZID=UTC:20250617T180000
DTEND;TZID=UTC:20250617T190000
DTSTAMP:20260422T125721
CREATED:20250108T034829Z
LAST-MODIFIED:20250108T040052Z
UID:10003323-1750183200-1750186800@stjamesmb.church
SUMMARY:Training for Service Certification Program
DESCRIPTION:This is a 26-week Certification Program for St. James Church School Teachers.
URL:https://stjamesmb.church/event/training-for-service-teachers-training/2025-06-17
LOCATION:Virtual
END:VEVENT
BEGIN:VEVENT
DTSTART;TZID=UTC:20250616T190000
DTEND;TZID=UTC:20250616T200000
DTSTAMP:20260422T125721
CREATED:20250112T170411Z
LAST-MODIFIED:20250312T121158Z
UID:10005850-1750100400-1750104000@stjamesmb.church
SUMMARY:Christian Education Team Meeting
DESCRIPTION:
URL:https://stjamesmb.church/event/christian-education-team-meeting-2025-03-17/2025-06-16
LOCATION:https://us02web.zoom.us/j/86234076370?pwd=OGExVGh3Nm1pbUR3dkRBV2lqdUxMZz09
END:VEVENT
BEGIN:VEVENT
DTSTART;TZID=UTC:20250615T100000
DTEND;TZID=UTC:20250615T120000
DTSTAMP:20260422T125721
CREATED:20220322T205018Z
LAST-MODIFIED:20220323T223541Z
UID:10005232-1749981600-1749988800@stjamesmb.church
SUMMARY:Sunday Worship Service
DESCRIPTION:
URL:https://stjamesmb.church/event/sunday-worship-service/2025-06-15
LOCATION:St. James Missionary Baptist Church\, 2200 West Madison Street\, Louisville\, KY\, 40211\, United States
END:VEVENT
BEGIN:VEVENT
DTSTART;TZID=UTC:20250614T120000
DTEND;TZID=UTC:20250614T140000
DTSTAMP:20260422T125721
CREATED:20250108T042140Z
LAST-MODIFIED:20250108T042140Z
UID:10003155-1749902400-1749909600@stjamesmb.church
SUMMARY:Missions Community Outreach
DESCRIPTION:
URL:https://stjamesmb.church/event/missions-community-outreach/2025-06-14
LOCATION:Ronald L. Hutchins Ministry House\, 2212 West Madison Street\, Louisville\, KY\, 40211\, United States
END:VEVENT
BEGIN:VEVENT
DTSTART;TZID=UTC:20250610T190000
DTEND;TZID=UTC:20250610T203000
DTSTAMP:20260422T125721
CREATED:20220323T222238Z
LAST-MODIFIED:20250326T002313Z
UID:10003342-1749582000-1749587400@stjamesmb.church
SUMMARY:Church School
DESCRIPTION:
URL:https://stjamesmb.church/event/church-school-2025-03-18-2025-04-01/2025-06-10
LOCATION:Virtual
END:VEVENT
BEGIN:VEVENT
DTSTART;TZID=UTC:20250610T180000
DTEND;TZID=UTC:20250610T190000
DTSTAMP:20260422T125721
CREATED:20250108T034829Z
LAST-MODIFIED:20250108T040052Z
UID:10003322-1749578400-1749582000@stjamesmb.church
SUMMARY:Training for Service Certification Program
DESCRIPTION:This is a 26-week Certification Program for St. James Church School Teachers.
URL:https://stjamesmb.church/event/training-for-service-teachers-training/2025-06-10
LOCATION:Virtual
END:VEVENT
BEGIN:VEVENT
DTSTART;TZID=UTC:20250609T190000
DTEND;TZID=UTC:20250609T200000
DTSTAMP:20260422T125721
CREATED:20250112T170411Z
LAST-MODIFIED:20250312T121158Z
UID:10005849-1749495600-1749499200@stjamesmb.church
SUMMARY:Christian Education Team Meeting
DESCRIPTION:
URL:https://stjamesmb.church/event/christian-education-team-meeting-2025-03-17/2025-06-09
LOCATION:https://us02web.zoom.us/j/86234076370?pwd=OGExVGh3Nm1pbUR3dkRBV2lqdUxMZz09
END:VEVENT
BEGIN:VEVENT
DTSTART;TZID=UTC:20250608T100000
DTEND;TZID=UTC:20250608T120000
DTSTAMP:20260422T125721
CREATED:20220322T205018Z
LAST-MODIFIED:20220323T223541Z
UID:10005231-1749376800-1749384000@stjamesmb.church
SUMMARY:Sunday Worship Service
DESCRIPTION:
URL:https://stjamesmb.church/event/sunday-worship-service/2025-06-08
LOCATION:St. James Missionary Baptist Church\, 2200 West Madison Street\, Louisville\, KY\, 40211\, United States
END:VEVENT
BEGIN:VEVENT
DTSTART;TZID=UTC:20250603T190000
DTEND;TZID=UTC:20250603T203000
DTSTAMP:20260422T125721
CREATED:20220323T222238Z
LAST-MODIFIED:20250326T002313Z
UID:10003341-1748977200-1748982600@stjamesmb.church
SUMMARY:Church School
DESCRIPTION:
URL:https://stjamesmb.church/event/church-school-2025-03-18-2025-04-01/2025-06-03
LOCATION:Virtual
END:VEVENT
BEGIN:VEVENT
DTSTART;TZID=UTC:20250603T180000
DTEND;TZID=UTC:20250603T190000
DTSTAMP:20260422T125721
CREATED:20250108T034829Z
LAST-MODIFIED:20250108T040052Z
UID:10003321-1748973600-1748977200@stjamesmb.church
SUMMARY:Training for Service Certification Program
DESCRIPTION:This is a 26-week Certification Program for St. James Church School Teachers.
URL:https://stjamesmb.church/event/training-for-service-teachers-training/2025-06-03
LOCATION:Virtual
END:VEVENT
BEGIN:VEVENT
DTSTART;TZID=UTC:20250602T190000
DTEND;TZID=UTC:20250602T200000
DTSTAMP:20260422T125721
CREATED:20250112T170411Z
LAST-MODIFIED:20250312T121158Z
UID:10005848-1748890800-1748894400@stjamesmb.church
SUMMARY:Christian Education Team Meeting
DESCRIPTION:
URL:https://stjamesmb.church/event/christian-education-team-meeting-2025-03-17/2025-06-02
LOCATION:https://us02web.zoom.us/j/86234076370?pwd=OGExVGh3Nm1pbUR3dkRBV2lqdUxMZz09
END:VEVENT
BEGIN:VEVENT
DTSTART;TZID=UTC:20250601T100000
DTEND;TZID=UTC:20250601T120000
DTSTAMP:20260422T125721
CREATED:20220322T205018Z
LAST-MODIFIED:20220323T223541Z
UID:10005230-1748772000-1748779200@stjamesmb.church
SUMMARY:Sunday Worship Service
DESCRIPTION:
URL:https://stjamesmb.church/event/sunday-worship-service/2025-06-01
LOCATION:St. James Missionary Baptist Church\, 2200 West Madison Street\, Louisville\, KY\, 40211\, United States
END:VEVENT
BEGIN:VEVENT
DTSTART;TZID=UTC:20250531T120000
DTEND;TZID=UTC:20250531T140000
DTSTAMP:20260422T125721
CREATED:20250108T042140Z
LAST-MODIFIED:20250108T042140Z
UID:10003154-1748692800-1748700000@stjamesmb.church
SUMMARY:Missions Community Outreach
DESCRIPTION:
URL:https://stjamesmb.church/event/missions-community-outreach/2025-05-31
LOCATION:Ronald L. Hutchins Ministry House\, 2212 West Madison Street\, Louisville\, KY\, 40211\, United States
END:VEVENT
BEGIN:VEVENT
DTSTART;TZID=UTC:20250527T190000
DTEND;TZID=UTC:20250527T203000
DTSTAMP:20260422T125721
CREATED:20220323T222238Z
LAST-MODIFIED:20250326T002313Z
UID:10003340-1748372400-1748377800@stjamesmb.church
SUMMARY:Church School
DESCRIPTION:
URL:https://stjamesmb.church/event/church-school-2025-03-18-2025-04-01/2025-05-27
LOCATION:Virtual
END:VEVENT
BEGIN:VEVENT
DTSTART;TZID=UTC:20250527T180000
DTEND;TZID=UTC:20250527T190000
DTSTAMP:20260422T125721
CREATED:20250108T034829Z
LAST-MODIFIED:20250108T040052Z
UID:10003320-1748368800-1748372400@stjamesmb.church
SUMMARY:Training for Service Certification Program
DESCRIPTION:This is a 26-week Certification Program for St. James Church School Teachers.
URL:https://stjamesmb.church/event/training-for-service-teachers-training/2025-05-27
LOCATION:Virtual
END:VEVENT
BEGIN:VEVENT
DTSTART;TZID=UTC:20250526T190000
DTEND;TZID=UTC:20250526T200000
DTSTAMP:20260422T125721
CREATED:20250112T170411Z
LAST-MODIFIED:20250312T121158Z
UID:10005847-1748286000-1748289600@stjamesmb.church
SUMMARY:Christian Education Team Meeting
DESCRIPTION:
URL:https://stjamesmb.church/event/christian-education-team-meeting-2025-03-17/2025-05-26
LOCATION:https://us02web.zoom.us/j/86234076370?pwd=OGExVGh3Nm1pbUR3dkRBV2lqdUxMZz09
END:VEVENT
BEGIN:VEVENT
DTSTART;TZID=UTC:20250525T100000
DTEND;TZID=UTC:20250525T120000
DTSTAMP:20260422T125721
CREATED:20220322T205018Z
LAST-MODIFIED:20220323T223541Z
UID:10005229-1748167200-1748174400@stjamesmb.church
SUMMARY:Sunday Worship Service
DESCRIPTION:
URL:https://stjamesmb.church/event/sunday-worship-service/2025-05-25
LOCATION:St. James Missionary Baptist Church\, 2200 West Madison Street\, Louisville\, KY\, 40211\, United States
END:VEVENT
BEGIN:VEVENT
DTSTART;TZID=UTC:20250524T110000
DTEND;TZID=UTC:20250524T123000
DTSTAMP:20260422T125721
CREATED:20250108T043739Z
LAST-MODIFIED:20250108T043739Z
UID:10003076-1748084400-1748089800@stjamesmb.church
SUMMARY:Leadership Meeting
DESCRIPTION:
URL:https://stjamesmb.church/event/leadership-meeting/2025-05-24
LOCATION:Virtual
END:VEVENT
BEGIN:VEVENT
DTSTART;TZID=UTC:20250520T190000
DTEND;TZID=UTC:20250520T203000
DTSTAMP:20260422T125721
CREATED:20220323T222238Z
LAST-MODIFIED:20250326T002313Z
UID:10003339-1747767600-1747773000@stjamesmb.church
SUMMARY:Church School
DESCRIPTION:
URL:https://stjamesmb.church/event/church-school-2025-03-18-2025-04-01/2025-05-20
LOCATION:Virtual
END:VEVENT
BEGIN:VEVENT
DTSTART;TZID=UTC:20250520T180000
DTEND;TZID=UTC:20250520T190000
DTSTAMP:20260422T125721
CREATED:20250108T034829Z
LAST-MODIFIED:20250108T040052Z
UID:10003319-1747764000-1747767600@stjamesmb.church
SUMMARY:Training for Service Certification Program
DESCRIPTION:This is a 26-week Certification Program for St. James Church School Teachers.
URL:https://stjamesmb.church/event/training-for-service-teachers-training/2025-05-20
LOCATION:Virtual
END:VEVENT
END:VCALENDAR