BEGIN:VCALENDAR
VERSION:2.0
PRODID:-//St James Missionary Baptist Church - ECPv6.15.18//NONSGML v1.0//EN
CALSCALE:GREGORIAN
METHOD:PUBLISH
X-ORIGINAL-URL:https://stjamesmb.church
X-WR-CALDESC:Events for St James Missionary Baptist Church
REFRESH-INTERVAL;VALUE=DURATION:PT1H
X-Robots-Tag:noindex
X-PUBLISHED-TTL:PT1H
BEGIN:VTIMEZONE
TZID:UTC
BEGIN:STANDARD
TZOFFSETFROM:+0000
TZOFFSETTO:+0000
TZNAME:UTC
DTSTART:20250101T000000
END:STANDARD
END:VTIMEZONE
BEGIN:VEVENT
DTSTART;TZID=UTC:20260315T120000
DTEND;TZID=UTC:20290515T150000
DTSTAMP:20260420T013535
CREATED:20220323T223749Z
LAST-MODIFIED:20260217T024106Z
UID:10006181-1773576000-1873551600@stjamesmb.church
SUMMARY:Eden Marriage Ministry
DESCRIPTION:
URL:https://stjamesmb.church/event/eden-marriage-ministry/2026-03-15
LOCATION:St. James Missionary Baptist Church\, 2200 West Madison Street\, Louisville\, KY\, 40211\, United States
END:VEVENT
BEGIN:VEVENT
DTSTART;TZID=UTC:20260315T120000
DTEND;TZID=UTC:20290515T150000
DTSTAMP:20260420T013535
CREATED:20260217T022922Z
LAST-MODIFIED:20260217T022922Z
UID:10004249-1773576000-1873551600@stjamesmb.church
SUMMARY:Eden Marriage Ministry
DESCRIPTION:
URL:https://stjamesmb.church/event/eden-marriage-ministry-2/2026-03-15
LOCATION:St. James Missionary Baptist Church\, 2200 West Madison Street\, Louisville\, KY\, 40211\, United States
END:VEVENT
BEGIN:VEVENT
DTSTART;TZID=UTC:20260419T120000
DTEND;TZID=UTC:20290619T150000
DTSTAMP:20260420T013535
CREATED:20260217T022922Z
LAST-MODIFIED:20260217T022922Z
UID:10004288-1776600000-1876575600@stjamesmb.church
SUMMARY:Eden Marriage Ministry
DESCRIPTION:
URL:https://stjamesmb.church/event/eden-marriage-ministry-2/2026-04-19
LOCATION:St. James Missionary Baptist Church\, 2200 West Madison Street\, Louisville\, KY\, 40211\, United States
END:VEVENT
BEGIN:VEVENT
DTSTART;TZID=UTC:20260517T120000
DTEND;TZID=UTC:20290717T150000
DTSTAMP:20260420T013535
CREATED:20260217T022922Z
LAST-MODIFIED:20260217T022922Z
UID:10004289-1779019200-1878994800@stjamesmb.church
SUMMARY:Eden Marriage Ministry
DESCRIPTION:
URL:https://stjamesmb.church/event/eden-marriage-ministry-2/2026-05-17
LOCATION:St. James Missionary Baptist Church\, 2200 West Madison Street\, Louisville\, KY\, 40211\, United States
END:VEVENT
BEGIN:VEVENT
DTSTART;TZID=UTC:20260621T120000
DTEND;TZID=UTC:20290821T150000
DTSTAMP:20260420T013535
CREATED:20260217T022922Z
LAST-MODIFIED:20260217T022922Z
UID:10004290-1782043200-1882018800@stjamesmb.church
SUMMARY:Eden Marriage Ministry
DESCRIPTION:
URL:https://stjamesmb.church/event/eden-marriage-ministry-2/2026-06-21
LOCATION:St. James Missionary Baptist Church\, 2200 West Madison Street\, Louisville\, KY\, 40211\, United States
END:VEVENT
BEGIN:VEVENT
DTSTART;TZID=UTC:20260719T120000
DTEND;TZID=UTC:20290918T150000
DTSTAMP:20260420T013535
CREATED:20260217T022922Z
LAST-MODIFIED:20260217T022922Z
UID:10004291-1784462400-1884438000@stjamesmb.church
SUMMARY:Eden Marriage Ministry
DESCRIPTION:
URL:https://stjamesmb.church/event/eden-marriage-ministry-2/2026-07-19
LOCATION:St. James Missionary Baptist Church\, 2200 West Madison Street\, Louisville\, KY\, 40211\, United States
END:VEVENT
BEGIN:VEVENT
DTSTART;TZID=UTC:20260816T120000
DTEND;TZID=UTC:20291016T150000
DTSTAMP:20260420T013535
CREATED:20260217T022922Z
LAST-MODIFIED:20260217T022922Z
UID:10004292-1786881600-1886857200@stjamesmb.church
SUMMARY:Eden Marriage Ministry
DESCRIPTION:
URL:https://stjamesmb.church/event/eden-marriage-ministry-2/2026-08-16
LOCATION:St. James Missionary Baptist Church\, 2200 West Madison Street\, Louisville\, KY\, 40211\, United States
END:VEVENT
BEGIN:VEVENT
DTSTART;TZID=UTC:20260920T120000
DTEND;TZID=UTC:20291120T150000
DTSTAMP:20260420T013535
CREATED:20260217T022922Z
LAST-MODIFIED:20260217T022922Z
UID:10004293-1789905600-1889881200@stjamesmb.church
SUMMARY:Eden Marriage Ministry
DESCRIPTION:
URL:https://stjamesmb.church/event/eden-marriage-ministry-2/2026-09-20
LOCATION:St. James Missionary Baptist Church\, 2200 West Madison Street\, Louisville\, KY\, 40211\, United States
END:VEVENT
BEGIN:VEVENT
DTSTART;TZID=UTC:20261018T120000
DTEND;TZID=UTC:20291218T150000
DTSTAMP:20260420T013535
CREATED:20260217T022922Z
LAST-MODIFIED:20260217T022922Z
UID:10004294-1792324800-1892300400@stjamesmb.church
SUMMARY:Eden Marriage Ministry
DESCRIPTION:
URL:https://stjamesmb.church/event/eden-marriage-ministry-2/2026-10-18
LOCATION:St. James Missionary Baptist Church\, 2200 West Madison Street\, Louisville\, KY\, 40211\, United States
END:VEVENT
BEGIN:VEVENT
DTSTART;TZID=UTC:20261115T120000
DTEND;TZID=UTC:20300115T150000
DTSTAMP:20260420T013535
CREATED:20260217T022922Z
LAST-MODIFIED:20260217T022922Z
UID:10004295-1794744000-1894719600@stjamesmb.church
SUMMARY:Eden Marriage Ministry
DESCRIPTION:
URL:https://stjamesmb.church/event/eden-marriage-ministry-2/2026-11-15
LOCATION:St. James Missionary Baptist Church\, 2200 West Madison Street\, Louisville\, KY\, 40211\, United States
END:VEVENT
BEGIN:VEVENT
DTSTART;TZID=UTC:20261212T120000
DTEND;TZID=UTC:20261212T140000
DTSTAMP:20260420T013535
CREATED:20250108T042140Z
LAST-MODIFIED:20250108T042140Z
UID:10003194-1797076800-1797084000@stjamesmb.church
SUMMARY:Missions Community Outreach
DESCRIPTION:
URL:https://stjamesmb.church/event/missions-community-outreach/2026-12-12
LOCATION:Ronald L. Hutchins Ministry House\, 2212 West Madison Street\, Louisville\, KY\, 40211\, United States
END:VEVENT
BEGIN:VEVENT
DTSTART;TZID=UTC:20261213T100000
DTEND;TZID=UTC:20261213T120000
DTSTAMP:20260420T013535
CREATED:20220322T205018Z
LAST-MODIFIED:20220323T223541Z
UID:10005310-1797156000-1797163200@stjamesmb.church
SUMMARY:Sunday Worship Service
DESCRIPTION:
URL:https://stjamesmb.church/event/sunday-worship-service/2026-12-13
LOCATION:St. James Missionary Baptist Church\, 2200 West Madison Street\, Louisville\, KY\, 40211\, United States
END:VEVENT
BEGIN:VEVENT
DTSTART;TZID=UTC:20261214T190000
DTEND;TZID=UTC:20261214T200000
DTSTAMP:20260420T013535
CREATED:20250112T170411Z
LAST-MODIFIED:20250312T121158Z
UID:10005928-1797274800-1797278400@stjamesmb.church
SUMMARY:Christian Education Team Meeting
DESCRIPTION:
URL:https://stjamesmb.church/event/christian-education-team-meeting-2025-03-17/2026-12-14
LOCATION:https://us02web.zoom.us/j/86234076370?pwd=OGExVGh3Nm1pbUR3dkRBV2lqdUxMZz09
END:VEVENT
BEGIN:VEVENT
DTSTART;TZID=UTC:20261215T190000
DTEND;TZID=UTC:20261215T203000
DTSTAMP:20260420T013535
CREATED:20220323T222238Z
LAST-MODIFIED:20250326T002313Z
UID:10003421-1797361200-1797366600@stjamesmb.church
SUMMARY:Church School
DESCRIPTION:
URL:https://stjamesmb.church/event/church-school-2025-03-18-2025-04-01/2026-12-15
LOCATION:Virtual
END:VEVENT
BEGIN:VEVENT
DTSTART;TZID=UTC:20261216T190000
DTEND;TZID=UTC:20261216T203000
DTSTAMP:20260420T013535
CREATED:20220323T221855Z
LAST-MODIFIED:20260106T003402Z
UID:10004852-1797447600-1797453000@stjamesmb.church
SUMMARY:Prayer\, Praise & Bible Study
DESCRIPTION:
URL:https://stjamesmb.church/event/bible-study/2026-12-16
LOCATION:Virtual
END:VEVENT
BEGIN:VEVENT
DTSTART;TZID=UTC:20261220T100000
DTEND;TZID=UTC:20261220T120000
DTSTAMP:20260420T013535
CREATED:20220322T205018Z
LAST-MODIFIED:20220323T223541Z
UID:10005311-1797760800-1797768000@stjamesmb.church
SUMMARY:Sunday Worship Service
DESCRIPTION:
URL:https://stjamesmb.church/event/sunday-worship-service/2026-12-20
LOCATION:St. James Missionary Baptist Church\, 2200 West Madison Street\, Louisville\, KY\, 40211\, United States
END:VEVENT
BEGIN:VEVENT
DTSTART;TZID=UTC:20261220T120000
DTEND;TZID=UTC:20300219T150000
DTSTAMP:20260420T013535
CREATED:20260217T022922Z
LAST-MODIFIED:20260217T022922Z
UID:10004296-1797768000-1897743600@stjamesmb.church
SUMMARY:Eden Marriage Ministry
DESCRIPTION:
URL:https://stjamesmb.church/event/eden-marriage-ministry-2/2026-12-20
LOCATION:St. James Missionary Baptist Church\, 2200 West Madison Street\, Louisville\, KY\, 40211\, United States
END:VEVENT
BEGIN:VEVENT
DTSTART;TZID=UTC:20261221T190000
DTEND;TZID=UTC:20261221T200000
DTSTAMP:20260420T013535
CREATED:20250112T170411Z
LAST-MODIFIED:20250312T121158Z
UID:10005929-1797879600-1797883200@stjamesmb.church
SUMMARY:Christian Education Team Meeting
DESCRIPTION:
URL:https://stjamesmb.church/event/christian-education-team-meeting-2025-03-17/2026-12-21
LOCATION:https://us02web.zoom.us/j/86234076370?pwd=OGExVGh3Nm1pbUR3dkRBV2lqdUxMZz09
END:VEVENT
BEGIN:VEVENT
DTSTART;TZID=UTC:20261222T190000
DTEND;TZID=UTC:20261222T203000
DTSTAMP:20260420T013535
CREATED:20220323T222238Z
LAST-MODIFIED:20250326T002313Z
UID:10003422-1797966000-1797971400@stjamesmb.church
SUMMARY:Church School
DESCRIPTION:
URL:https://stjamesmb.church/event/church-school-2025-03-18-2025-04-01/2026-12-22
LOCATION:Virtual
END:VEVENT
BEGIN:VEVENT
DTSTART;TZID=UTC:20261223T190000
DTEND;TZID=UTC:20261223T203000
DTSTAMP:20260420T013535
CREATED:20220323T221855Z
LAST-MODIFIED:20260106T003402Z
UID:10004853-1798052400-1798057800@stjamesmb.church
SUMMARY:Prayer\, Praise & Bible Study
DESCRIPTION:
URL:https://stjamesmb.church/event/bible-study/2026-12-23
LOCATION:Virtual
END:VEVENT
BEGIN:VEVENT
DTSTART;TZID=UTC:20261226T110000
DTEND;TZID=UTC:20261226T123000
DTSTAMP:20260420T013535
CREATED:20250108T043739Z
LAST-MODIFIED:20250108T043739Z
UID:10003095-1798282800-1798288200@stjamesmb.church
SUMMARY:Leadership Meeting
DESCRIPTION:
URL:https://stjamesmb.church/event/leadership-meeting/2026-12-26
LOCATION:Virtual
END:VEVENT
BEGIN:VEVENT
DTSTART;TZID=UTC:20261226T120000
DTEND;TZID=UTC:20261226T140000
DTSTAMP:20260420T013535
CREATED:20250108T042140Z
LAST-MODIFIED:20250108T042140Z
UID:10003195-1798286400-1798293600@stjamesmb.church
SUMMARY:Missions Community Outreach
DESCRIPTION:
URL:https://stjamesmb.church/event/missions-community-outreach/2026-12-26
LOCATION:Ronald L. Hutchins Ministry House\, 2212 West Madison Street\, Louisville\, KY\, 40211\, United States
END:VEVENT
BEGIN:VEVENT
DTSTART;TZID=UTC:20261227T100000
DTEND;TZID=UTC:20261227T120000
DTSTAMP:20260420T013535
CREATED:20220322T205018Z
LAST-MODIFIED:20220323T223541Z
UID:10005312-1798365600-1798372800@stjamesmb.church
SUMMARY:Sunday Worship Service
DESCRIPTION:
URL:https://stjamesmb.church/event/sunday-worship-service/2026-12-27
LOCATION:St. James Missionary Baptist Church\, 2200 West Madison Street\, Louisville\, KY\, 40211\, United States
END:VEVENT
BEGIN:VEVENT
DTSTART;TZID=UTC:20261228T190000
DTEND;TZID=UTC:20261228T200000
DTSTAMP:20260420T013535
CREATED:20250112T170411Z
LAST-MODIFIED:20250312T121158Z
UID:10005930-1798484400-1798488000@stjamesmb.church
SUMMARY:Christian Education Team Meeting
DESCRIPTION:
URL:https://stjamesmb.church/event/christian-education-team-meeting-2025-03-17/2026-12-28
LOCATION:https://us02web.zoom.us/j/86234076370?pwd=OGExVGh3Nm1pbUR3dkRBV2lqdUxMZz09
END:VEVENT
BEGIN:VEVENT
DTSTART;TZID=UTC:20261229T190000
DTEND;TZID=UTC:20261229T203000
DTSTAMP:20260420T013535
CREATED:20220323T222238Z
LAST-MODIFIED:20250326T002313Z
UID:10003423-1798570800-1798576200@stjamesmb.church
SUMMARY:Church School
DESCRIPTION:
URL:https://stjamesmb.church/event/church-school-2025-03-18-2025-04-01/2026-12-29
LOCATION:Virtual
END:VEVENT
BEGIN:VEVENT
DTSTART;TZID=UTC:20261230T190000
DTEND;TZID=UTC:20261230T203000
DTSTAMP:20260420T013535
CREATED:20220323T221855Z
LAST-MODIFIED:20260106T003402Z
UID:10004854-1798657200-1798662600@stjamesmb.church
SUMMARY:Prayer\, Praise & Bible Study
DESCRIPTION:
URL:https://stjamesmb.church/event/bible-study/2026-12-30
LOCATION:Virtual
END:VEVENT
BEGIN:VEVENT
DTSTART;TZID=UTC:20270103T100000
DTEND;TZID=UTC:20270103T120000
DTSTAMP:20260420T013535
CREATED:20220322T205018Z
LAST-MODIFIED:20220323T223541Z
UID:10005313-1798970400-1798977600@stjamesmb.church
SUMMARY:Sunday Worship Service
DESCRIPTION:
URL:https://stjamesmb.church/event/sunday-worship-service/2027-01-03
LOCATION:St. James Missionary Baptist Church\, 2200 West Madison Street\, Louisville\, KY\, 40211\, United States
END:VEVENT
BEGIN:VEVENT
DTSTART;TZID=UTC:20270104T190000
DTEND;TZID=UTC:20270104T200000
DTSTAMP:20260420T013535
CREATED:20250112T170411Z
LAST-MODIFIED:20250312T121158Z
UID:10005931-1799089200-1799092800@stjamesmb.church
SUMMARY:Christian Education Team Meeting
DESCRIPTION:
URL:https://stjamesmb.church/event/christian-education-team-meeting-2025-03-17/2027-01-04
LOCATION:https://us02web.zoom.us/j/86234076370?pwd=OGExVGh3Nm1pbUR3dkRBV2lqdUxMZz09
END:VEVENT
BEGIN:VEVENT
DTSTART;TZID=UTC:20270105T190000
DTEND;TZID=UTC:20270105T203000
DTSTAMP:20260420T013535
CREATED:20220323T222238Z
LAST-MODIFIED:20250326T002313Z
UID:10003424-1799175600-1799181000@stjamesmb.church
SUMMARY:Church School
DESCRIPTION:
URL:https://stjamesmb.church/event/church-school-2025-03-18-2025-04-01/2027-01-05
LOCATION:Virtual
END:VEVENT
BEGIN:VEVENT
DTSTART;TZID=UTC:20270106T190000
DTEND;TZID=UTC:20270106T203000
DTSTAMP:20260420T013535
CREATED:20220323T221855Z
LAST-MODIFIED:20260106T003402Z
UID:10004855-1799262000-1799267400@stjamesmb.church
SUMMARY:Prayer\, Praise & Bible Study
DESCRIPTION:
URL:https://stjamesmb.church/event/bible-study/2027-01-06
LOCATION:Virtual
END:VEVENT
END:VCALENDAR