BEGIN:VCALENDAR
VERSION:2.0
PRODID:-//St James Missionary Baptist Church - ECPv6.15.18//NONSGML v1.0//EN
CALSCALE:GREGORIAN
METHOD:PUBLISH
X-WR-CALNAME:St James Missionary Baptist Church
X-ORIGINAL-URL:https://stjamesmb.church
X-WR-CALDESC:Events for St James Missionary Baptist Church
REFRESH-INTERVAL;VALUE=DURATION:PT1H
X-Robots-Tag:noindex
X-PUBLISHED-TTL:PT1H
BEGIN:VTIMEZONE
TZID:UTC
BEGIN:STANDARD
TZOFFSETFROM:+0000
TZOFFSETTO:+0000
TZNAME:UTC
DTSTART:20250101T000000
END:STANDARD
END:VTIMEZONE
BEGIN:VEVENT
DTSTART;TZID=UTC:20260315T120000
DTEND;TZID=UTC:20290515T150000
DTSTAMP:20260420T012941
CREATED:20220323T223749Z
LAST-MODIFIED:20260217T024106Z
UID:10006181-1773576000-1873551600@stjamesmb.church
SUMMARY:Eden Marriage Ministry
DESCRIPTION:
URL:https://stjamesmb.church/event/eden-marriage-ministry/2026-03-15
LOCATION:St. James Missionary Baptist Church\, 2200 West Madison Street\, Louisville\, KY\, 40211\, United States
END:VEVENT
BEGIN:VEVENT
DTSTART;TZID=UTC:20260315T120000
DTEND;TZID=UTC:20290515T150000
DTSTAMP:20260420T012941
CREATED:20260217T022922Z
LAST-MODIFIED:20260217T022922Z
UID:10004249-1773576000-1873551600@stjamesmb.church
SUMMARY:Eden Marriage Ministry
DESCRIPTION:
URL:https://stjamesmb.church/event/eden-marriage-ministry-2/2026-03-15
LOCATION:St. James Missionary Baptist Church\, 2200 West Madison Street\, Louisville\, KY\, 40211\, United States
END:VEVENT
BEGIN:VEVENT
DTSTART;TZID=UTC:20260419T120000
DTEND;TZID=UTC:20290619T150000
DTSTAMP:20260420T012941
CREATED:20260217T022922Z
LAST-MODIFIED:20260217T022922Z
UID:10004288-1776600000-1876575600@stjamesmb.church
SUMMARY:Eden Marriage Ministry
DESCRIPTION:
URL:https://stjamesmb.church/event/eden-marriage-ministry-2/2026-04-19
LOCATION:St. James Missionary Baptist Church\, 2200 West Madison Street\, Louisville\, KY\, 40211\, United States
END:VEVENT
BEGIN:VEVENT
DTSTART;TZID=UTC:20260517T120000
DTEND;TZID=UTC:20290717T150000
DTSTAMP:20260420T012941
CREATED:20260217T022922Z
LAST-MODIFIED:20260217T022922Z
UID:10004289-1779019200-1878994800@stjamesmb.church
SUMMARY:Eden Marriage Ministry
DESCRIPTION:
URL:https://stjamesmb.church/event/eden-marriage-ministry-2/2026-05-17
LOCATION:St. James Missionary Baptist Church\, 2200 West Madison Street\, Louisville\, KY\, 40211\, United States
END:VEVENT
BEGIN:VEVENT
DTSTART;TZID=UTC:20260621T120000
DTEND;TZID=UTC:20290821T150000
DTSTAMP:20260420T012941
CREATED:20260217T022922Z
LAST-MODIFIED:20260217T022922Z
UID:10004290-1782043200-1882018800@stjamesmb.church
SUMMARY:Eden Marriage Ministry
DESCRIPTION:
URL:https://stjamesmb.church/event/eden-marriage-ministry-2/2026-06-21
LOCATION:St. James Missionary Baptist Church\, 2200 West Madison Street\, Louisville\, KY\, 40211\, United States
END:VEVENT
BEGIN:VEVENT
DTSTART;TZID=UTC:20260719T120000
DTEND;TZID=UTC:20290918T150000
DTSTAMP:20260420T012941
CREATED:20260217T022922Z
LAST-MODIFIED:20260217T022922Z
UID:10004291-1784462400-1884438000@stjamesmb.church
SUMMARY:Eden Marriage Ministry
DESCRIPTION:
URL:https://stjamesmb.church/event/eden-marriage-ministry-2/2026-07-19
LOCATION:St. James Missionary Baptist Church\, 2200 West Madison Street\, Louisville\, KY\, 40211\, United States
END:VEVENT
BEGIN:VEVENT
DTSTART;TZID=UTC:20260816T120000
DTEND;TZID=UTC:20291016T150000
DTSTAMP:20260420T012941
CREATED:20260217T022922Z
LAST-MODIFIED:20260217T022922Z
UID:10004292-1786881600-1886857200@stjamesmb.church
SUMMARY:Eden Marriage Ministry
DESCRIPTION:
URL:https://stjamesmb.church/event/eden-marriage-ministry-2/2026-08-16
LOCATION:St. James Missionary Baptist Church\, 2200 West Madison Street\, Louisville\, KY\, 40211\, United States
END:VEVENT
BEGIN:VEVENT
DTSTART;TZID=UTC:20260920T120000
DTEND;TZID=UTC:20291120T150000
DTSTAMP:20260420T012941
CREATED:20260217T022922Z
LAST-MODIFIED:20260217T022922Z
UID:10004293-1789905600-1889881200@stjamesmb.church
SUMMARY:Eden Marriage Ministry
DESCRIPTION:
URL:https://stjamesmb.church/event/eden-marriage-ministry-2/2026-09-20
LOCATION:St. James Missionary Baptist Church\, 2200 West Madison Street\, Louisville\, KY\, 40211\, United States
END:VEVENT
BEGIN:VEVENT
DTSTART;TZID=UTC:20261018T120000
DTEND;TZID=UTC:20291218T150000
DTSTAMP:20260420T012941
CREATED:20260217T022922Z
LAST-MODIFIED:20260217T022922Z
UID:10004294-1792324800-1892300400@stjamesmb.church
SUMMARY:Eden Marriage Ministry
DESCRIPTION:
URL:https://stjamesmb.church/event/eden-marriage-ministry-2/2026-10-18
LOCATION:St. James Missionary Baptist Church\, 2200 West Madison Street\, Louisville\, KY\, 40211\, United States
END:VEVENT
BEGIN:VEVENT
DTSTART;TZID=UTC:20261020T190000
DTEND;TZID=UTC:20261020T203000
DTSTAMP:20260420T012941
CREATED:20220323T222238Z
LAST-MODIFIED:20250326T002313Z
UID:10003413-1792522800-1792528200@stjamesmb.church
SUMMARY:Church School
DESCRIPTION:
URL:https://stjamesmb.church/event/church-school-2025-03-18-2025-04-01/2026-10-20
LOCATION:Virtual
END:VEVENT
BEGIN:VEVENT
DTSTART;TZID=UTC:20261021T190000
DTEND;TZID=UTC:20261021T203000
DTSTAMP:20260420T012941
CREATED:20220323T221855Z
LAST-MODIFIED:20260106T003402Z
UID:10004844-1792609200-1792614600@stjamesmb.church
SUMMARY:Prayer\, Praise & Bible Study
DESCRIPTION:
URL:https://stjamesmb.church/event/bible-study/2026-10-21
LOCATION:Virtual
END:VEVENT
BEGIN:VEVENT
DTSTART;TZID=UTC:20261024T110000
DTEND;TZID=UTC:20261024T123000
DTSTAMP:20260420T012941
CREATED:20250108T043739Z
LAST-MODIFIED:20250108T043739Z
UID:10003093-1792839600-1792845000@stjamesmb.church
SUMMARY:Leadership Meeting
DESCRIPTION:
URL:https://stjamesmb.church/event/leadership-meeting/2026-10-24
LOCATION:Virtual
END:VEVENT
BEGIN:VEVENT
DTSTART;TZID=UTC:20261025T100000
DTEND;TZID=UTC:20261025T120000
DTSTAMP:20260420T012941
CREATED:20220322T205018Z
LAST-MODIFIED:20220323T223541Z
UID:10005303-1792922400-1792929600@stjamesmb.church
SUMMARY:Sunday Worship Service
DESCRIPTION:
URL:https://stjamesmb.church/event/sunday-worship-service/2026-10-25
LOCATION:St. James Missionary Baptist Church\, 2200 West Madison Street\, Louisville\, KY\, 40211\, United States
END:VEVENT
BEGIN:VEVENT
DTSTART;TZID=UTC:20261026T190000
DTEND;TZID=UTC:20261026T200000
DTSTAMP:20260420T012942
CREATED:20250112T170411Z
LAST-MODIFIED:20250312T121158Z
UID:10005921-1793041200-1793044800@stjamesmb.church
SUMMARY:Christian Education Team Meeting
DESCRIPTION:
URL:https://stjamesmb.church/event/christian-education-team-meeting-2025-03-17/2026-10-26
LOCATION:https://us02web.zoom.us/j/86234076370?pwd=OGExVGh3Nm1pbUR3dkRBV2lqdUxMZz09
END:VEVENT
BEGIN:VEVENT
DTSTART;TZID=UTC:20261027T190000
DTEND;TZID=UTC:20261027T203000
DTSTAMP:20260420T012942
CREATED:20220323T222238Z
LAST-MODIFIED:20250326T002313Z
UID:10003414-1793127600-1793133000@stjamesmb.church
SUMMARY:Church School
DESCRIPTION:
URL:https://stjamesmb.church/event/church-school-2025-03-18-2025-04-01/2026-10-27
LOCATION:Virtual
END:VEVENT
BEGIN:VEVENT
DTSTART;TZID=UTC:20261028T190000
DTEND;TZID=UTC:20261028T203000
DTSTAMP:20260420T012942
CREATED:20220323T221855Z
LAST-MODIFIED:20260106T003402Z
UID:10004845-1793214000-1793219400@stjamesmb.church
SUMMARY:Prayer\, Praise & Bible Study
DESCRIPTION:
URL:https://stjamesmb.church/event/bible-study/2026-10-28
LOCATION:Virtual
END:VEVENT
BEGIN:VEVENT
DTSTART;TZID=UTC:20261031T120000
DTEND;TZID=UTC:20261031T140000
DTSTAMP:20260420T012942
CREATED:20250108T042140Z
LAST-MODIFIED:20250108T042140Z
UID:10003191-1793448000-1793455200@stjamesmb.church
SUMMARY:Missions Community Outreach
DESCRIPTION:
URL:https://stjamesmb.church/event/missions-community-outreach/2026-10-31
LOCATION:Ronald L. Hutchins Ministry House\, 2212 West Madison Street\, Louisville\, KY\, 40211\, United States
END:VEVENT
BEGIN:VEVENT
DTSTART;TZID=UTC:20261101T100000
DTEND;TZID=UTC:20261101T120000
DTSTAMP:20260420T012942
CREATED:20220322T205018Z
LAST-MODIFIED:20220323T223541Z
UID:10005304-1793527200-1793534400@stjamesmb.church
SUMMARY:Sunday Worship Service
DESCRIPTION:
URL:https://stjamesmb.church/event/sunday-worship-service/2026-11-01
LOCATION:St. James Missionary Baptist Church\, 2200 West Madison Street\, Louisville\, KY\, 40211\, United States
END:VEVENT
BEGIN:VEVENT
DTSTART;TZID=UTC:20261102T190000
DTEND;TZID=UTC:20261102T200000
DTSTAMP:20260420T012942
CREATED:20250112T170411Z
LAST-MODIFIED:20250312T121158Z
UID:10005922-1793646000-1793649600@stjamesmb.church
SUMMARY:Christian Education Team Meeting
DESCRIPTION:
URL:https://stjamesmb.church/event/christian-education-team-meeting-2025-03-17/2026-11-02
LOCATION:https://us02web.zoom.us/j/86234076370?pwd=OGExVGh3Nm1pbUR3dkRBV2lqdUxMZz09
END:VEVENT
BEGIN:VEVENT
DTSTART;TZID=UTC:20261103T190000
DTEND;TZID=UTC:20261103T203000
DTSTAMP:20260420T012942
CREATED:20220323T222238Z
LAST-MODIFIED:20250326T002313Z
UID:10003415-1793732400-1793737800@stjamesmb.church
SUMMARY:Church School
DESCRIPTION:
URL:https://stjamesmb.church/event/church-school-2025-03-18-2025-04-01/2026-11-03
LOCATION:Virtual
END:VEVENT
BEGIN:VEVENT
DTSTART;TZID=UTC:20261104T190000
DTEND;TZID=UTC:20261104T203000
DTSTAMP:20260420T012942
CREATED:20220323T221855Z
LAST-MODIFIED:20260106T003402Z
UID:10004846-1793818800-1793824200@stjamesmb.church
SUMMARY:Prayer\, Praise & Bible Study
DESCRIPTION:
URL:https://stjamesmb.church/event/bible-study/2026-11-04
LOCATION:Virtual
END:VEVENT
BEGIN:VEVENT
DTSTART;TZID=UTC:20261108T100000
DTEND;TZID=UTC:20261108T120000
DTSTAMP:20260420T012942
CREATED:20220322T205018Z
LAST-MODIFIED:20220323T223541Z
UID:10005305-1794132000-1794139200@stjamesmb.church
SUMMARY:Sunday Worship Service
DESCRIPTION:
URL:https://stjamesmb.church/event/sunday-worship-service/2026-11-08
LOCATION:St. James Missionary Baptist Church\, 2200 West Madison Street\, Louisville\, KY\, 40211\, United States
END:VEVENT
BEGIN:VEVENT
DTSTART;TZID=UTC:20261109T190000
DTEND;TZID=UTC:20261109T200000
DTSTAMP:20260420T012942
CREATED:20250112T170411Z
LAST-MODIFIED:20250312T121158Z
UID:10005923-1794250800-1794254400@stjamesmb.church
SUMMARY:Christian Education Team Meeting
DESCRIPTION:
URL:https://stjamesmb.church/event/christian-education-team-meeting-2025-03-17/2026-11-09
LOCATION:https://us02web.zoom.us/j/86234076370?pwd=OGExVGh3Nm1pbUR3dkRBV2lqdUxMZz09
END:VEVENT
BEGIN:VEVENT
DTSTART;TZID=UTC:20261110T190000
DTEND;TZID=UTC:20261110T203000
DTSTAMP:20260420T012942
CREATED:20220323T222238Z
LAST-MODIFIED:20250326T002313Z
UID:10003416-1794337200-1794342600@stjamesmb.church
SUMMARY:Church School
DESCRIPTION:
URL:https://stjamesmb.church/event/church-school-2025-03-18-2025-04-01/2026-11-10
LOCATION:Virtual
END:VEVENT
BEGIN:VEVENT
DTSTART;TZID=UTC:20261111T190000
DTEND;TZID=UTC:20261111T203000
DTSTAMP:20260420T012942
CREATED:20220323T221855Z
LAST-MODIFIED:20260106T003402Z
UID:10004847-1794423600-1794429000@stjamesmb.church
SUMMARY:Prayer\, Praise & Bible Study
DESCRIPTION:
URL:https://stjamesmb.church/event/bible-study/2026-11-11
LOCATION:Virtual
END:VEVENT
BEGIN:VEVENT
DTSTART;TZID=UTC:20261114T120000
DTEND;TZID=UTC:20261114T140000
DTSTAMP:20260420T012942
CREATED:20250108T042140Z
LAST-MODIFIED:20250108T042140Z
UID:10003192-1794657600-1794664800@stjamesmb.church
SUMMARY:Missions Community Outreach
DESCRIPTION:
URL:https://stjamesmb.church/event/missions-community-outreach/2026-11-14
LOCATION:Ronald L. Hutchins Ministry House\, 2212 West Madison Street\, Louisville\, KY\, 40211\, United States
END:VEVENT
BEGIN:VEVENT
DTSTART;TZID=UTC:20261115T100000
DTEND;TZID=UTC:20261115T120000
DTSTAMP:20260420T012942
CREATED:20220322T205018Z
LAST-MODIFIED:20220323T223541Z
UID:10005306-1794736800-1794744000@stjamesmb.church
SUMMARY:Sunday Worship Service
DESCRIPTION:
URL:https://stjamesmb.church/event/sunday-worship-service/2026-11-15
LOCATION:St. James Missionary Baptist Church\, 2200 West Madison Street\, Louisville\, KY\, 40211\, United States
END:VEVENT
BEGIN:VEVENT
DTSTART;TZID=UTC:20261115T120000
DTEND;TZID=UTC:20300115T150000
DTSTAMP:20260420T012942
CREATED:20260217T022922Z
LAST-MODIFIED:20260217T022922Z
UID:10004295-1794744000-1894719600@stjamesmb.church
SUMMARY:Eden Marriage Ministry
DESCRIPTION:
URL:https://stjamesmb.church/event/eden-marriage-ministry-2/2026-11-15
LOCATION:St. James Missionary Baptist Church\, 2200 West Madison Street\, Louisville\, KY\, 40211\, United States
END:VEVENT
BEGIN:VEVENT
DTSTART;TZID=UTC:20261116T190000
DTEND;TZID=UTC:20261116T200000
DTSTAMP:20260420T012942
CREATED:20250112T170411Z
LAST-MODIFIED:20250312T121158Z
UID:10005924-1794855600-1794859200@stjamesmb.church
SUMMARY:Christian Education Team Meeting
DESCRIPTION:
URL:https://stjamesmb.church/event/christian-education-team-meeting-2025-03-17/2026-11-16
LOCATION:https://us02web.zoom.us/j/86234076370?pwd=OGExVGh3Nm1pbUR3dkRBV2lqdUxMZz09
END:VEVENT
BEGIN:VEVENT
DTSTART;TZID=UTC:20261117T190000
DTEND;TZID=UTC:20261117T203000
DTSTAMP:20260420T012942
CREATED:20220323T222238Z
LAST-MODIFIED:20250326T002313Z
UID:10003417-1794942000-1794947400@stjamesmb.church
SUMMARY:Church School
DESCRIPTION:
URL:https://stjamesmb.church/event/church-school-2025-03-18-2025-04-01/2026-11-17
LOCATION:Virtual
END:VEVENT
END:VCALENDAR